BEGIN:VCALENDAR
VERSION:2.0
PRODID:-//szkolastomatologii.pl//NONSGML kigkonsult.se iCalcreator 2.30.10/
 /
CALSCALE:GREGORIAN
METHOD:PUBLISH
UID:3116f2d2-94eb-49db-aa4a-7c1f3042ad68
X-WR-CALNAME:iCagenda
X-WR-CALDESC:Event Management Extension for Joomla!
X-WR-RELCALID:3E26604A-50F4-4449-8B3E-E4F4932D05B5
X-WR-TIMEZONE:UTC
BEGIN:VTIMEZONE
TZID:UTC
END:VTIMEZONE
BEGIN:VEVENT
UID:f71aa0c5-444d-40aa-80a5-f0c827dd408f
DTSTAMP:20260420T112211Z
CATEGORIES:OKLUZJA
CLASS:PUBLIC
DESCRIPTION;ALTREP="CID:<FFFF__=0ABBE548DFE235B58f9e8a93d@coffeebean.com>":
 Prowadzący: Zuzanna Szendera\nCena: 5000 zł\nTermin: 16.10.2025 - 17.10.20
 25\nMiejsce: ul. Kołodzieja 8\, 40-749 Katowice \n \nKurs przeznaczony jes
 t dla lekarzy stomatologów / lekarzy dentystów\, zarówno początkujących w 
 dziedzinie diagnostyki i leczenia TMD jak i tych\, którzy chcieliby dodatk
 owo udoskonalić swoje umiejętności praktyczne w tym zakresie. Szkolenie sk
 ierowane jest do lekarzy stomatologów / lekarzy dentystów wszystkich specj
 alizacji.\n \n \n\nPlan szkolenia:\nDzień 1\n\n\n\n\nModuł\n\n\nLiczba god
 zin\n\n\nForma\n\n\nTematy\n\n\n\n\n1. Wprowadzenie do TMD i klasyfikacje
 \n\n\n2h\n\n\nwykład\n\n\nWstęp\, przykładowy pacjent\, klasyfikacje TMD\,
  ICOP-1\, ICHD-3\, epidemiologia\n\n\n\n\n2. Koncepcja bólu\n\n\n1\,5h\n\n
 \nwykład\n\n\nBól ostry i przewlekły\, patomechanizmy\, centralne uwrażliw
 ienie\, wpływ psychiki\n\n\n\n\n3. Etiologia TMD\n\n\n1\,5h\n\n\nwykład\n
 \n\nAnatomia i biomechanika stawuskroniowo żuchwowego\, etiologia TMD\, mo
 del biopsychospołeczny\, rola języka\n\n\n\n\n4. Bruksizm\n\n\n1\,5h\n\n\n
 wykład\n\n\nDefinicje\, postaci bruksizmu\, diagnostyka\n\n\n\n\n\nDzień 2
 \n\n\n\n\nModuł\n\n\nLiczba godzin\n\n\nForma\n\n\nTematy\n\n\n\n\n5. Diag
 nostyka i różnicowanie TMD\n\n\n2h\n\n\nwykład\n\n\nKwestionariusze wywiad
 u\, badania dodatkowe\, ocena stabilności ortopedycznej\, relacja centraln
 a\n\n\n\n\n6. Warsztat praktyczny: badanie kliniczne TMD\n\n\n1\,5h\n\n\nw
 arsztat\n\n\nBadanie wg karty\, testy kliniczne\, interpretacja objawów\n
 \n\n\n\n7. Leczenie TMD — strategie\, protokoły i współpraca\n\n\n1\,5h\n
 \n\nwykład + analiza przypadków\n\n\nys historyczny\, przypadki nagłe i pr
 zewlekłe\, klasyfikacja pacjentów: green/yellow/red flags\, rola dentysty\
 , leczenie zaburzeń mięśniowych i stawowych\, współpraca z zespołem specja
 listów\n\n\n\n\n8. Leczenie TMD — metody\n\n\n1\,5h\n\n\nwykład + analiza 
 przypadków\n\n\nZalecenia i edukacja pacjenta\, farmakoterapia i suplement
 acja\, szynoterapia\, techniki iniekcyjne\, metody wspierające\, czego uni
 kać\, podtrzymywanie remisji\, przygotowanie pacjenta doleczenia stomatolo
 gicznego\n\n\n\n\n\nPROWADZĄCY\nZuzanna Szendera\nLekarz Dentysta – absolw
 entka Śląskiego Uniwersytetu Medycznego\, absolwentka studiów podyplomowyc
 h na Uniwersytecie w Sienie (Włochy) z zakresu Zaburzeń Skroniowo Żuchwowy
 ch i Bólu Twarzowego\, wykładowczyni i pracownik badawczo – dydaktycznym Ś
 ląskiego Uniwersytetu Medycznego w Katedrze Dysfunkcji Narządu Żucia.Aktyw
 nie działa w Polskim Towarzystwie Dysfunkcji Narządu Żucia\, jest członkin
 ią Polskiego Towarzystwie Medycyny Stylu Życia w trakcie certyfikacji z te
 j dziedziny (British Society of LifestyleMedicine). Należy również do Międ
 zynarodowego oraz Europejskiego Stowarzyszenia Badania Bólu.Publikuje opra
 cowania naukowe w renomowanych czasopismach zagranicznych oraz polskich z 
 zakresu dysfunkcji narządu żucia\, przede wszystkim w temacie iniekcji dos
 tawowych oraz domięśniowych w przebiegu terapii tych dysfunkcji.
DTSTART:20251016T090000Z
DTEND:20251017T190000Z
GEO:00;0
LOCATION:ul. Kołodzieja 8\, 40-749 Katowice
ORGANIZER;CN=:prenumerata@spsmedia.pl
SEQUENCE:1
SUMMARY:Diagnostyka i leczenie TMD dla lekarzy dentystów – poziom podstawow
 y
TRANSP:OPAQUE
URL:https://www.szkolastomatologii.pl/historia-szkolen/99-diagnostyka-i-lec
 zenie-tmd-dla-lekarzy-dentystow-poziom-podstawowy
END:VEVENT
END:VCALENDAR
