BEGIN:VCALENDAR
VERSION:2.0
PRODID:-//szkolastomatologii.pl//NONSGML kigkonsult.se iCalcreator 2.30.10/
 /
CALSCALE:GREGORIAN
METHOD:PUBLISH
UID:c4f126d7-873b-4b6b-9e93-51d02778a9ed
X-WR-CALNAME:iCagenda
X-WR-CALDESC:Event Management Extension for Joomla!
X-WR-RELCALID:3E26604A-50F4-4449-8B3E-E4F4932D05B5
X-WR-TIMEZONE:UTC
BEGIN:VTIMEZONE
TZID:UTC
END:VTIMEZONE
BEGIN:VEVENT
UID:d2d36ee7-c8d0-4c4e-a7b4-4f989f62e0a8
DTSTAMP:20260420T111401Z
CATEGORIES:IMPLANTOPROTETYKA
CLASS:PUBLIC
DESCRIPTION;ALTREP="CID:<FFFF__=0ABBE548DFE235B58f9e8a93d@coffeebean.com>":
 Prowadzący: MARCEL FIRLEJ\nCena: 3000 zł\nTermin: 03.10.2025\nMiejsce: ul.
  Kołodzieja 8\, 40-749 Katowice \n \nSzkolenie kierowane dla osób początku
 jących w implantologii ale też dla osób średniozaawansowanych i zaawansowa
 nych\, którzy chcą wprowadzić nowe metody do swoich praktyk\nWprowadzenie 
 do osseodensyfikacjiW trakcie wykładu uczestnicy zdobędą kompleksową wiedz
 ę na temat naukowych podstaw osseodensyfikacji oraz jej klinicznej wszechs
 tronności. Marcel Firlej przedstawi praktyczne zastosowania technologii wi
 erteł Densah® w procedurach\, takich jak podniesienie zatoki szczękowej or
 az natychmiastowa implantacja. Zaprezentowane zostaną najnowsze protokoły 
 chirurgiczne\, w tym Densify After Cut (DAC)\, a także ich rola w natychmi
 astowym obciążeniu implantów. Omówione zostaną również wyniki długotermino
 wych badań klinicznych\, metody oceny ryzyka oraz strategie unikania powik
 łań.\n \n\n\n\n\nCzęść pierwsza (1\,5h)\n\n\n\n\n\n\n1. Omówienie zasad na
 ukowych procesu osteodensyfikacji.\n\nTechnika tworzenia skondensowanej wa
 rstwy autoprzeszczepu.\nWytyczne dotyczących zagęszczania kości dla każdeg
 o systemu implantologicznego.\nWykorzystaniem wierteł Densah® w celu zwięk
 szenia pierwotnej stabilizacji implantu.\n \n\n2. Optymalizacja jakości tk
 anki kostnej.\n3. Przegląd biomechanicznych\, klinicznych i histologicznyc
 h dowodów potwierdzających skuteczność osteodensyfikacji (BIC – powierzchn
 ia kontaktu kość-implant\, objętość tkanki kostnej).\n\n\n\n\n\n\nPrzerwa 
 (30 min)\n\n\n\n\n\n\n\n\nCzęść druga (2h)\n\n\n\n\n\n\n4. Omówienie różny
 ch protokołów podnoszenia zatok z wykorzystaniem osseodensyfikacji.5. Dobó
 r protokołu do sytuacji klinicznej.6. Protokół zagęszczania kości (Densify
  After Cut\, DAC).7. Osseodensyfikacja przy zabiegach.\n\nZamkniętego podn
 iesienia zatoki szczękowej\nZwiększania objętości kości wokół implantu\nIm
 plantacji natychmiastowej\n\n8. Protokół zabiegowy Universal Guided Surger
 y.9. Ocena ryzyka i unikanie powikłań.10. Sesja pytań i odpowiedzi.\n\n\n
 \n\n\n\nPrzerwa obiadowa (1 h)\n\n\n\n\n\n\n\n\nĆwiczenia praktyczne (1h)
 \n\n\n\n\n\n\n\nĆwiczenie praktycznie z podnoszenia zatok z wykorzystaniem
  modelu do osseodensyfikacji\nWiertła Densaha\nFizjodyspenser\nBiomateriał
  allograft\n\n\n\n\n\n\n\nSesja konsultacji przypadków uczestników.\n\n\n
 \n\n\n\nUczestnicy\, którzy chcą skonsultować dany przypadek aby dobrać pr
 otokół są proszeni o przyniesienie tomografii komputerowej (preferowany wł
 asny laptop – lub w przypadku plików DICOM istnieje możliwość odtworzenia 
 na laptopie wykładowcy). Dopuszczalne są zrzuty ekranu z tomografii z pomi
 arami linijką (ograniczone możliwosci diagnostyczne).\n\n\n\nMARCEL FIRLEJ
 dr n. med. lek.dent.\nStudiował na Uniwersytecie Medycznym w Poznaniu\, kt
 óry ukończył w 2013 roku. Obecnie pracuje w prywatnej klinice oraz w Klini
 ce Wad Rozwojowych Twarzy na Uniwersytecie\, gdzie wykonuje doktorat. Jest
  aktywnym wydawcą i badaczem klinicznym. Specjalizuje się w implantologii\
 , stomatologii cyfrowej\, zaburzeniach stawu skroniowo-żuchwowego\, komple
 ksowych rehabilitacjach protetycznych oraz stomatologii estetycznej.\n\n\n
DTSTART:20251003T135900Z
DTEND:20251003T190000Z
GEO:+50.198986;+19.053658
LOCATION:ul. Kołodzieja 8\, 40-749 Katowice
ORGANIZER;CN=:prenumerata@spsmedia.pl
SEQUENCE:1
SUMMARY:OSSEODENSYFIKACJA
TRANSP:OPAQUE
URL:https://www.szkolastomatologii.pl/historia-szkolen/98-osseodensyfikacja
END:VEVENT
END:VCALENDAR
