BEGIN:VCALENDAR
VERSION:2.0
PRODID:-//szkolastomatologii.pl//NONSGML kigkonsult.se iCalcreator 2.30.10/
 /
CALSCALE:GREGORIAN
METHOD:PUBLISH
UID:e5ffd799-5f05-4344-ab4a-1db9ab491372
X-WR-CALNAME:iCagenda
X-WR-CALDESC:Event Management Extension for Joomla!
X-WR-RELCALID:3E26604A-50F4-4449-8B3E-E4F4932D05B5
X-WR-TIMEZONE:UTC
BEGIN:VTIMEZONE
TZID:UTC
END:VTIMEZONE
BEGIN:VEVENT
UID:1f23f271-1e32-4510-8edc-650cfddbb112
DTSTAMP:20260420T100828Z
CATEGORIES:IMPLANTOPROTETYKA
CLASS:PUBLIC
DESCRIPTION;ALTREP="CID:<FFFF__=0ABBE548DFE235B58f9e8a93d@coffeebean.com>":
 Prowadzący: Jakub Munk MD\nCena: 2960 zł\nTermin: 19.03.2026 – 20.03.2026
 \nMiejsce: ul. Kołodzieja 8\, 40-749 Katowice \n \nKurs przeznaczony jest 
 dla lekarzy stomatologów / lekarzy dentystów średniozaawansowanych i zaawa
 nsowanych w dziedzinie implantologii\, którzy chcieliby dodatkowo udoskona
 lić swoje umiejętności praktyczne w zakresie podnoszenia dna zatoki szczęk
 owej. Szkolenie skierowane jest do lekarzy stomatologów / lekarzy dentystó
 w wszystkich specjalizacji.\n \n\n\nOpis kursu\nDno Zatoki Szczękowej – Po
 dniesienie Zaawansowane techniki podnoszenia dna zatoki szczękowej dla doś
 wiadczonych implantologów. Podnoszenie dna zatoki szczękowej to kluczowy\,
  choć wymagający zabieg w nowoczesnej implantologii. Nasze intensywne\, dw
 udniowe szkolenie zostało stworzone z myślą o lekarzach stomatologach z śr
 edniozaawansowanym i zaawansowanym poziomem doświadczenia\, którzy pragną 
 udoskonalić swoje umiejętności i poszerzyć wiedzę w tym specjalistycznym o
 bszarze. Jeśli masz już na koncie udane zabiegi implantacji i chcesz pewni
 e oraz skutecznie przeprowadzać zaawansowane procedury podnoszenia dna zat
 oki\, ten kurs jest dlaCiebie! Co Cię czeka? Podczas szkolenia zgłębisz ta
 jniki technik podnoszenia dna zatoki szczękowej poprzez:\n\nSolidną dawkę 
 teorii: Szczegółowe wykłady dotyczące anatomii i fizjologii zatoki szczęko
 wej\, wskazań i przeciwwskazań do zabiegu\,identyfikacji potencjalnych pro
 blemów oraz strategii ich przeciwdziałania.\nPraktyczną diagnostykę przedz
 abiegową: Nauczysz się wykorzystywać diagnostykę obrazową\, w tym analizę 
 CBCT\, do precyzyjnegoplanowania leczenia i oceny ryzyka.\nDogłębne omówie
 nie technik zamkniętych i otwartych: Poznasz szczegółowe procedury obu met
 od oraz kryteria wyboru optymalnejtechniki w zależności od indywidualnego 
 przypadku klinicznego.\nStrategie zarządzania powikłaniami: Zdobędziesz wi
 edzę na temat najczęstszych powikłań\, ich przyczyn\, metod zapobiegania o
 razskutecznych strategii radzenia sobie z nimi\, włączając techniki rekons
 trukcji.\nKompleksowe postępowanie pozabiegowe: Dowiesz się\, jak prawidło
 wo instruować pacjentów\, monitorować gojenie i oceniać sukceszabiegu w pe
 rspektywie długoterminowej.\nIntensywne warsztaty praktyczne: Będziesz ćwi
 czyć kluczowe techniki podnoszenia dna zatoki szczękowej z dostępu boczneg
 o itechniką zamkniętą\, leczenia powikłań (szycie i pokrywanie uszkodzeń b
 łony Schneidera\, zakażenia biomateriału)\, projektowania płatóworaz zarzą
 dzania tkankami miękkimi na preparatach zwierzęcych.\nBezpośrednią obserwa
 cję zabiegu na żywo: Unikalna możliwość obserwacji zabiegu podnoszenia dna
  zatoki szczękowejprzeprowadzanego przez lek. dentystę Jakuba Munka\, co p
 ozwoli Ci zobaczyć zastosowanie omawianych technik w praktyce klinicznej.
 \n\nKorzyści z udziału w kursie:\n\nZnaczące podniesienie Twoich kompetenc
 ji w zakresie zaawansowanych zabiegów podnoszenia dna zatoki szczękowej.\n
 Możliwość uczenia się od doświadczonego specjalisty i zdobycia praktycznyc
 h umiejętności pod jego okiem.\nPewność w radzeniu sobie z potencjalnymi p
 owikłaniami dzięki poznaniu skutecznych strategii ich zapobiegania i lecze
 nia.\nLepsze zrozumienie i opanowanie technik zamkniętych i otwartych podn
 oszenia dna zatoki.\nCenne punkty edukacyjne dla Twojego rozwoju zawodoweg
 o.\nMożliwość nawiązania kontaktów z innymi specjalistami z branży.\nDostę
 p do kompleksowych materiałów poszkoleniowych\, które będą wspierać Cię w 
 codziennej praktyce.\nCertyfikacja i punkty edukacyjne: Nasze szkolenie je
 st wpisane do rejestru Okręgowej Izby Lekarskiej\, co gwarantuje możliwość
  uzyskania cennych punktów edukacyjnych niezbędnych do rozwoju zawodowego.
 \n\n\nMODUŁ 2 – Live Surgery (tylko dla 5 osób) Dla najbardziej zaawansowa
 nych i ambitnych uczestników oferujemy unikalną możliwośćwzięcia udziału w
  dwudniowym module Live Surgery\, który odbędzie się po zakończeniu modułu
  teoretyczno-warsztatowego. Ta ekskluzywna opcja\, dostępna dla maksymalni
 e 5 osób\, zapewnia bezprecedensowe doświadczenie praktyczne:\n\nSzczegóło
 we omówienie przypadków klinicznych przed zabiegami.\nWspólny wybór optyma
 lnej techniki podnoszenia dna zatoki dla każdego przypadku.\nMożliwość akt
 ywnego asystowania lub samodzielnego wykonania zabiegu pod ścisłym nadzore
 m lek. Dentystę Jakuba Munka (wzależności od doświadczenia uczestnika i do
 stępności zabiegów).\nPrzeprowadzenie minimum jednego zabiegu otwartego i 
 jednego zamkniętego podnoszenia dna zatoki (w zależności od wskazań klinic
 znych).\nNauka kontroli pozabiegowej i oceny efektów leczenia. Dla kogo je
 st ten moduł? Moduł Live Surgery jest przeznaczony dla lekarzy stomatologó
 w z dużym doświadczeniem w implantologii\, którzy chcą podnieść swoje umie
 jętności praktyczne na najwyższy poziom i zdobyć bezcenne doświadczenie w 
 przeprowadzaniu zaawansowanych zabiegów podnoszenia dna zatoki szczękowej 
 pod okiem eksperta.\n\n!! Warunkiem odbycia części praktycznej jest uczest
 nictwo w części teoretycznej kursu\n\nPROWADZĄCY:\n\n\nJakub Munk MDMaster
  in Oral Implantology\nAbsolwent Śląskiego Uniwersytetu Medycznego w Katow
 icach. W latach 2008-2024 wykładał w Katedrze i Zakładzie Leczenia Dysfunk
 cji Narządu Żucia w Zabrzu ŚUM. W 2004 roku odbył miesięczny staż na Kated
 rze Chirurgii Twarzowej w Monachium pod okiem prof. Horch’a gdzie zaczął s
 woją przygodę z Chirurgią Stomatologiczną. Publikuje prace w czasopismach 
 stomatologicznych polskich i zagranicznych oraz bierze czynny udział w kon
 ferencjach krajowych i międzynarodowych. Wykładowca w ramach kursów z zakr
 esu okluzji\, implantoprotetyki. Wieloletni członek PTDNŻ\, członek PSI or
 az członek Athenea Institute. Głównymi obszarami jego zainteresowań są: za
 awansowana diagnostyka pacjentów\, rehabilitacja narządu żucia\, leczenie 
 dysfunkcji i parafunkcji oraz zaawansowane odbudowy implantoprotetyczne i 
 protetyczne. Prywatnie podróżnik i ratownik GOPR. Windsurfer\, nurek i żeg
 larz.\n\n\n
DTSTART:20260319T134200Z
DTEND:20260320T190000Z
GEO:00;0
LOCATION:ul. Kołodzieja 8\, 40-749 Katowice
ORGANIZER;CN=:prenumerata@spsmedia.pl
SEQUENCE:1
SUMMARY:Zaawansowane techniki podnoszenia dna zatoki szczękowej dla doświad
 czonych implantologów
TRANSP:OPAQUE
URL:https://www.szkolastomatologii.pl/historia-szkolen/95-zaawansowane-tech
 niki-podnoszenia-dna-zatoki-szczekowej-dla-doswiadczonych-implantologow
END:VEVENT
END:VCALENDAR
