BEGIN:VCALENDAR
VERSION:2.0
PRODID:-//szkolastomatologii.pl//NONSGML kigkonsult.se iCalcreator 2.30.10/
 /
CALSCALE:GREGORIAN
METHOD:PUBLISH
UID:bc366072-3c4c-4c75-a2c0-82748ffd556c
X-WR-CALNAME:iCagenda
X-WR-CALDESC:Event Management Extension for Joomla!
X-WR-RELCALID:3E26604A-50F4-4449-8B3E-E4F4932D05B5
X-WR-TIMEZONE:UTC
BEGIN:VTIMEZONE
TZID:UTC
END:VTIMEZONE
BEGIN:VEVENT
UID:5b873737-aef0-4c50-818e-bad7a56d0ec2
DTSTAMP:20260420T111624Z
CATEGORIES:IMPLANTOPROTETYKA
CLASS:PUBLIC
DESCRIPTION;ALTREP="CID:<FFFF__=0ABBE548DFE235B58f9e8a93d@coffeebean.com>":
 Prowadzący: Paweł Kłosiński MD\nCena: 2960 zł\nTermin: 12-09-2025\nMiejsce
 : ul. Kołodzieja 8\, 40-749 Katowice \n\n \nOpis szkolenia:\nTen intensywn
 y\, jednodniowy kurs jest przeznaczony dla lekarzy stomatologów\, którzy p
 ragną poszerzyć swoją wiedzę i umiejętności w zakresie skutecznego i przew
 idywalnego wykonywania odbudów implantoprotetycznych zdejmowanych. Skupimy
  się na praktycznych aspektach pracy z różnymi typami uzupełnień\, takimi 
 jak locatory\, zatrzaski\, belki i teleskopy.\nCo zyskasz na kursie?\n\nKl
 asyfikacja i Kwalifikacja Pacjentów: Nauczysz się rozróżniać i klasyfikowa
 ć uzupełnienia typu overdenture oraz kwalifikować pacjentów do najbardziej
  odpowiedniego rodzaju odbudowy.\nProtokoły Wykonawstwa Krok po Kroku: Poz
 nasz szczegółowe protokoły wykonawstwa protez nakładowych\, przedstawione 
 w przystępny sposób 'step by step'.\nPodejście Analogowe i Cyfrowe: Omówim
 y zarówno tradycyjne (analogowe)\, jak i nowoczesne (cyfrowe) metody wykon
 awstwa uzupełnień zdejmowanych.\nDobór Materiałów: Dowiesz się\, jakie mat
 eriały najlepiej sprawdzą się w odbudowach overdenture\, poznając sprawdzo
 ne schematy wyboru.\nZarządzanie Trudnymi Sytuacjami: Przygotujemy Cię na 
 zarządzanie wyzwaniami klinicznymi\, które mogą pojawić się podczas pracy 
 z odbudowami zdejmowanymi.\nUzupełnienia Tymczasowe: Zdobędziesz wiedzę na
  temat kluczowej roli uzupełnień tymczasowych w implantoprotetyce stomatol
 ogicznej.\n\nKurs skierowany jest do lekarzy stomatologów\, którzy chcą ud
 oskonalić swoje kompetencje w dziedzinie implantoprotetyki\, ze szczególny
 m uwzględnieniem protez nakładowych.\n\nProgram szczegółowy\n\nWprowadzeni
 e do uzupełnień overdenture:\n\nDefinicja i klasyfikacja uzupełnień zdejmo
 wanych wspartych na implantach.\nWskazania i przeciwwskazania do różnych t
 ypów odbudów (locatory\, zatrzaski\, belki\, teleskopy).\nKryteria kwalifi
 kacji pacjenta do odpowiedniego typu uzupełnienia.\n\n\nProtokoły kliniczn
 e i laboratoryjne:\n\nSzczegółowe procedury wykonawstwa protez nakładowych
  – od planowania do oddania pracy.\nPraktyczne wskazówki dotyczące postępo
 wania analogowego i cyfrowego w procesie tworzenia uzupełnień.\n\n\nMateri
 ały w odbudowach overdenture:\n\nPrzegląd dostępnych materiałów – ich właś
 ciwości\, zalety i wady.\nSchematy wyboru materiałów w zależności od przyp
 adku klinicznego.\n\n\nZarządzanie powikłaniami i trudnymi sytuacjami:\n\n
 Identyfikacja i rozwiązywanie typowych problemów klinicznych.\nStrategie p
 ostępowania w przypadku niespodziewanych wyzwań.\n\n\nUzupełnienia tymczas
 owe w implantoprotetyce:\n\nZnaczenie i funkcje uzupełnień tymczasowych.\n
 Metody wykonawstwa i zasady pielęgnacji.\n\n\n\n\nPROWADZĄCY:\n\n\nPaweł K
 łosiński MDMaster in Oral Implantology\nAbsolwent Śląskiego Uniwersytetu M
 edycznego w Katowicach. Ukończył międzynarodowe studia podyplomowe na Uniw
 ersytecie San Jorge w Hiszpanii\, uzyskując tytuł Master in Implantology. 
 Aktywny członek towarzystw naukowych: PSI\, ICOI\, DGOI. Autor publikacji 
 w prasie specjalistycznej oraz wystąpień na konferencjach naukowych. Prele
 gent oraz kierownik szkoleniowy kursów z zakresu implantoprotetyki stomato
 logicznej. Wykładowca w ramach Curriculum Implantologii Polskiego Stowarzy
 szenia Implantologicznego.\n\n
DTSTART:20250912T090000Z
DTEND:20250912T190000Z
GEO:00;0
LOCATION:ul. Kołodzieja 8\, 40-749 Katowice
ORGANIZER;CN=:prenumerata@spsmedia.pl
SEQUENCE:1
SUMMARY:Odbudowy zdejmowane w implantoprotetyce
TRANSP:OPAQUE
URL:https://www.szkolastomatologii.pl/historia-szkolen/93-odbudowy-zdejmowa
 ne-w-implantoprotetyce
END:VEVENT
END:VCALENDAR
