BEGIN:VCALENDAR
VERSION:2.0
PRODID:-//szkolastomatologii.pl//NONSGML kigkonsult.se iCalcreator 2.30.10/
 /
CALSCALE:GREGORIAN
METHOD:PUBLISH
UID:7bbf24db-1d1e-485b-9a34-7fdbb43fb834
X-WR-CALNAME:iCagenda
X-WR-CALDESC:Event Management Extension for Joomla!
X-WR-RELCALID:3E26604A-50F4-4449-8B3E-E4F4932D05B5
X-WR-TIMEZONE:UTC
BEGIN:VTIMEZONE
TZID:UTC
END:VTIMEZONE
BEGIN:VEVENT
UID:09b52173-c085-41ab-8f43-fc49975b7c11
DTSTAMP:20260420T111654Z
CATEGORIES:CHOROBY PRZYZĘBIA
CLASS:PUBLIC
DESCRIPTION;ALTREP="CID:<FFFF__=0ABBE548DFE235B58f9e8a93d@coffeebean.com>":
 Prowadzący: dr n. med. Marta Cieślik - Wegemund\nCena: 2960 zł\nTermin: 17
 .10.2025\nMiejsce: ul. Kołodzieja 8\, 40-749 Katowice \n \nKurs przeznaczo
 ny dla lekarzy dentystów zarówno początkujących w dziedzinie periodontolog
 ii jak i tych\, którzy chcieliby dodatkowo udoskonalić swoje umiejętności 
 praktyczne w tym zakresie.Szkolenie skierowane jest do lekarzy dentystów w
 szystkich specjalizacji.\n \nWykład\n\nDiagnostyka recesji dziąsłowych\nKl
 asyfikacja recesji wg Cairo\nKlasyfikacja recesji przy implantach\nRodzaje
  przeszczepów tkanki miękkiej i techniki ich pobrania\nInstrumentarium i m
 ateriały szewne\nMetody zaopatrzenia miejsca dawczego\nLeczenie recesji po
 jedyńczych i mnogich\, techniki zabiegowe\nLeczenie recesji przy implantac
 h\n\nWarsztaty\n\nLeczenie recesji pojedynczej techniką CAF z wykorzystani
 em CTG\nLeczenie recesji mnogich techniką tunelową z wykorzystaniem CTG\nT
 echniki pobrania przeszczepów łącznotkankowych\n\nZajęcia praktyczne wykon
 ywane są samodzielnie lub w parach. Szkolenie prowadzone jest przez trener
 a prowadzącego i asystentkęwspomagającą.\nWszystkie materiały i sprzęt gwa
 rantuje organizator kursu. Zajęcia praktyczne wykonywane są na modelach i 
 pacjentach zapewnianych przez College of Dental Medicine.\nPROWADZĄCA:\n\n
 \ndr n. med. Marta Cieślik - WegemundSpecjalista periodontolog\, periodont
 ologia\, chirurgia\nAbsolwentka Śląskiego Uniwersytetu Medycznego w Katowi
 cach. Od 2006 roku jest pracownikiem ŚUM na stanowisku asystenta w Zakładz
 ie Chorób Przyzębia i Błony Śluzowej Jamy Ustnej Katedry Stomatologii Zach
 owawczej z Endodoncją w Zabrzu. W 2010 roku uzyskała tytuł specjalisty per
 iodontologa. W 2019 roku obroniła pracę doktorską pt.: 'Ocena kliniczna po
 krycia mnogich recesji dziąsłowych z zastosowaniem techniki tunelowej.' Pu
 blikuje prace w czasopismach polskich i zagranicznych oraz bierze czynny u
 dział w konferencjach krajowych i międzynarodowych. Głównymi obszarami jej
  zainteresowań są: leczenie chirurgiczne nieprawidłowości śluzówkowo-dziąs
 łowych\, chirurgiczne i niechirurgiczne leczenie chorób przyzębia\, leczen
 ie chorób błony śluzowej jamy ustnej\, leczenie interdyscyplinarne.\n\n
DTSTART:20251017T132600Z
DTEND:20251017T190000Z
GEO:00;0
LOCATION:ul. Kołodzieja 8\, 40-749 Katowice 
ORGANIZER;CN=:prenumerata@spsmedia.pl
SEQUENCE:1
SUMMARY:Leczenie recesji dziąsłowych w obrębie zębów własnych pacjentów i i
 mplantów
TRANSP:OPAQUE
URL:https://www.szkolastomatologii.pl/historia-szkolen/92-leczenie-recesji-
 dziaslowych-w-obrebie-zebow-wlasnych-pacjentow-i-implantow
END:VEVENT
END:VCALENDAR
