BEGIN:VCALENDAR
VERSION:2.0
PRODID:-//szkolastomatologii.pl//NONSGML kigkonsult.se iCalcreator 2.30.10/
 /
CALSCALE:GREGORIAN
METHOD:PUBLISH
UID:7129ecff-a028-4f6e-a446-670f763695a7
X-WR-CALNAME:iCagenda
X-WR-CALDESC:Event Management Extension for Joomla!
X-WR-RELCALID:3E26604A-50F4-4449-8B3E-E4F4932D05B5
X-WR-TIMEZONE:UTC
BEGIN:VTIMEZONE
TZID:UTC
END:VTIMEZONE
BEGIN:VEVENT
UID:8a97aebd-ab86-4b01-a67e-986c0c67086d
DTSTAMP:20260420T111704Z
CATEGORIES:IMPLANTOPROTETYKA
CLASS:PUBLIC
DESCRIPTION;ALTREP="CID:<FFFF__=0ABBE548DFE235B58f9e8a93d@coffeebean.com>":
 Prowadzący: Paweł Kłosiński MD\nCena: 2960 zł\nTermin: 6.09.2025\nMiejsce:
  ul. Kołodzieja 8\, 40-749 Katowice \nKurs przeznaczony jest dla lekarzy s
 tomatologów / lekarzy dentystów specjalizujących się w odbudowach implanto
 protetycznych\, którzy dążą do minimalizacji ryzyka powikłań w codziennej 
 praktyce.Szkolenie skierowane jest do lekarzy stomatologów / lekarzy denty
 stów wszystkich specjalizacji.\nOpis szkolenia:\nNasz kurs skupia się na p
 raktycznych aspektach\, które pozwolą Ci zwiększyć bezpieczeństwo i przewi
 dywalność leczenia implantoprotetycznego:\n\nDiagnostyka przedkliniczna\, 
 badania kliniczne oraz obrazowe: Nauczysz się\, jak przeprowadzać kompleks
 ową diagnostykę\, aby precyzyjnie ocenić stan pacjenta przed leczeniem imp
 lantologicznym.\nOkreślenie profilu ryzyka oraz zarządzanie ryzykiem w imp
 lantologii/implantoprotetyce: Poznasz metody identyfikacji pacjentów wysok
 iego ryzyka oraz strategie skutecznego zarządzania potencjalnymi powikłani
 ami.\nSchematy kwalifikacji pacjenta do danego typu rekonstrukcji implanto
 logicznej: Zdobędziesz wiedzę\, jak optymalnie dobrać typodbudowy do indyw
 idualnych potrzeb i warunków pacjenta.\nOkluzja zorientowana implantoprote
 tycznie w zależności od typu odbudowy - statyka i dynamika: Dogłębnie omów
 imy zagadnieniaokluzji w kontekście implantoprotetyki\, analizując zarówno
  statyczne\, jak i dynamiczne aspekty.\nFollow-up\, długofalowe utrzymanie
  efektu leczenia\, objawy niepożądane/alarmujące: Dowiesz się\, jak skutec
 znie monitorowaćpacjentów po leczeniu\, aby zapewnić długotrwałe utrzymani
 e efektów i wczesne wykrywanie niepokojących objawów.\n\nDodatkowo\, kurs 
 obejmie zagadnienie Współczesnych Protokołów Wykonawstwa w Implantoprotety
 ce Stomatologicznej\, dając Ci aktualną wiedzę na temat najnowszych i najs
 kuteczniejszych technik.\n\nPaweł Kłosiński MDMaster in Oral Implantology
 \nAbsolwent Śląskiego Uniwersytetu Medycznego w Katowicach. Ukończył międz
 ynarodowe studia podyplomowe na Uniwersytecie San Jorge w Hiszpanii\, uzys
 kując tytuł Master in Implantology. Aktywny członek towarzystw naukowych: 
 PSI\, ICOI\, DGOI. Autor publikacji w prasie specjalistycznej oraz wystąpi
 eń na konferencjach naukowych. Prelegent oraz kierownik szkoleniowy kursów
  z zakresu implantoprotetyki stomatologicznej. Wykładowca w ramach Curricu
 lum Implantologii Polskiego Stowarzyszenia Implantologicznego.
DTSTART:20250906T132100Z
DTEND:20250906T190000Z
GEO:00;0
LOCATION:ul. Kołodzieja 8\, 40-749 Katowice 
ORGANIZER;CN=:prenumerata@spsmedia.pl
SEQUENCE:1
SUMMARY:Okluzja i biomechanika w implantoprotetyce
TRANSP:OPAQUE
URL:https://www.szkolastomatologii.pl/historia-szkolen/91-okluzja-i-biomech
 anika-w-implantoprotetyce
END:VEVENT
END:VCALENDAR
