BEGIN:VCALENDAR
VERSION:2.0
PRODID:-//szkolastomatologii.pl//NONSGML kigkonsult.se iCalcreator 2.30.10/
 /
CALSCALE:GREGORIAN
METHOD:PUBLISH
UID:4afb88c6-8e1a-4dc3-ac11-fed5e0da2071
X-WR-CALNAME:iCagenda
X-WR-CALDESC:Event Management Extension for Joomla!
X-WR-RELCALID:3E26604A-50F4-4449-8B3E-E4F4932D05B5
X-WR-TIMEZONE:UTC
BEGIN:VTIMEZONE
TZID:UTC
END:VTIMEZONE
BEGIN:VEVENT
UID:9392ecaf-c712-4fea-bf99-abb585e489ec
DTSTAMP:20260420T112017Z
CATEGORIES:CHOROBY PRZYZĘBIA
CLASS:PUBLIC
DESCRIPTION;ALTREP="CID:<FFFF__=0ABBE548DFE235B58f9e8a93d@coffeebean.com>":
 Prowadzący: dr n. med. Marta Cieślik-Wegemund\nCena: 2960 zł\nTermin: 29.0
 9.2025\nMiejsce: ul. Kołodzieja 8\, 40-749 Katowice \nKurs przeznaczony dl
 a lekarzy dentystów zarówno początkujących w dziedzinie Periodontologii ja
 k i tych\, którzy chcieliby dodatkowo udoskonalić swoje umiejętności prakt
 yczne w tym zakresie.Szkolenie skierowane jest do lekarzy dentystów wszyst
 kich specjalizacji.\nPlan szkolenia: \nWykład\n\nRodzaje fenotypów dziąsło
 wych i ich znaczenie w przebiegu leczenia ortodontycznego.\nMetody diagnos
 tyczne w zaburzeniach śluzówkowo-dziąsłowych\nOkreślenie ryzyka powikłań p
 o leczeniu ortodontycznym\nPeriodontologiczne przygotowanie pacjenta do le
 czenia ortodontycznego\nLeczenie powikłań po ortodoncji\n\nWarsztaty\n\nNa
  materiale zwierzęcym pogrubianie fenotypu dziąsłowego z wykorzystaniem tk
 anki łącznej\,\nPokrycie recesji dziąsłowej z wykorzystaniem techniki CAF
 \nZabieg płatowy techniką zmodyfikowanego Widmana\n\n\n \n\n \n\n\n\n\n\nd
 r n. med. Marta Cieślik - WegemundSpecjalista periodontolog\, periodontolo
 gia\, chirurgia\nAbsolwentka Śląskiego Uniwersytetu Medycznego w Katowicac
 h. Od 2006 roku jest pracownikiem ŚUM na stanowisku asystenta w Zakładzie 
 Chorób Przyzębia i Błony Śluzowej Jamy Ustnej Katedry Stomatologii Zachowa
 wczej z Endodoncją w Zabrzu. W 2010 roku uzyskała tytuł specjalisty period
 ontologa. W 2019 roku obroniła pracę doktorską pt.: 'Ocena kliniczna pokry
 cia mnogich recesji dziąsłowych z zastosowaniem techniki tunelowej.' Publi
 kuje prace w czasopismach polskich i zagranicznych oraz bierze czynny udzi
 ał w konferencjach krajowych i międzynarodowych. Głównymi obszarami jej za
 interesowań są: leczenie chirurgiczne nieprawidłowości śluzówkowo-dziąsłow
 ych\, chirurgiczne i niechirurgiczne leczenie chorób przyzębia\, leczenie 
 chorób błony śluzowej jamy ustnej\, leczenie interdyscyplinarne.\n\n\n
DTSTART:20250929T090000Z
DTEND:20250929T180000Z
GEO:00;0
LOCATION:ul. Kołodzieja 8\, 40-749 Katowice
ORGANIZER;CN=:prenumerata@spsmedia.pl
SEQUENCE:1
SUMMARY:Algorytmy postępowania w leczeniu periodontologicznym pacjentów ort
 odontycznych
TRANSP:OPAQUE
URL:https://www.szkolastomatologii.pl/historia-szkolen/88-algorytmy-postepo
 wania-w-leczeniu-periodontologicznym-pacjentow-ortodontycznych
END:VEVENT
END:VCALENDAR
