BEGIN:VCALENDAR
VERSION:2.0
PRODID:-//szkolastomatologii.pl//NONSGML kigkonsult.se iCalcreator 2.30.10/
 /
CALSCALE:GREGORIAN
METHOD:PUBLISH
UID:2e4e99da-e8ee-4225-8098-8511c149cff8
X-WR-CALNAME:iCagenda
X-WR-CALDESC:Event Management Extension for Joomla!
X-WR-RELCALID:3E26604A-50F4-4449-8B3E-E4F4932D05B5
X-WR-TIMEZONE:UTC
BEGIN:VTIMEZONE
TZID:UTC
END:VTIMEZONE
BEGIN:VEVENT
UID:af783555-a5da-4ab4-83b9-f195c62f93e5
DTSTAMP:20260420T100310Z
CATEGORIES:ODBUDOWA ESTETYCZNA
CLASS:PUBLIC
DESCRIPTION;ALTREP="CID:<FFFF__=0ABBE548DFE235B58f9e8a93d@coffeebean.com>":
 Warsztat: Flow Injection od A do Z – precyzyjne techniki odbudowy\nProwadz
 ący: lek. dent. Daniel Nowakowski\nTermin: 7 grudnia 2025 r.\nCena: 2750 z
 ł\;\n Punkty edukacyjne: 5 pkt.\nMiejsce: Hotel Lord\, Warszawa\, Al. Krak
 owska 218\n\nPodczas warsztatu nauczysz się i wykonasz:\n\nSamodzielnej oc
 eny jakości nawoskowania\nWykonania indeksów silikonowych na modelach druk
 owanych\nWykorzystania techniki klasycznej i naprzemiennej w odbudowie peł
 nego łuku\nWykonania licówek w odcinku przednim wraz z ich charakteryzacją
 \nTechniki modyfikacji przezierności w odcinku przednim\nWykonasz overlay-
 i w odcinku bocznym\nTechniki polerowanie i serwisowania prac kompozytowyc
 h\n\nAgenda warsztatu\n10:00 - 11:30 Zajęcia warsztatowe\n11:30-11:45 Prze
 rwa kawowa\n11:45-13:30 Zajęcia warsztatowe\n13:30-14:15 Lunch\n14:15-16:1
 5 Zajęcia warsztatowe\n\nSzczegółowych informacji udziela Aleksandra Kowal
 ińska tel. +48 509 912 963  w godz. 9:00-16:00.\nCena za kurs nie obejmuje
  noclegu. Nocleg należy zarezerwować dodatkowo - w tej sprawie prosimy o k
 ontakt z p. Aleksandrą Kowalińską\nOpłatę za kurs proszę wnieść na podstaw
 ie faktury proforma\, którą Państwo otrzymają po wypełnieniu zgłoszenia.\n
 INFORMACJE I ZAPISY:Aleksandra Kowalińska\, +48 509 912 963\, prenumerata@
 spsmedia.pl\nKonto\, na które należy wpłacić należność za kurs to:\nPŁATNO
 ŚCI:Prosimy kwotę za szkolenie wpłacić na konto:31 1090 1870 0000 0001 333
 5 2731SPS-Piotr SzymańskiZ. Modzelewskiego 67/402-679 Warszawa
DTSTART:20251207T100000Z
DTEND:20251207T161500Z
GEO:+52.186707;+20.955709
LOCATION:Hotel Lord\, Warszawa\, Al. Krakowska 218
ORGANIZER;CN=:prenumerata@spsmedia.pl
SEQUENCE:1
SUMMARY:Warsztat: Flow Injection od A do Z – precyzyjne techniki odbudowy
TRANSP:OPAQUE
URL:https://www.szkolastomatologii.pl/historia-szkolen/86-flow-injection
END:VEVENT
END:VCALENDAR
