BEGIN:VCALENDAR
VERSION:2.0
PRODID:-//szkolastomatologii.pl//NONSGML kigkonsult.se iCalcreator 2.30.10/
 /
CALSCALE:GREGORIAN
METHOD:PUBLISH
UID:084ecff3-393d-46f0-9d0e-0a414a35e875
X-WR-CALNAME:iCagenda
X-WR-CALDESC:Event Management Extension for Joomla!
X-WR-RELCALID:3E26604A-50F4-4449-8B3E-E4F4932D05B5
X-WR-TIMEZONE:UTC
BEGIN:VTIMEZONE
TZID:UTC
END:VTIMEZONE
BEGIN:VEVENT
UID:25e77c6a-afe4-4552-81f7-475a19d671ee
DTSTAMP:20260420T102056Z
CATEGORIES:PROTETYKA
CLASS:PUBLIC
DESCRIPTION;ALTREP="CID:<FFFF__=0ABBE548DFE235B58f9e8a93d@coffeebean.com>":
 Prowadzący: dr hab. n med. Halina Ey-Chmielewska\nTermin: Piątek 5 grudnia
  2025 r. 9:00 - 17.30 Kurs jednodniowy \nMiejsce:  Hotel Lord\, Warszawa\,
  Al. Krakowska 218\nPunkty edukacyjne: 8 pkt.\nCena kursu: 990 zł\n\nAgend
 a szkolenia\n09:00 – 09:15Rejestracja uczestników\, powitanie\n09:15 – 10:
 00 Wykład 1:Specyfika badania pacjenta bezzębnego – diagnostyka i metody l
 eczenia protetycznego w zależności od warunków anatomiczno-fizjologicznych
  jamy ustnej i ogólnego stanu zdrowia\n10:00 – 10:45 Wykład 2:Materiały i 
 metody wyciskowe stosowane w przypadkach bezzębia – ich dobór w zależności
  od warunków anatomiczno-fizjologicznych pacjenta\n10:45 – 11:00 Przerwa k
 awowa\n11:00 – 11:45 Wykład 3:Zasady postępowania kliniczno-laboratoryjneg
 o zmierzające do zaopatrzenia pacjenta protezami całkowitymi z uwzględnien
 iem przedprotetycznej korekty podłoża\n11:45 – 12:30 Wykład 4:Rola mięśni 
 układu stomatognatycznego dla biomechaniki protez całkowitych\n12:30 – 12:
 45 Przerwa kawowa\n12:45 – 13:30 Wykład 5:Metody wyznaczania płaszczyzny p
 rotetycznej\, wysokości spoczynkowej i zwarciowej oraz rejestracji zwarcia
  centralnego – procedura zabiegowa i stosowane instrumentarium (z uwzględn
 ieniem rejestracji wewnątrzustnej)\n13:30 – 14:30 Lunch\n14:30 – 15:15 Wyk
 ład 6:Metody ustawiania zębów sztucznych w protezach całkowitych – omówien
 ie metody wrocławskiej\, krakowskiej i poznańskiej\n15:15 – 16:00 Wykład 7
 :Zalecenia pozabiegowe oraz opieka nad pacjentem użytkującym protezy całko
 wite\, stany patologiczne związane z użytkowaniem protez płytowych\n16:00 
 – 16:15 Przerwa kawowa\n16:15 – 17:00 Wykład 8:Zaniechania i błędy popełni
 ane na każdym etapie pracy protetycznej w gabinecie i pracowni techniki de
 ntystycznej\n17:00 – 17:30 Sesja Q&amp\;A\, podsumowanie szkolenia\n\nCena
  za kurs nie obejmuje noclegu. Nocleg należy zarezerwować indywidualnie w 
 hotelu (tel. 22 574 20 00). Na hasło Zjazd Lekarzy Dentystów hotel udziela
  zniżki na noclegi.\nOpłatę za kurs proszę wnieść na podstawie faktury pro
 forma\, którą Państwo otrzymają po wypełnieniu zgłoszenia. Konto\, na któr
 e należy wpłacić należność za kurs to:\nSPS - Piotr Szymański numer: 31 10
 90 1870 0000 0001 3335 2731\nSzczegółowych informacji udziela Aleksandra K
 owalińska tel. +48 509 912 963  w godz. 9:00-16:00.
DTSTART:20251205T090000Z
DTEND:20251205T173000Z
GEO:+52.186707;+20.955709
LOCATION:Aleja Krakowska 218\, 02-219 Warszawa
ORGANIZER;CN=:prenumerata@spsmedia.pl
SEQUENCE:1
SUMMARY:Kurs teoretyczny bezzębie  z uwzględnieniem metody kalotowej
TRANSP:OPAQUE
URL:https://www.szkolastomatologii.pl/historia-szkolen/83-kurs-teoretyczny-
 bezzebie-z-uwzglednieniem-metody-kalotowej
END:VEVENT
END:VCALENDAR
