BEGIN:VCALENDAR
VERSION:2.0
PRODID:-//szkolastomatologii.pl//NONSGML kigkonsult.se iCalcreator 2.30.10/
 /
CALSCALE:GREGORIAN
METHOD:PUBLISH
UID:242d4926-fd40-4245-a3c0-29e08a898b72
X-WR-CALNAME:iCagenda
X-WR-CALDESC:Event Management Extension for Joomla!
X-WR-RELCALID:3E26604A-50F4-4449-8B3E-E4F4932D05B5
X-WR-TIMEZONE:UTC
BEGIN:VTIMEZONE
TZID:UTC
END:VTIMEZONE
BEGIN:VEVENT
UID:4d622464-d796-497e-a454-d1e370514929
DTSTAMP:20260420T100951Z
CATEGORIES:PRAWO
CLASS:PUBLIC
DESCRIPTION;ALTREP="CID:<FFFF__=0ABBE548DFE235B58f9e8a93d@coffeebean.com>":
 Temat: Gdy pacjent staje się przeciwnikiem: Dentysta w strefie ryzyka i st
 rategie obrony” Zbuduj prawną odporność swojej praktyki – zanim pacjent ją
  przetestuje.Prowadzący: adw. Ewa Mazur PawłowskaTermin: 5 grudnia 2025 r.
  9.00-16.30Miejsce: Hotel Lord\, Warszawa\, Al. Krakowska 214Punkty edukac
 yjne: 6 pkt.Cena: 1850 zł\nPierwszy wykład : „Dokumentacja medyczna  – jak
  zabezpieczyć się przed odpowiedzialnością”\nDokumentacja medyczna to nie 
 tylko obowiązek – to Twoja tarcza w sporze z pacjentem. Dobrze prowadzona 
 może zadecydować o wygranej\, źle – pogrążyć nawet najlepszego specjalistę
 . Podczas tego wykładu dowiesz się\, jak tworzyć dokumentację\, która real
 nie chroni przed roszczeniami\, jak unikać najczęstszych błędów i jak spra
 wić\, by w razie sporu to ona przemówiła w Twojej obronie. Dokumentacja me
 dyczna to nie tylko wpisy z wizyty czy zgody na leczenie. Konkretne wskazó
 wki\, przykłady z sal sądowych i praktyczne rozwiązania – wszystko po to\,
  byś mógł leczyć z poczuciem bezpieczeństwa.\nDrugi wykład : Konsekwencje 
 błędów dokumentacyjnych dla lekarza dentysty i dla właściciela gabinetu\nC
 zęsto nie zdajemy sobie sprawy z tego\, że niedopowiedzenia\, ogólnikowość
 \, brak staranności w dokumentowaniu udzielania świadczeń leczniczych może
  być wystarczającym powodem do problemów prawnych. Czy obejmujemy świadomo
 ścią jaka jest skala konsekwencji wynikających nie z błędu medycznego\, al
 e źle prowadzonej dokumentacji? Jakie są najczęstsze pułapki\, jak zbudowa
 ć dokumentację\, która chroni – zarówno lekarza\, jak i właściciela gabine
 tu. To nie teoria – to konkretna ochrona w dzisiejszej rzeczywistości. \nT
 rzeci wykład : „Zanim spotkacie się w sądzie: Strategia obrony dentysty kr
 ok po kroku”\nTo wykład\, który każdy świadomy dentysta\, właściciel gabin
 etu powinien usłyszeć zanim będzie musiał się bronić. W świecie\, gdzie je
 den niezadowolony pacjent może zagrozić Twojej reputacji\, karierze i fina
 nsom\, ta wiedza staje się bezcenna.Dowiesz się\, jak zbudować tarczę ochr
 onną jeszcze zanim pojawi się roszczenie – poprzez dokumentację\, komunika
 cję\, analizę ryzyk i współpracę z prawnikiem. To nie teoria\, lecz konkre
 tne narzędzia\, schematy działania i przykłady z sal sądowych\, które może
 sz zastosować natychmiast.Jeśli traktujesz swój gabinet\, swoją pracę  pro
 fesjonalnie  – ten wykład to Twoje prawnicze ubezpieczenie. \n \n\nAgenda 
 spotkania\n9.00 - 11.00 - Wykład 1: „Dokumentacja medyczna jako linia obro
 ny – jak zabezpieczyć się przed odpowiedzialnością”\nPodstawy prawne prowa
 dzenia dokumentacji•    Ustawa o prawach pacjenta i dokumentacji medycznej
  – obowiązki lekarza•    Rozporządzenia wykonawcze – co musi znaleźć się w
  dokumentacji•    Dokumentacja papierowa vs elektroniczna (EDM)•    RODO\,
  dane wrażliwe i zgody – aspekty kluczowe\nDokumentacja a odpowiedzialność
  cywilna lekarza dentysty•    Kiedy dokumentacja staje się dowodem przeciw
 ko Tobie•    Ciężar dowodu i zasada domniemania winy•    Rola dokumentacji
  w ocenie należytej staranności•    Jak sądy analizują braki i nieścisłośc
 i w kartach pacjenta\nNajczęstsze błędy dokumentacyjne i ich konsekwencje•
     Niewystarczający opis świadczenia•    Brak lub niewłaściwa zgoda na le
 czenie•    Niespójność pomiędzy dokumentacją a rzeczywistością kliniczną• 
    Przykłady z praktyki: błędy\, które kończyły się roszczeniami\nDobre pr
 aktyki – jak tworzyć dokumentację\, która Cię chroni•    Co\, kiedy i jak 
 zapisywać (również „trudne sytuacje”)•    Jak notować odmowy\, wątpliwości
 \, decyzje pacjenta•    Zgody i pouczenia – dokumentowanie rozmowy z pacje
 ntem\nChecklista i narzędzia do wdrożenia•    Lista kluczowych elementów b
 ezpiecznej dokumentacji•    Przykładowe zapisy chroniące lekarza•    Propo
 zycje procedur wewnętrznych \n11.00 - 11.30 Przerwa kawowa\n11.30 - 13.30 
 Wykład 2: Zanim spotkacie się w sądzie: Strategia obrony dentysty krok po 
 kroku\nAnatomia konfliktu: Jak rodzi się spór z pacjentem?•    Błędy komun
 ikacyjne vs błędy medyczne•    Najczęstsze źródła roszczeń (implanty\, pro
 tetyka\, ekstrakcje\, leczenie kanałowe)•    Profil pacjenta roszczenioweg
 o\nDokumentacja jako fundament obrony•    Jak prowadzić dokumentację „na p
 roces”?•    Świadoma zgoda – jak powinna wyglądać?•    Opisy wizyt\, proto
 koły\, zdjęcia\, korespondencja – co i jak archiwizować?•    Przykłady z o
 rzecznictwa: co uratowało lekarza\, co pogrążyło?\nCo robić\, gdy pojawia 
 się roszczenie?•    Wezwanie do zapłaty / reklamacja – jak reagować profes
 jonalnie•    Kiedy i jak zgłosić sprawę do ubezpieczyciela OC•    Kiedy mi
 lczeć\, a kiedy rozmawiać•    Etapy sprawy: przedsąd\, sąd cywilny\, rzecz
 nicy odpowiedzialności zawodowej\nW sądzie: jak dentysta może się bronić?•
     Jak wygląda sprawa sądowa w praktyce•    Rola biegłego\, świadka\, poz
 wanego lekarza•    Strategia procesowa z perspektywy prawnika•    Jak odpo
 wiadać na pytania – język\, spójność\, postawa\nRola ubezpieczenia i prawn
 ika•    Co faktycznie obejmuje polisa OC?•    Na co uważać przy zawieraniu
  umowy z prawnikiem•    Czy warto mieć stałą obsługę prawną?\nPrewencja: j
 ak nie dopuścić do sporu•    Bezpieczna komunikacja z pacjentem•    Proced
 ury reklamacyjne w gabinecie•    Zabezpieczenia formalne w umowach i regul
 aminach•    Szkolenie zespołu\n13.30 - 14.30 Lunch\n14.30-16.30 Wykład 3: 
 Konsekwencje błędów dokumentacyjnych dla lekarza dentysty i dla właściciel
 a gabinetu\nRodzaje błędów dokumentacyjnych w stomatologii•    Błędy forma
 lne (brak daty\, podpisu\, oznaczenia zębów\, nieczytelność wpisu)•    Błę
 dy merytoryczne (nieprawidłowy opis zabiegu\, niezgodność z rzeczywistości
 ą)•    Brak zgody pacjenta na leczenie lub niewłaściwie udokumentowana zgo
 da•    Brak wpisów po kluczowych zabiegach (np. leczenie kanałowe\, ekstra
 kcja\, RTG)•    Fałszowanie lub dopisywanie danych bez oznaczenia zmian•  
   Przekreślenia\, luki\, nieczytelność\, zmiany wsteczne•    Brak podpisu 
 pacjenta lub lekarza – kiedy to problem?\nKonsekwencje prawne i zawodowe •
     Odpowiedzialność zawodowa – postępowanie przed Okręgowym Sądem Lekarsk
 im•    Odpowiedzialność cywilna – odszkodowania\, pozwy pacjentów•    Odpo
 wiedzialność karna – np. za fałszowanie dokumentacji (art. 271 Kodeksu kar
 nego)•    Przykłady rzeczywistych postępowań z udziałem lekarzy dentystów•
     Rola dokumentacji w obronie lub potwierdzeniu winy\nKontrole i sankcje
  ze strony instytucji •    Rzecznik Praw Pacjenta – brak lub nieprawidłowe
  prowadzenie dokumentacji jako naruszenie praw pacjenta•    UODO (RODO) – 
 konsekwencje za nieprawidłowe przetwarzanie danych medycznych\nKonsekwencj
 e praktyczne w pracy gabinetu •    Utrata zaufania pacjentów•    Utrudnion
 a współpraca z innymi specjalistami i placówkami•    Problemy w sytuacjach
  roszczeniowych i brak możliwości skutecznej obrony•    Koszty związane z 
 konsultacjami prawnymi\, roszczeniami i ubezpieczeniami\nJak zabezpieczyć 
 się przed konsekwencjami?•    Dobre praktyki w prowadzeniu dokumentacji•  
   Regularne szkolenia i aktualizacja wiedzy prawnej•    Współpraca z prawn
 ikiem\, ubezpieczycielem\, RODO-inspektorem•    Kontrole wewnętrzne i audy
 ty dokumentacji\n\nCena za kurs nie obejmuje noclegu. Nocleg należy zareze
 rwować indywidualnie w hotelu (tel. 22 574 20 00).\nInformacje i zapisy:Al
 eksandra Kowalińska\, +48 509 912 963\, prenumerata@spsmedia.pl\nPŁATNOŚCI
 :Prosimy kwotę za szkolenie wpłacić na konto:31 1090 1870 0000 0001 3335 2
 731SPS-Piotr SzymańskiZ. Modzelewskiego 67/402-679 Warszawa\nNa podstawie 
 otrzymanej płatności otrzymają Państwo fakturę na maila\, z którego nastąp
 iła rejestracja na szkolenie.
DTSTART:20251205T090000Z
DTEND:20251205T163000Z
GEO:00;0
LOCATION:Warszawa\, Hotel Lord ****\; al. Krakowska 218
ORGANIZER:
SEQUENCE:1
SUMMARY:Gdy pacjent staje się przeciwnikiem: Dentysta w strefie ryzyka i st
 rategie obrony”. Zbuduj prawną odporność swojej praktyki – zanim pacjent j
 ą przetestuje.
TRANSP:OPAQUE
URL:https://www.szkolastomatologii.pl/historia-szkolen/80-bezpieczny-gabine
 t-prawo-w-praktyce-lekarza-dentysty
END:VEVENT
END:VCALENDAR
