BEGIN:VCALENDAR
VERSION:2.0
PRODID:-//szkolastomatologii.pl//NONSGML kigkonsult.se iCalcreator 2.30.10/
 /
CALSCALE:GREGORIAN
METHOD:PUBLISH
UID:49baaf3d-ba3e-4c23-8faf-f4f9266ccd5c
X-WR-CALNAME:iCagenda
X-WR-CALDESC:Event Management Extension for Joomla!
X-WR-RELCALID:3E26604A-50F4-4449-8B3E-E4F4932D05B5
X-WR-TIMEZONE:UTC
BEGIN:VTIMEZONE
TZID:UTC
END:VTIMEZONE
BEGIN:VEVENT
UID:ad4b7264-09d4-4d3e-bb98-27d412c46f47
DTSTAMP:20260420T124646Z
CATEGORIES:CHOROBY PRZYZĘBIA
CLASS:PUBLIC
DESCRIPTION;ALTREP="CID:<FFFF__=0ABBE548DFE235B58f9e8a93d@coffeebean.com>":
 Tytuł kursu: Specyfika postępowania kliniczno-labratoryjnego w trudnych pr
 zypadkach bezzębia – zastosowanie różnych metod pracy (kalotowej\, wrocław
 skiej\, krakowskiej i poznańskiej)\nProwadzący: Dr hab. n med. Halina Ey-C
 hmielewska\nTermin: Piątek 8 grudnia 2023 r. 8.30 - 18. 30 Kurs jednodniow
 y \nMiejsce:  Hotel Lord\, Warszawa\, Al. Krakowaska 214\nPunkty edukacyjn
 e: 9 pkt.\nCena kursu: 790 zł\nSzczegółowy plan zajęć\n \n8.30-9.15 Wykład
  1\nSpecyfika badania pacjenta bezzębnego diagnostyka i metody leczenia pr
 otetycznego w zależności od warunków anatomiczno-fizjologicznych jamy ustn
 ej i ogólnego stanu zdrowia.\n 9.15-10.30 Wykład 2\nMateriały i metody wyc
 iskowe stosowane w przypadkach bezzębia – ich dobór w zależności od warunk
 ów anatomiczno-fizjologicznych pacjenta.\n10.30-11.45 Przerwa kawowa \n10.
 45-11.15 Ćwiczenia \nWykonanie łyżek indywidualnych i wzorników zwarciowyc
 h na własnych modelach roboczych.\n11.15-12.30 Wykład\nZasady postępowania
  kliniczno-laboratoryjnego zamierzające o zaopatrzenia pacjenta protezami 
 całkowitymi z uwzględnieniem przedprotetycznej korekty podłoża.\n12.30-13.
 15 Wykład \nRola mięśni układu stomatognatycznego dla biomechaniki protez 
 całkowitych.\n13.15-14.00 Przerwa obiadowa \n14.00-14.45 Wykład\nMetody wy
 znaczania płaszczyzny protetycznej wysokości spoczynkowej i zwarciowej ora
 z rejestracji zwarcia centralnego – procedura zabiegowa i stosowane instru
 mentarium (z uwzględnieniem rejestracji wewnątrzustnej).\n14.45-15.30 Wykł
 ad \nAnaliza i rejestracja warunków okluzyjnych z uwzględnieniem metody Ko
 jsa.\n15.30-15.45 Przerwa kawowa\n15.45-16.15 Pokaz\nModelowanie powierzch
 ni zwarciowych na wykonanych wzornikach zwarciowych za pomocą kaloty.\n16.
 14-16.45 Ćwiczenia\nModelowanie powierzchni zwarciowych na wykonanych wzor
 nikach zwarciowych za pomocą kaloty.\n16.45-17.15 Wykład\nMetody ustawiani
 a zębów sztucznych w protezach całkowitych omówienie metody wrocławskiej\,
  krakowskiej i poznańskiej.\n17.15-18.30 Wykład\nZalecenia po zabiegowe or
 az opieka nad pacjentem użytkującym protezy całkowite\, stany patologiczne
  związane z użytkowaniem protez płytowych.\n18.30-18.40 Zaliczenie kursu\n
  \nUWAGA! Uczestnicy kursu powinni przywieźć ze sobą na kurs:\n\nModele gi
 psowe bezzębia\nOłówek do obrysowania modeli\nMini Palnik na propan- butan
 \nNożyki do wosku\n\n\nCena za kurs nie obejmuje noclegu. Nocleg należy za
 rezerwować indywidualnie w hotelu (tel. 22 574 20 00). Na hasło Zjazd Leka
 rzy Dentystów hotel udziela zniżki na noclegi.\nOpłatę za kurs proszę wnie
 ść na podstawie faktury proforma\, którą Państwo otrzymają po wypełnieniu 
 zgłoszenia. Konto\, na które należy wpłacić należność za kurs to:\nSPS - P
 iotr Szymański numer: 31 1090 1870 0000 0001 3335 2731\nSzczegółowych info
 rmacji udziela Aleksandra Kowalińska tel. +48 509 912 963  w godz. 9:00-16
 :00.
DTSTART:20231208T083000Z
DTEND:20231208T183000Z
GEO:+52.186253;+20.955437
LOCATION:Miejsce: Warszawa\, Hotel Lord ****\; al. Krakowska 218.
ORGANIZER;CN=:prenumerata@spsmedia.pl
SEQUENCE:1
SUMMARY:Specyfika postępowania kliniczno-laboratoryjnego w trudnych przypad
 kach bezzębia
TRANSP:OPAQUE
URL:https://www.szkolastomatologii.pl/historia-szkolen/8-specyfika-postepow
 ania-kliniczno-labratoryjnego-w-trudnych-przypadkach-bezzebia/2023-12-08-0
 8-30
END:VEVENT
END:VCALENDAR
