BEGIN:VCALENDAR
VERSION:2.0
PRODID:-//szkolastomatologii.pl//NONSGML kigkonsult.se iCalcreator 2.30.10/
 /
CALSCALE:GREGORIAN
METHOD:PUBLISH
UID:724683e0-3893-4a52-ad50-64d639964107
X-WR-CALNAME:iCagenda
X-WR-CALDESC:Event Management Extension for Joomla!
X-WR-RELCALID:3E26604A-50F4-4449-8B3E-E4F4932D05B5
X-WR-TIMEZONE:UTC
BEGIN:VTIMEZONE
TZID:UTC
END:VTIMEZONE
BEGIN:VEVENT
UID:912d5b2f-f107-4352-a1d9-59996bd2fb5f
DTSTAMP:20260420T112052Z
CATEGORIES:MARKETING
CLASS:PUBLIC
DESCRIPTION;ALTREP="CID:<FFFF__=0ABBE548DFE235B58f9e8a93d@coffeebean.com>":
 Seminarium komunikacji i reklamy wyrobów medycznych: Wyroby medyczne - Pro
 dukty lecznicze - Działalność lecznicza. Zgodna z obowiązującym prawem rek
 lama i komunikacja w mediach i social mediach\nPrelegenci: r. pr. dr Jan S
 zulc\; adw. Michał Gajda\; red. mgr prawa Andrzej Gross\nCena: 1450 zł +VA
 T (VAT dla lekarzy - zw (0 proc.) \; VAT dla firm - 23 proc.)\nTermin: 08.
  09. 2025 - REJESTRACJA OTWARTA (liczba miejsc ograniczona)\nMiejsce: Hote
 l Lord. Al. Krakowska 218\, Warszawa\n\nCzy wiesz\, jak reklamować się w m
 edycynie po zmianach przepisów?Na początku 2023 roku w życie weszła Ustawa
  o wyrobach medycznych\, która mocno ograniczyła możliwości reklamowe w br
 anży medycznej. Zakazano praktycznie reklamy produktów leczniczych w media
 ch ogólnodostępnych\, a kary za nieprzestrzeganie nowych zasad mogą być ba
 rdzo wysokie.\nZapraszamy na wyjątkowe szkolenie: „Marketing w medycynie p
 o zmianach prawnych – jak reklamować się legalnie i skutecznie?”\nPodczas 
 szkolenia dowiesz się:\n\nJakie są aktualne ograniczenia i możliwości rekl
 amowe w medycynie po wprowadzeniu Ustawy o wyrobach medycznych\nJak prowad
 zić komunikację marketingową\, by uniknąć ryzyka wysokich kar finansowych
 \nJak skutecznie dostosować strategię marketingową do nowych wymogów prawn
 ych\n\nSzkolenie jest dedykowane dla: \n\nSzefów firm dystrybucyjnych i pr
 oducentów wyrobów medycznych\nSpecjalistów ds. marketingu w firmach medycz
 nych\nMenedżerów klinik i placówek medycznych\n\n\nAgenda spotkania\n9:30-
  rejestracja\, kawa\n10:00 - Powitanie uczestników\, wstęp do szkolenia\n1
 0:15 - adw. Michał Gajda: 'Wprowadzanie wyrobów medycznych do obrotu i uży
 wania'\n\nDefinicja wyrobu medycznego\nNadawanie oznaczenia CE dla wyrobów
  medycznych\nRejestracja i wprowadzanie wyrobów medycznych do obrotu\n\n11
 :15 - Przerwa\n11:30 - red. mgr prawa Andrzej Gross: 'Praktyczne aspekty k
 omunikacji o wyrobach medycznych i produktach leczniczych'\n\nDefinicja re
 klamy\, informacji i edukacji zdrowotnej\nKomunikacja w mediach medycznych
  i periodykach tylko dla profesjonalistów\nKomunikacja w mediach mainstrea
 mowych i social mediach\n\n12:15 - Przerwa\n12:30 - r. pr. dr Jan Szulc: '
 Reklama wyrobów medycznych - Ustawa o wyrobach medycznych'\n\nReklama wyro
 bów medycznych do publicznej wiadomości\nReklama w mediach medycznych i pe
 riodykach tylko dla profesjonalistów\nDozwolone działania z użyciem nazw i
  wizerunków wyrobów medycznych w social mediach i na stronach internetowyc
 h\n\n13:30 - 13:45 - Przerwa\n13:45 - red. mgr prawa Andrzej Gross: 'Wizer
 unek i prawo autorskie w komunikacji informacyjnej\, edukacyjnej i reklamo
 wej”\n\nKodeks Etyki Lekarskiej\, a działania marketingowe i reklamowe lek
 arzy\nWykorzystanie wizerunku w gabinecie lekarskim oraz w informacji i re
 klamie o wyrobach medycznych i produktach leczniczych\nWykorzystywanie mat
 eriałów filmowych\, fotografii i muzyki w materiałach informacyjnych i rek
 lamowych\n\n14:30 - Lunch\n15:30 - Zakończenie szkolenia\n \nPrelegenci:\n
 \n\n\n\nadw. Michał Gajda\n\n\n\nAbsolwent Uniwersytetu Szczecińskiego\, P
 omorskiego Uniwersytetu Medycznego oraz Uniwersytetu Jagiellońskiego. Ukoń
 czył studia podyplomowe z prawa medycznego oraz prawa karnego skarbowego i
  gospodarczego. Członek Rady Ekspertów Parlamentarnego Zespołu ds. Medycyn
 y Estetycznej\, wykładowca Pomorskiego Uniwersytetu Medycznego\, pełnomocn
 ik Koalicji Lekarzy oraz ekspert prawa medycznego przy Stowarzyszeniu Leka
 rzy Dermatologów Estetycznych. Autor wielu publikacji w prasie branżowej o
 raz prelegent konferencji naukowych poświęconych prawu medycznemu.\n\n\n\n
 red. mgr prawa Andrzej Gross\n\n\nAbsolwent Uniwersytetu Szczecińskiego\, 
 dziennikarz medyczny i prawnik in-house w Grupie Medialnej „Estetyka i Chi
 rurgia – Medyczna TV”\, członek Rady Naukowej Academy of Aesthetic &amp\; 
 Anti-Aging Medicine. Zajmuje się teorią prawa\, prawem mediów\, prawem aut
 orskim i prawem medycznym\, oraz marketingiem medycznym. Wykładowca na kra
 jowych i międzynarodowych kongresach i sympozjach naukowych. Inicjator i o
 rganizator Ogólnopolskiej Konferencji Naukowej “Prawo w medycynie - Medycy
 na w prawie”\, i sympozjum naukowego “Prawo i medycyna”. W latach 2005-201
 0 członek Polskiej Izby Komunikacji Elektronicznej\; od lat dziewięćdziesi
 ątych dziennikarz\, redaktor i producent telewizyjny związany z mediami lo
 kalnymi\, regionalnymi i ogólnopolskimi.\n \n\n\n\nr. pr. dr Jan Szulc\n\n
 \nDoktor prawa\, radca prawny. Dyrektor Departamentu Informacji o Wyrobach
  Medycznych Urzędu Rejestracji Produktów Leczniczych\, Wyrobów Medycznych 
 oraz  Produktów Biobójczych. Posiada wieloletnie doświadczenie zarówno po 
 stronie organów administracji (Ministerstwo Zdrowia oraz Urzędu Rejestracj
 i Produktów Leczniczych\, Wyrobów Medycznych oraz Produktów Biobójczych) o
 raz jednej z wiodącej kancelarii obsługującej podmioty z branży produktów 
 leczniczych i wyrobów medycznych. W swojej pracy zawodowej zajmuje się lub
  zajmował zarówno pracą przy przepisach regulujących branżę farmaceutyczną
  oraz wyrobów medycznych\, jak również ich stosowaniem na rzecz podmiotów 
 działających na tych rynkach.\n\n\n\n\nCena za kurs nie obejmuje noclegu. 
 Nocleg należy zarezerwować indywidualnie w hotelu (tel. 22 574 20 00).\nIn
 formacje i zapisy:Aleksandra Kowalińska\, +48 509 912 963\, prenumerata@sp
 smedia.pl\nPŁATNOŚCI:Prosimy kwotę za szkolenie wpłacić na konto:31 1090 1
 870 0000 0001 3335 2731SPS-Piotr SzymańskiZ. Modzelewskiego 67/402-679 War
 szawa\nPŁATNOŚĆ KARTĄ:\nProszę skorzystać z naszego sklepu i tam wypełnić 
 zgłoszenie: \nhttps://e-stom.pl/prawo/370-seminarium.html\nNa podstawie ot
 rzymanej płatności otrzymają Państwo fakturę na maila\, z którego nastąpił
 a rejestracja na szkolenie.
DTSTART:20250908T093000Z
DTEND:20250908T153000Z
GEO:+52.186707;+20.955709
LOCATION:Hotel Lord\, Warszawa\, Al. Krakowska 218
ORGANIZER;CN=:piotrs@spsmedia.pl
SEQUENCE:1
SUMMARY:Seminarium komunikacji i reklamy wyrobów medycznych: Wyroby medyczn
 e - Produkty lecznicze - Działalność lecznicza. Zgodna z obowiązującym pra
 wem reklama i komunikacja w mediach i social mediach
TRANSP:OPAQUE
URL:https://www.szkolastomatologii.pl/historia-szkolen/79-wyroby-medyczne-r
 eklama
END:VEVENT
END:VCALENDAR
