BEGIN:VCALENDAR
VERSION:2.0
PRODID:-//szkolastomatologii.pl//NONSGML kigkonsult.se iCalcreator 2.30.10/
 /
CALSCALE:GREGORIAN
METHOD:PUBLISH
UID:51ca24d6-6bb4-4d4f-959c-8cd384955eb0
X-WR-CALNAME:iCagenda
X-WR-CALDESC:Event Management Extension for Joomla!
X-WR-RELCALID:3E26604A-50F4-4449-8B3E-E4F4932D05B5
X-WR-TIMEZONE:UTC
BEGIN:VTIMEZONE
TZID:UTC
END:VTIMEZONE
BEGIN:VEVENT
UID:1b7e0f6e-6d90-4152-85ff-ef968cbf9bdf
DTSTAMP:20260420T100447Z
CATEGORIES:ODBUDOWA ESTETYCZNA
CLASS:PUBLIC
DESCRIPTION;ALTREP="CID:<FFFF__=0ABBE548DFE235B58f9e8a93d@coffeebean.com>":
 Temat: Estetyczne\, kompozytowe odbudowy w zębach przednich\nWykładowca: d
 r n. med. Michał Paulo\,\nTermin: 5 grudnia. 2025 r.\nCena: 1390 zł\,\nPun
 kty edu: 8 pkt.\n\nWarsztaty praktyczne zakładają samodzielne przygotowani
 e zęba do odbudowy klasy III i IV \, wykonanie mock-up’u oraz indeksu sili
 konowego. Przeprowadzenie analizy kolorystycznej\, protokołu adhezyjnego o
 raz wykonanie samodzielnej odbudowy wielowarstwowej. Zadaniem kursantów bę
 dzie również zamknięcie diastemy oraz wykonanie licówki\, mikro i makro st
 ruktur oraz przeprowadzenie protokołu polerowania.Po kursie każdy z uczest
 ników będzie umiał wykonać estetyczną odbudowę (III\, IV klasy oraz licówk
 ę) w odcinku przednim z zachowaniem cech indywidualizacji wypełnienia oraz
  zastosować do odbudowy technikę warstwową. Nabędzie umiejętność wykonania
  mock-up i indeksu sylikonowego oraz zapozna się z protokołem polerowania.
 \nGłówne założenia kursu:\n\nmetody izolacji zębów przednich\nczym jest i 
 jak wykonać mock-up?\njak wykonać indeks sylikonowy?\npreparacja i przygot
 owanie ubytku\nczy możliwe jest zatarcie granicy między wypełnieniem a tka
 nkami zęba?\nodbudowa - zasady techniki warstwowej\njak odbudować zęby z u
 bytkami III i IV klasy?\ntechniki zamykania diastemy - tips and tricks!!!
 \njak odtworzyć mikro i makro strukturę zęba\nindywidualizacja wypełnień\,
  techniki podbarwiania i charakteryzacji\nprotokół polerowania wypełnień\n
 \nAgenda:\n9.30 - 10.00 Rejestracja uczestników10.00 - 11.30 Wykład cz. I1
 1.30 - 11.45 Przerwa kawowa11.45 - 13.15 Wykład cz. II13.15 - 14.00 Przerw
 a obiadowa14.00 - 15.30 Pokaz praktyczny15.30 - 16.00 Przerwa kawowo - tec
 hniczna16.00 - 18.00 Warsztaty hands-on18.00 - 18.30 Test\, wręczenie cert
 yfikatów\, podsumowanie\nKurs został zgłoszony do Okręgowej Izby lekarskie
 j. Każdy kursant otrzyma certyfikat oraz odpowiednią ilość punktów edukacy
 jnych.\n \n\nCena za kurs nie obejmuje noclegu. Nocleg należy zarezerwować
  indywidualnie w hotelu (tel. 22 574 20 00). Na hasło Zjazd Lekarzy Dentys
 tów hotel udziela zniżki na noclegi.\nOpłatę za kurs proszę wnieść na pods
 tawie faktury proforma\, którą Państwo otrzymają po wypełnieniu zgłoszenia
 . Konto\, na które należy wpłacić należność za kurs to:\nSPS - Piotr Szyma
 ński numer: 31 1090 1870 0000 0001 3335 2731\nSzczegółowych informacji udz
 iela Aleksandra Kowalińska tel. +48 509 912 963  w godz. 9:00-16:00.\n \n 
DTSTART:20251205T093000Z
DTEND:20251205T183000Z
GEO:00;0
LOCATION:Aleja Krakowska 218\, 02-219 Warszawa
ORGANIZER;CN=:prenumerata@spsmedia.pl
SEQUENCE:1
SUMMARY:Estetyczne\, kompozytowe odbudowy w zębach przednich
TRANSP:OPAQUE
URL:https://www.szkolastomatologii.pl/historia-szkolen/78-odbudowy-w-zebach
 -przednich-08-25
END:VEVENT
END:VCALENDAR
