BEGIN:VCALENDAR
VERSION:2.0
PRODID:-//szkolastomatologii.pl//NONSGML kigkonsult.se iCalcreator 2.30.10/
 /
CALSCALE:GREGORIAN
METHOD:PUBLISH
UID:8baead2d-8c63-4803-89bb-bf4d3f8c8003
X-WR-CALNAME:iCagenda
X-WR-CALDESC:Event Management Extension for Joomla!
X-WR-RELCALID:3E26604A-50F4-4449-8B3E-E4F4932D05B5
X-WR-TIMEZONE:UTC
BEGIN:VTIMEZONE
TZID:UTC
END:VTIMEZONE
BEGIN:VEVENT
UID:7b4526de-63c6-46c7-b11e-7e0e71888a61
DTSTAMP:20260420T111542Z
CATEGORIES:ODBUDOWA ESTETYCZNA
CLASS:PUBLIC
DESCRIPTION;ALTREP="CID:<FFFF__=0ABBE548DFE235B58f9e8a93d@coffeebean.com>":
 \nTemat: Warsztat: Estetyczno-funkcjonalna odbudowa zębów bocznych metodą
  bezpośrednią\nWykładowca: dr n. med. Michał Paulo\nCena: 1390 zł\,\nPunkt
 y edu: 8 pkt.\nTermin: 30 sierpnia 2025 r.  godz. 10:00 - 18:30\nMiejsce: 
 Hotel Lord\, Warszawa Al. Krakowska 218\n \nProgram kursu:\n\n9.30 - 10.00
     Rejestracja uczestników10.00 - 11.30    Wykład cz. I11.30 - 11.45    P
 rzerwa kawowa11.45 - 13.15    Wykład cz. II13.15 - 14.00    Przerwa obiado
 wa14.00 - 15.30    Pokaz praktyczny15.30 - 16.00    Przerwa kawowo - techn
 iczna16.00 - 18.00    Warsztaty hands-on18.00 - 18.30    Test\, wręczenie 
 certyfikatów\, podsumowanie\n\nWarsztaty praktyczne zakładają wykonanie dw
 óch wypełnień w zębach akrylowych. Jednego klasy MOD i drugiego klasy I zg
 odnie z zasadami stomatologii biofunkcjonalnej. Zadaniem kursantów po wyko
 naniu uzupełnienia jest ich dopasowanie do funkcjonalnego zwarcia oraz opr
 acowanie powierzchni stycznej i okluzyjnej.\nGłówne założenia kursu:\n\n  
     jak prawidłowo i przewidywalnie pracować z koferdamem?\n      jak popr
 awnie zaplanować odbudowę z materiału kompozytowego?\n      zasady wykonan
 ia estetycznej i funkcjonalnej odbudowy kompozytowej\n      czym jest komp
 as okluzyjny i jak zastosować go w praktyce?\n      dopasowanie zęba w zgr
 yzie - krok po kroku\n      zasady pracy z ubytkiem II klasy\n      jak pr
 awidłowo odbudować mocny punkt styczny?\n      nawisy z materiału - jak ic
 h uniknąć\, jak je usunąć?\n      praca w powiększeniu - czy jest niezbędn
 a?\n      procedury polerowania wypełnienia\n      formówka częściowa\, kl
 in\, taśma teflonowa - tips and tricks!!!\n\nPo kursie każdy z uczestników
  będzie umiał wykonać biofunkcjonalne i estetyczne wypełnienie w zębach bo
 cznych. Nabędzie umiejętności prawidłowego odtworzenia punktu stycznego. P
 ozna bardzo zaawansowane zasady zakładania koferdamu\, pracy z taśmą teflo
 nową oraz klinami. Nabędzie również umiejętności wykonywania korekty okluz
 yjnej wypełnień w maksymalnym zaguzkowaniu oraz podczas ruchów bocznych i 
 ruchu doprzedniego niezbędnych dla zabezpieczenia wykonanych wypełnień prz
 ed uszkodzeniem podczas żucia.\n\nCena za kurs nie obejmuje noclegu. Nocle
 g należy zarezerwować indywidualnie w hotelu (tel. 22 574 20 00). Na hasło
  Zjazd Lekarzy Dentystów hotel udziela zniżki na noclegi.\nOpłatę za kurs 
 proszę wnieść na podstawie faktury proforma\, którą Państwo otrzymają po w
 ypełnieniu zgłoszenia. Konto\, na które należy wpłacić należność za kurs t
 o:\nSPS - Piotr Szymański numer: 31 1090 1870 0000 0001 3335 2731\nSzczegó
 łowych informacji udziela Aleksandra Kowalińska tel. +48 509 912 963  w go
 dz. 9:00-16:00.\n
DTSTART:20250830T093000Z
DTEND:20250830T183000Z
GEO:00;0
LOCATION:Hotel Lord\, Warszawa\, Al. Krakowska 214
ORGANIZER;CN=:prenumerata@spsmedia.pl
SEQUENCE:1
SUMMARY:Warsztat: Estetyczno-funkcjonalna odbudowa zębów bocznych metodą b
 ezpośrednią - edycja #3
TRANSP:OPAQUE
URL:https://www.szkolastomatologii.pl/historia-szkolen/77-odbudowa-zebow-bo
 cznych-08-25
END:VEVENT
END:VCALENDAR
