BEGIN:VCALENDAR
VERSION:2.0
PRODID:-//szkolastomatologii.pl//NONSGML kigkonsult.se iCalcreator 2.30.10/
 /
CALSCALE:GREGORIAN
METHOD:PUBLISH
UID:2040e096-2a4b-4fdd-9f6b-35e062d7b367
X-WR-CALNAME:iCagenda
X-WR-CALDESC:Event Management Extension for Joomla!
X-WR-RELCALID:3E26604A-50F4-4449-8B3E-E4F4932D05B5
X-WR-TIMEZONE:UTC
BEGIN:VTIMEZONE
TZID:UTC
END:VTIMEZONE
BEGIN:VEVENT
UID:f1fbae97-695b-4460-993a-73891ae8b261
DTSTAMP:20260420T111401Z
CATEGORIES:TERAPIA STAWÓW SSŻ
CLASS:PUBLIC
DESCRIPTION;ALTREP="CID:<FFFF__=0ABBE548DFE235B58f9e8a93d@coffeebean.com>":
 Prowadzący: lek. dent. Krzysztof Adamowicz\;\nCena: 7500 zł\;\nPunkty eduk
 acyjne: 14 pkt.\nMiejsce szkolenia: Grudziądz\, ul. Cz. Miłosza 5/1 (gabin
 et prowadzącego szkolenia)\n\n\n\n\nWarsztat praktyczny z pacjentem:\n\n\n
 aparaty i procedura stosowana w rotacjach głowy w prawo lewo i do przodu\n
 \n\nwywiad i badanie kliniczne\n\n\nanaliza badań obrazowych RTG boczne sz
 yi i RTG na ząb obrotnika oraz CBCT na dużym formacie\n\n\nustalenie planu
  leczenia\n\n\nprocedura kliniczna wykonania poszczególnych aparatów\n\n\n
 procedura prowadzenia pacjenta w trakcie w trakcie odrotowania głowy wg Ro
 cabado\n\n\nobsługa urządzenia T-scan\n\n\nobsługa urządzenia J5 do terapi
 i tens\n\n\nobsługa analogowego łuku twarzowego lub łuku wirtualnego axiop
 risa\n\n\n\n\n\nNa szkoleniu z pacjentem samodzielnie:\n\n\nprzygotujesz p
 acjenta do rejestracji pozycji terapeutycznej wykonując terapię tens\n\n\n
 wykonasz rejestrację do aparatu w rotacji głowy w prawo lub w lewo\n\n\nwy
 konasz rejestrację pozycji w protokole analogowo-cyfrowym używając analogo
 wego łuku twarzowego lub cyfrowego axioprisa\n\n\ndowiesz się w jakich prz
 ypadkach możesz otworzyć zgryz aparatem okluzyjnym i jak tego uniknąć\n\n
 \n\n\n\n\n\n\n\n\n\n\nProgram szkolenia:\nDzień Pierwszy:\n9.00-10.00 – sc
 hemat wywiadu i badanie kliniczne pacjenta na co zwracać uwagę\n10.00-11.0
 0 – przygotowanie pacjenta do rejestracji pozycji terapeutycznej – tens – 
 nauka obsługi aparatu – każdy uczestnik\n11.00-12.00 – omówienia badań obr
 azowych RTG i CBCT oraz nauka wykonywania RTG na ząb obrotnika i kręgosłup
 a szyjnego\n12.00-13.00 – rejestracja kontaktów za pomocą T-scan przed pro
 cedurą odrotowania na zębach własnych i aparacie – pokaz\n13.00-14.00 – pr
 ocedura rejestracji pozycji terapeutycznej – każdy uczestnik\n14.00-15.00 
 – przerwa obiadowa\n15.00-16.00 – skanowanie pozycji szczęk z kęsem – każd
 y uczestnik\n16.00-17.00 – rejestracja analogowym łukiem twarzowym oraz łu
 kiem axioprisa\nDzień Drugi :\n8.00-10.00 – podsumowanie procedur praktycz
 nych ze zwróceniem uwagi na najistotniejsze elementy\n10.00-12.00 – omówie
 nie zasad oceny badań obrazowych\n12.00-12.30 – przerwa\n12.30-16.00 – sam
 odzielna ocena badań obrazowych – niezbędne własne komputery z wgranym opr
 ogramowaniem microdicom\n\nCena nie obejmuje kosztów zakwaterowania – suge
 rowany hotel Ibis Grudziądz ul. Piłsudskiego 18. W cenie zwarto koszt sobo
 tniego obiadu.\nSzczegółowych informacji udziela Aleksandra Kowalińska tel
 . +48 509 912 963  w godz. 9:00-16:00.\n\n\n\n
DTSTART:20250920T090000Z
DTEND:20250921T160000Z
GEO:00;0
LOCATION:Grudziądz\, ul. Cz. Miłosza 5/1
ORGANIZER;CN=:prenumerata@spsmedia.pl
SEQUENCE:1
SUMMARY:Warsztat praktyczny z pacjentem – Leczenie pacjentów z dysfunkcją u
 kładu żucia – postępowanie w rotacjach głowy do przodu\, do tyłu\, w prawo
 \, w lewo
TRANSP:OPAQUE
URL:https://www.szkolastomatologii.pl/historia-szkolen/75-warsztat-praktycz
 ny-leczenie-pacjentow-z-dysfunkcja-ukladu-zucia-postepowanie-w-rotacjach-g
 lowy-do-przodu-do-tylu-w-prawo-w-lewo
END:VEVENT
END:VCALENDAR
