BEGIN:VCALENDAR
VERSION:2.0
PRODID:-//szkolastomatologii.pl//NONSGML kigkonsult.se iCalcreator 2.30.10/
 /
CALSCALE:GREGORIAN
METHOD:PUBLISH
UID:6a8f6961-6027-4a44-b4cb-61e6d987d1ef
X-WR-CALNAME:iCagenda
X-WR-CALDESC:Event Management Extension for Joomla!
X-WR-RELCALID:3E26604A-50F4-4449-8B3E-E4F4932D05B5
X-WR-TIMEZONE:UTC
BEGIN:VTIMEZONE
TZID:UTC
END:VTIMEZONE
BEGIN:VEVENT
UID:27ce1bfc-1113-4727-96b3-fcead5882b56
DTSTAMP:20260420T112241Z
CATEGORIES:PRACA Z POWIĘKSZENIEM
CLASS:PUBLIC
DESCRIPTION;ALTREP="CID:<FFFF__=0ABBE548DFE235B58f9e8a93d@coffeebean.com>":
 \nTemat: Pierwszy kontakt z powiększeniem zabiegowym w stomatologii - pods
 tawy pracy z mikroskopem i lupami zabiegowymi\nProwadzący: Cyprian Seliga
 \nCena: 750 zł\;\nPunkty edukacyjne: 6 pkt.\nGodziny zajęć: 10.00 - 17.30
 \nMiejsce: 91-174 Łódź\, ul. Romanowska 55E lok 2\n\nMikro Start: Pierwszy
  kontakt z powiększeniem zabiegowym w stomatologii - podstawy pracy z mikr
 oskopem i lupami zabiegowymi. Szkolenie teoretyczne oraz warsztat praktycz
 ny z wykorzystaniem lup zabiegowych.\nSzkolenie dedykowane lekarzom stomat
 ologom\, planującym wdrożyć do swojej praktyki lupy zabiegowe lub mikrosko
 p zabiegowy w zakresie podstawowym.\nCelem szkolenia Mikro Start jest wpro
 wadzenie uczestników w tematykę pracy w powiększeniu i przygotowanie do sa
 modzielnego wykorzystywania lup i mikroskopów zabiegowych w gabinecie stom
 atologicznym.\nPlan zajęć:\n10.00 – 11.30 Wykład teoretyczny „Podstawy pra
 cy w powiększeniu zabiegowym w stomatologii” (cz. 1)\n\nzastosowanie powię
 kszenia w stomatologii\nzależności optyczne\nspecyfika kontroli ostrości o
 brazu\nergonomia pracy w powiększeniu – korelacja: lekarz\, asysta\, urząd
 zenie\nopcje foto i wideo w mikroskopii zabiegowej\nkonstrukcja\, charakte
 rystyka i specyfika pracy z mikroskopem zabiegowym\nkonstrukcja\, charakte
 rystyka i specyfika pracy z lupami zabiegowymi\n\n11.30 – 12.00 przerwa ka
 wowa\n12.00 – 13.00  Wykład teoretyczny „Podstawy pracy w powiększeniu zab
 iegowym w stomatologii” (cz. 2)\n13.00 – 14.00 lunch\n14.00 – 17.30 Warszt
 at praktyczny – lupy zabiegowe (z krótkimi przerwami kawowymi uzależnionym
 i od indywidualnego toku pracy uczestników)\n\nindywidualny dobór lup (ind
 ywidualne badanie rozstawu oczu i dobór ogniskowej)\ntrening kontroli ostr
 ości obrazu (wg poznanych zasad optycznych)\ntreningu nawigacji w powiększ
 eniu w polu zabiegowym (praca z lusterkiem i zgłębnikiem oraz praca z lust
 erkiem i pilnikiem ręcznym\, kontrola ostrości obrazu w lusterku\, korelac
 ja różnych punktów pola zabiegowego z lusterkiem i zgłębnikiem)\npraktyczn
 e przedstawienie rożnych rozwiązań optycznych i konstrukcyjnych w lupach z
 abiegowych z dodatkowym oświetleniem\nMIKROSKOP ZABIEGOWY – podstawowe ust
 awienia\, poglądowa obserwacja sztucznego pola zabiegowe\, proste ćwiczeni
 a nawigacyjne (każdy uczestnik ok. 20 min)\n\n\nNa szkoleniu Mikro Start:
 \n\npoznasz budowę i specyfikę techniczną lup i mikroskopów zabiegowych dz
 ięki czemu będziesz mógł w samodzielnie obsługiwać urządzenia do pracy w p
 owiększeniu oraz będziesz w stanie określić swoje potrzeby sprzętowe i w p
 rzyszłości dokonać optymalnych decyzji zakupowych\;\npoznasz zasad pracy w
  powiększeniu oraz zależności optyczne umożliwiające samodzielną pracę z l
 upami zabiegowymi i mikroskopem zabiegowym w podstawowym zakresie\;\npozna
 sz zasady ergonomii pracy z mikroskopem i lupami zabiegowymi oraz sposoby 
 instalacji mikroskopów w gabinecie pozwalające na dobór optymalnych rozwią
 zań do swojej praktyki\;\nweźmiesz udział w praktycznych warsztatach pracy
  z lupami zabiegowymi obejmującymi indywidualny dobór optyki oraz podstawo
 wy trening nawigacji w powiększeniu w polu zabiegowym z wykorzystaniem lus
 terka stomatologicznego oraz narzędzi ręcznych\, dzięki czemu będziesz móg
 ł samodzielnie wykonywać zabiegi z wykorzystaniem lup stomatologicznych w 
 swoim gabinecie.\n\nKażdy uczestnik otrzymuje:\n\nautorskie kompendium wie
 dzy dotyczące pracy w powiększeniu\;\ncertyfikat ukończenia szkolenia.\n\n
 Możliwość wypożyczenia lup - po zakończeniu szkolenia\n\nwarunkiem wypożyc
 zenia lup jest wykonanie i przesłanie pomiaru\npomiary należy przesłać naj
 później 3 dni przed szkoleniem (instrukcja pomiarów przy użyciu aplikacji 
 Luxe by Optical ID)\n\n\nWykładowca: Cyprian Seliga\nOd 2005 roku związany
  z produkcją i sprzedażą urządzeń do pracy w powiększeniu. Autor i wykłado
 wca cyklu szkoleń dla studentów stomatologii MicroJUMP. Trener szkoleń gru
 powych i indywidualnych z pracy w powiększeniu w stomatologii. Autor specj
 alistycznych publikacji dotyczących urządzeń do pracy w powiększeniu i ich
  zastosowań. Twórca i współtwórca znanych brandów sprzętowych wykorzystywa
 nych w gabinetach stomatologicznych.\n\nPatronat: \nDental Machines - www.
 dentalmachines.pl\n\nOptical ID - www.opticalid.pl\n\n \nZapisy i informac
 je:\nAleksandra Kowalińska\, +48 509 912 963\, prenumerata@spsmedia.pl\nPŁ
 ATNOŚCI:\nProsimy kwotę za szkolenie wpłacić na konto:\n31 1090 1870 0000 
 0001 3335 2731\nSPS-Piotr Szymański\nZ. Modzelewskiego 67/4\n02-679 Warsza
 wa\n \nNa podstawie otrzymanej płatności otrzymają Państwo fakturę na mail
 a\, z którego nastąpiła rejestracja na szkolenie.\n\nCena za kurs nie obej
 muje noclegu. Nocleg należy zarezerwować indywidualnie w hotelu (tel. 22 5
 74 20 00). Na hasło Zjazd Lekarzy Dentystów hotel udziela zniżki na nocleg
 i.\n\nZwiastun szkolenia:\n\n
DTSTART:20250921T100000Z
DTEND:20250921T173000Z
GEO:+51.8064;+19.323519
LOCATION:91-174 Łódź\, ul. Romanowska 55E lok 2
ORGANIZER;CN=:prenumerata@spsmedia.pl
SEQUENCE:1
SUMMARY:Mikro Start - Pierwszy kontakt z powiększeniem zabiegowym w stomato
 logii - podstawy pracy z mikroskopem i lupami zabiegowymi  - edycja #5
TRANSP:OPAQUE
URL:https://www.szkolastomatologii.pl/historia-szkolen/74-mikro-start-pierw
 szy
END:VEVENT
END:VCALENDAR
