BEGIN:VCALENDAR
VERSION:2.0
PRODID:-//szkolastomatologii.pl//NONSGML kigkonsult.se iCalcreator 2.30.10/
 /
CALSCALE:GREGORIAN
METHOD:PUBLISH
UID:9cc09dd7-e4b4-492b-8bc5-631a3ed8a7bc
X-WR-CALNAME:iCagenda
X-WR-CALDESC:Event Management Extension for Joomla!
X-WR-RELCALID:3E26604A-50F4-4449-8B3E-E4F4932D05B5
X-WR-TIMEZONE:UTC
BEGIN:VTIMEZONE
TZID:UTC
END:VTIMEZONE
BEGIN:VEVENT
UID:815b0117-59bf-4b1a-be05-d4f3470faa0d
DTSTAMP:20260420T113719Z
CATEGORIES:CYFROWA STOMATOLOGIA 3D
CLASS:PUBLIC
DESCRIPTION;ALTREP="CID:<FFFF__=0ABBE548DFE235B58f9e8a93d@coffeebean.com>":
 Temat: Dental Digital Start - Wprowadzenie do stomatologii cyfrowej. Szkol
 enie z warsztatami praktycznymi\nProwadzący:  mgr Kacper Włodarek – druk 3
 D\; Cyprian Seliga\; Łukasz Markiewicz - skanery wewnątrzustne\; lic. tech
 . mgr Przemysław Grabowski - projektowanie CAD\nCena: 990 zł\nMiejsce: 91-
 174 Łódź\, ul. Romanowska 55E lok 2\nPunkty edu: 7 pkt.\nOpis szkolenia:\n
 Przepływ pracy między skanerem wewnątrzustnym\, projektem CAD i drukarką 3
 D w obrębie jednej praktyki dentystycznej.\nIdeą szkolenia DDS jest przygo
 towanie lekarz stomatologów do obsługi podstawowych protokołów cyfrowych w
  obrębie jednej praktyki dentystycznej\, do poziomu samodzielnego uzyskiwa
 nia wybranych prac protetycznych\, wytwarzanych w technologii addytywnej.
 \nInformacje oraz umiejętności zdobyte na szkoleniu DDS pozwolą uczestniko
 m w kontrolowany i świadomy sposób implementować do swoich praktyk oraz ob
 sługiwać dostępne rozwiązania cyfrowe w zoptymalizowanym przepływie pracy.
 \nSzkolenie DDS jest dedykowane lekarzom\, którzy chcą wprowadzić lub wpro
 wadzili do swoich praktyk technologie skanowania wewnątrzustnego i/lub sto
 matologicznego druku 3D i chcą zdobyć podstawową wiedzę oraz umiejętności 
 do obsługi wymienionych protokołów cyfrowych.\n \nPlan zajęć:\n10.00 – 10.
 15 Wprowadzenie do tematyki szkolenia \n10.15 – 11.15 Moduł I (część 1) - 
 Skanowanie wewnątrzustne\n\nwprowadzenie do technologii\nzastosowanie skan
 erów wewnątrzustnych\nobsługa skanera i oprogramowania – wytyczne do efekt
 ywnej pracy\, protokoły skanowania\, bezpieczeństwo\nczynniki decydujące o
  wyborze optymalnego skanera\n\n11.15 – 11.30 Przerwa kawowa\n11.30 – 13.0
 0 Moduł I (część 2) - Skanowanie wewnątrzustne\nWARSZTAT PRAKTYCZNY\n\nsam
 odzielne skanowanie wewnątrzustne i obsługa oprogramowania\npraca na model
 ach ze skanerem wewnątrzustnym (jeden skaner na dwóch uczestników)\n\n13.3
 0 – 14.00 Lunch\n14.00 – 15.30  Moduł II – Projektowanie protetyczne jako 
 element przepływu pracy między skanem\, a drukiem 3D \n\nwprowadzenie do s
 tomatologicznego projektowania CAD\ndostępne programy CAD do samodzielnego
  projektowania\nprzedstawienie rozwiązań modeli biznesowych uwzględniający
 ch autonomię protetyczną gabinetu stomatologicznego\nWARSZTAT PRKTYCZNY - 
 projektowania przykładowego uzupełnienia protetycznego przez uczestników (
 jeden komputer na dwóch uczestników)\n\n15.30 – 15.45 Przerwa kawowa\n15.4
 5 – 18.30 Moduł III – Stomatologiczny druk 3D jako element protokołów cyfr
 owych\n\nwprowadzenie do technologii\nwspółczesne zastosowanie druku 3D be
 zpośrednio w gabinecie stomatologicznym\nmożliwości\, opcje\, warunki\, og
 raniczenia\nBHP druku 3D i stosowania żywic w gabinecie stomatologiocznycz
 nym\nWARSZTAT PRAKTYCZNEGO DRUKU 3D – interaktywny pokaz samodzielnego dru
 ku 3D jako finalnego elementu w cyfrowym przepływie pracy w gabinecie stom
 atologicznym (z udziałem uczestników szkolenia)\n\nNa szkoleniu Dental Dig
 ital Start\n\npoznasz najnowsze technologie cyfrowe obejmujące skanowanie 
 wewnątrzustne\, zasady projektowania CAD/CAM i stomatologicznego druku 3D
 \nnauczysz się praktycznej obsługi skanera wewnątrzustnego i procesu druku
  3D w zakresie podstawowym\notrzymasz odpowiednią wiedzę i przeszkolenie p
 ozwalające na samodzielną obsługę cyfrowego przepływu pracy między skanere
 m wewnąrzustnym\, projektowaniem CAD i dentystycznym drukiem 3D\notrzymasz
  „know how” zastosowania projektowania w przepływie pracy między skanerem\
 , a drukarką (dostępne rozwiązania oprogramowania\, projektowanie w gabine
 cie lub projektowanie na zewnątrz\, wstęp do samodzielnego projektowania)
 \notrzymasz wiedzę z zakresu praktycznego wykorzystywania cyfrowych techno
 logii w swojej praktyki oraz porady pozwalające na dokonanie świadomych i 
 optymalnych inwestycji\ndowiesz się jak usamodzielnić swoją praktykę i ogr
 aniczyć transfer prac protetycznych do zewnętrznych laboratoriów oszczędza
 jąc tym samym czas i finanse\n\nKażdy uczestnik otrzymuje\n\nkompendium wi
 edzy obejmujące tematykę szkolenia\ncertyfikat ukończenia szkolenia\n\nPro
 wadzący:\nLic. tech. dent. Przemysław Grabowski – projektowanie CAD/CAM\, 
 druk 3D\nMgr Kacper Włodarek – Druk 3D\nŁukasz Markiewicz - skanery wewnąt
 rzustne\nWsparcie merytoryczne:\nCyprian Seliga\nPatronat: \nDental Machin
 es - www.dentalmachines.pl\n\nSyntegre – www.syntegre.com\n \n\nZapisy i i
 nformacje:\nAleksandra Kowalińska\, +48 509 912 963\, prenumerata@spsmedia
 .pl\nPŁATNOŚCI:\nProsimy kwotę za szkolenie wpłacić na konto:\n31 1090 187
 0 0000 0001 3335 2731\nSPS-Piotr Szymański\nZ. Modzelewskiego 67/4\n02-679
  Warszawa\n \nNa podstawie otrzymanej płatności otrzymają Państwo fakturę 
 na maila\, z którego nastąpiła rejestracja na szkolenie.\n\nCena za kurs n
 ie obejmuje noclegu. Nocleg należy zarezerwować indywidualnie w hotelu (te
 l. 22 574 20 00). Na hasło Zjazd Lekarzy Dentystów hotel udziela zniżki na
  noclegi.
DTSTART:20250526T100000Z
DTEND:20250526T183000Z
GEO:+51.772823;+19.478485
LOCATION:91-174 Łódź\, ul. Romanowska 55E lok 2
ORGANIZER;CN=:prenumerata@spsmedia.pl
SEQUENCE:1
SUMMARY:Dental Digital Start - Wprowadzenie do stomatologii cyfrowej. Szkol
 enie z warsztatami praktycznymi - edycja #4
TRANSP:OPAQUE
URL:https://www.szkolastomatologii.pl/historia-szkolen/70-dental-digital-st
 art-lodz
END:VEVENT
END:VCALENDAR
