BEGIN:VCALENDAR
VERSION:2.0
PRODID:-//szkolastomatologii.pl//NONSGML kigkonsult.se iCalcreator 2.30.10/
 /
CALSCALE:GREGORIAN
METHOD:PUBLISH
UID:d8cefa1a-5868-4489-b115-1dff4b170cd4
X-WR-CALNAME:iCagenda
X-WR-CALDESC:Event Management Extension for Joomla!
X-WR-RELCALID:3E26604A-50F4-4449-8B3E-E4F4932D05B5
X-WR-TIMEZONE:UTC
BEGIN:VTIMEZONE
TZID:UTC
END:VTIMEZONE
BEGIN:VEVENT
UID:916b84a6-724d-44e9-a00b-490e5b7f3dae
DTSTAMP:20260420T113542Z
CATEGORIES:RTG
CLASS:PUBLIC
DESCRIPTION;ALTREP="CID:<FFFF__=0ABBE548DFE235B58f9e8a93d@coffeebean.com>":
 Temat: Nowoczesna rentgenodiagnostyka w stomatologii – jak prawidłowo wyko
 nywać i interpretować zdjęcia wewnątrzustne? Kiedy sięgnąć po CBCT?\nWykła
 dowca: dr n. med. Anna Michalska\nPunkty edukacyjne: 8 pkt\;\nCena: 690 zł
 .\nTermin: 26 kwietnia 2025 r. g. 9:00 – 18:00\nMiejsce: Warszawa\, Centru
 m Szkoleniowe Vatech Europe\, ul. Poleczki 35\, budynek Amsterdam\, główna
  recepcja\, III piętro. \nCel kursu: Doskonalenie umiejętności pozycjonowa
 nia pacjenta oraz eliminacja najczęstszych błędów podczas wykonywania zdję
 ć wewnątrzustnych. Rozszerzenie wiedzy o możliwości\, jakie daje obrazowan
 ie CBCT w codziennej praktyce stomatologicznej.\nHarmonogram szkolenia:\n0
 9:00 – 11:00 (2h) Wykład 1\n\nPodstawy techniczne rentgenodiagnostyki w st
 omatologii:\n\nRodzaje aparatów RTG punktowych i ich parametry.\n\nPorówna
 nie technik obrazowania: cyfrowej i analogowej.\n\nNormy prawne dotyczące 
 instalacji i użytkowania aparatu RTG w gabinecie.\n\nZasady i techniki wyk
 onywania zdjęć wewnątrzustnych:\n\nPrzegląd projekcji stosowanych w radiol
 ogii stomatologicznej.\nOmówienie dwóch kluczowych technik: kąta prostego 
 i izometrii Cieszyńskiego.\n\nWarsztaty praktyczne – pozycjonowanie pacjen
 ta:\n\nZdjęcia skrzydłowo-zgryzowe i zgryzowe.\nModyfikacje projekcji i ic
 h zastosowanie kliniczne.\n\n\n11:00 – 11:15 Przerwa\n11:15 – 13:15 (2h) W
 ykład 2\n\n\nDoskonalenie umiejętności praktycznych w zakresie wykonywania
  zdjęć wewnątrzustnych.\n\nQuiz – analiza ciekawych przypadków.\n\n13:15 –
  13:45 Przerwa (lunch)\n13:45 – 15:45 (2h) Wykład 3\n\nNajczęstsze błędy i
  artefakty na zdjęciach RTG:\n\nJak je rozpoznawać i eliminować?\nPrzykład
 y kliniczne i analiza przypadków.\n\n\n15:45 – 16:00 Przerwa\n16:00 – 18:0
 0 (2h) Wykład 4\n\nKiedy warto sięgnąć po obrazowanie CBCT?\n\nZastosowani
 e tomografii stożkowej w codziennej praktyce.\nPrzykłady kliniczne – inter
 pretacja obrazów 3D.\n\n\nSzkolenie pozwoli uczestnikom nie tylko udoskona
 lić technikę wykonywania zdjęć wewnątrzustnych\, ale także lepiej zrozumie
 ć\, kiedy warto skorzystać z nowoczesnych metod obrazowania\, takich jak C
 BCT.\n\nZapisy i informacje:\nAleksandra Kowalińska\, +48 509 912 963\, pr
 enumerata@spsmedia.pl\nPŁATNOŚCI:\nProsimy kwotę za szkolenie wpłacić na k
 onto:\n31 1090 1870 0000 0001 3335 2731\nSPS-Piotr Szymański\nZ. Modzelews
 kiego 67/4\n02-679 Warszawa\n \nNa podstawie otrzymanej płatności otrzymaj
 ą Państwo fakturę na maila\, z którego nastąpiła rejestracja na szkolenie.
 \n\nCena za kurs nie obejmuje noclegu. Nocleg należy zarezerwować indywidu
 alnie w hotelu (tel. 22 574 20 00). Na hasło Zjazd Lekarzy Dentystów hotel
  udziela zniżki na noclegi.\n
DTSTART:20250426T090000Z
DTEND:20250426T180000Z
GEO:00;0
LOCATION:Warszawa\, Centrum Szkoleniowe Vatech Europe\, ul. Poleczki 35\, b
 udynek Amsterdam\, główna recepcja\, III piętro.
ORGANIZER;CN=:prenumerata@spsmedia.pl
SEQUENCE:1
SUMMARY:Nowoczesna rentgenodiagnostyka w stomatologii – jak prawidłowo wyko
 nywać i interpretować zdjęcia wewnątrzustne? Kiedy sięgnąć po CBCT?
TRANSP:OPAQUE
URL:https://www.szkolastomatologii.pl/historia-szkolen/68-nowoczesne-rtg
END:VEVENT
END:VCALENDAR
