BEGIN:VCALENDAR
VERSION:2.0
PRODID:-//szkolastomatologii.pl//NONSGML kigkonsult.se iCalcreator 2.30.10/
 /
CALSCALE:GREGORIAN
METHOD:PUBLISH
UID:c98bc158-c22e-4a3a-bd11-380bfc528c1d
X-WR-CALNAME:iCagenda
X-WR-CALDESC:Event Management Extension for Joomla!
X-WR-RELCALID:3E26604A-50F4-4449-8B3E-E4F4932D05B5
X-WR-TIMEZONE:UTC
BEGIN:VTIMEZONE
TZID:UTC
END:VTIMEZONE
BEGIN:VEVENT
UID:24a5ec09-2653-41bf-bdb0-fdc10d942b12
DTSTAMP:20260420T114452Z
CATEGORIES:College of Dental Medicine
CLASS:PUBLIC
DESCRIPTION;ALTREP="CID:<FFFF__=0ABBE548DFE235B58f9e8a93d@coffeebean.com>":
 Tematyka: DOKUMENTACJA FOTOGRAFICZNA W STOMATOLOGII\nMiejsce zajęć: ul. Ko
 łodzieja 8\, 40-749 Katowice \nTerminy zajęć - 5 dni zajęć: 02.04.2025 – 0
 4.04.2025 oraz  10.04.2025 – 11.04.2025\n\nW College of Dental Medicine st
 awiamy na najnowocześniejsze rozwiązania. Dokumentacja fotograficzna to je
 den z elementów\, który pozwala nam zapewnić Ci kompleksową i skuteczną op
 iekę stomatologiczną.\n\n\n\nZAKRES SZKOLENIA\n\nWybór odpowiedniego apara
 tu\, obiektywu i lampy\,\nPodstawowe zasady dobrej fotografii\,\nKluczowe 
 parametry ekspozycji\,\nWprowadzenie światła błyskowego\,\nOmówienie proto
 kołów zdjęciowych\,\nJak kadrować i ostrzyć żeby uzyskać najlepsze i powta
 rzalne rezultaty\,\nTechniki fotografii wewnątrzustnej\,\nFotografia portr
 etowa w stomatologii\,\nFotografia „produktowa” czyli jak fotografować mod
 ele\, korony itp.\,\nPodstawowa obróbka i archiwizacja zdjęć\,\nPodstawy p
 rawne.\n\nPRZEBIEG WARSZTATÓW\n\nWprowadzenie do podstawowych zasad rejest
 racji obrazu.\nDobór odpowiedniego sprzętu. fotograficznego do pracy w gab
 inecie.\nJak wykonać prawidłową dokumentację fotograficzną.\nNajczęstsze b
 łędy w fotografii wewnątrzustnej i jak ich uniknąć.\nFotografia wewnątrzus
 tna w praktyce.\nDlaczego zdjęcia portretowe są również istotne w pracy st
 omatologa.\nFotografia „produktowa” w stomatologii.\nFotografowanie prac p
 rotetycznych.\nObróbka i archiwizacja zdjęć.\nIndywidualne konsultacje.\n
 \n\nSTRUKTURA SZKOLENIA\n\n 2 moduły szkoleniowe (3+2)\nGrupy maksymalnie 
 6 osobowe\n5 dni zajęć\nPraktyka z modelami\, pacjentami\nSprzęt fotografi
 czny dla każdego uczestnika \n\n\n
DTSTART:20250402T150000Z
DTEND:20250402T170000Z
GEO:00;0
LOCATION:ul. Kołodzieja 8\, 40-749 Katowice
ORGANIZER;CN=:prenumerata@spsmedia.pl
SEQUENCE:1
SUMMARY:DOKUMENTACJA FOTOGRAFICZNA W STOMATOLOGII - I EDYCJA – KWIECIEŃ 202
 5
TRANSP:OPAQUE
URL:https://www.szkolastomatologii.pl/historia-szkolen/64-dokumentacja-foto
 graficzna-w-stomatologii
END:VEVENT
END:VCALENDAR
