BEGIN:VCALENDAR
VERSION:2.0
PRODID:-//szkolastomatologii.pl//NONSGML kigkonsult.se iCalcreator 2.30.10/
 /
CALSCALE:GREGORIAN
METHOD:PUBLISH
UID:332a71d6-4a55-4490-a42f-c6fdbf2d9fbc
X-WR-CALNAME:iCagenda
X-WR-CALDESC:Event Management Extension for Joomla!
X-WR-RELCALID:3E26604A-50F4-4449-8B3E-E4F4932D05B5
X-WR-TIMEZONE:UTC
BEGIN:VTIMEZONE
TZID:UTC
END:VTIMEZONE
BEGIN:VEVENT
UID:4389ad42-b40d-4a79-b3ac-522baeacb642
DTSTAMP:20260420T114513Z
CATEGORIES:OKLUZJA
CLASS:PUBLIC
DESCRIPTION;ALTREP="CID:<FFFF__=0ABBE548DFE235B58f9e8a93d@coffeebean.com>":
 Temat: Bruksizm\, dysfunkcje ssż\, parafunkcje – co je wywołuje i jak unik
 ać błędów w diagnozie i leczeniu?\nProwadzący: dr n. med. Michał Paulo\nPu
 nkty edukacyjne: 2 pkt.\;\nCena: 330 zł\nMiejsce i termin: Targi Krakdent 
 2025 - sala seminaryjna Lwów B\, 12 kwietnia godzina 12.00-14.00 (sobota)
 \n\nProgram szkolenia:\n1. Wpływ zaburzeń hormonalnych na pojawianie się b
 ólu przewlekłego.\n2. Choroby układu ruchowego uniemożliwiające przewidywa
 lne i stabilne leczenie.\n3. Choroby wpływające na przebieg leczenia.\n4. 
 Modyfikacja leczenia zaburzeń czynnościowych narządu żucia u pacjentów zgł
 aszających się z różnymi chorobami ogólnoustrojowymi.\n5. Różne rodzaje pa
 rafunkcji\, jakie ślady pozostawiają w jamie ustnej.\n \n\nOpłatę za kurs 
 proszę wnieść na podstawie faktury proforma\, którą Państwo otrzymają po w
 ypełnieniu zgłoszenia. Konto\, na które należy wpłacić należność za kurs t
 o:\nSPS - Piotr Szymański numer: 31 1090 1870 0000 0001 3335 2731\nSzczegó
 łowych informacji udziela Aleksandra Kowalińska tel. +48 509 912 963  w go
 dz. 9:00-16:00.\nCena za kurs nie obejmuje noclegu. 
DTSTART:20250412T120000Z
DTEND:20250412T140000Z
GEO:+50.059639;+20.009161
LOCATION:ul. Galicyjska 9\; 31-586 Kraków
ORGANIZER;CN=:prenumerata@spsmedia.pl
SEQUENCE:1
SUMMARY:Bruksizm\, dysfunkcje ssż\, parafunkcje – co je wywołuje i jak unik
 ać błędów w diagnozie i leczeniu?
TRANSP:OPAQUE
URL:https://www.szkolastomatologii.pl/historia-szkolen/62-wplyw-chorob-ogol
 noustrojowych-na-dysfunkcje-narzadu-zucia
END:VEVENT
END:VCALENDAR
