BEGIN:VCALENDAR
VERSION:2.0
PRODID:-//szkolastomatologii.pl//NONSGML kigkonsult.se iCalcreator 2.30.10/
 /
CALSCALE:GREGORIAN
METHOD:PUBLISH
UID:d33b7e45-1a16-46cd-8248-4289716fa7c7
X-WR-CALNAME:iCagenda
X-WR-CALDESC:Event Management Extension for Joomla!
X-WR-RELCALID:3E26604A-50F4-4449-8B3E-E4F4932D05B5
X-WR-TIMEZONE:UTC
BEGIN:VTIMEZONE
TZID:UTC
END:VTIMEZONE
BEGIN:VEVENT
UID:51aa1af4-7785-47b6-abab-698e128e04b9
DTSTAMP:20260420T114604Z
CATEGORIES:STOMATOLOGIA DZIECIĘCA
CLASS:PUBLIC
DESCRIPTION;ALTREP="CID:<FFFF__=0ABBE548DFE235B58f9e8a93d@coffeebean.com>":
 Temat: Leczenie stomatologiczno-funkcjonalne dzieci w ujęciu interdyscypli
 narnym. Diagnostyka. Praca zespołowa lekarz dentysta – logopeda.\nProwadzą
 ce: lek. dent. Adrianna Rosochacka-Zawierucha\, logopeda Katarzyna Lewsza
 \nCena: 290 zł\,\nPunkty edukacyjne: 2 pkt.\nTermin: 10 kwietnia 2025 r. (
 czwartek) godz. 10.00 - 12.00\nMiejsce: Wykład podczas targów Krakdent\, s
 ala Lwów A. ul. Galicyjska 9\; 31-586 Kraków\n\nSzkolenie skierowane przed
 e wszystkim do lekarzy dentystów zajmujących się dziećmi. \nCel szkolenia 
 współpraca stomatologa z logopedą\nPlan szkolenia: \n1. Jak wykonać pomiar
 y łuków zębowych?2. Kiedy odesłać pacjenta do ortodonty?3. Kto najpierw lo
 gopeda czy ortodonta?4. Funkcje prymarne a rozwój twarzoczaszki (CBCT).5. 
 Ankyloglosja w kontekście leczenia ortodontycznego - ciąć czy nie ciąć oto
  jest pytanie? Wykładowcy:\nlek. dent. Adrianna Rosochacka-ZawieruchaMaste
 r of Science in Orthodontics. Ukończyła studia stomatologiczne na Wydziale
  Lekarsko-Dentystycznym Warszawskiego Uniwersytetu Medycznego oraz studia 
 specjalizacyjne Master of Science in Orthodontics na austriackim uniwersyt
 ecie Danube Private University in Krems. Jako aktywny członek Polskiego To
 warzystwa Ortodontycznego stale poszerza swoją wiedzę na szkoleniach i kur
 sach prowadzonych przez wybitnych wykładowców polskich i zagranicznych. Za
 jmuje się leczeniem ortodontycznym dorosłych i dzieci.\nmgr Katarzyna Lews
 zaLogopeda | Mioterapeuta | OligofrenopedagogUkończyła studia na kierunku 
 logopedia ogólna i kliniczna na Uniwersytecie Warszawskim\, podyplomowe st
 udia z zakresu oligofrenopedagogiki oraz podyplomowe studia na kierunku ed
 ukacja przedszkolna i wczesnoszkolna. Nieustannie rozwija swój warsztat na
  licznych szkoleniach\, a dodatkowo studiuje fizjoterapię w Wyższej Szkole
  Rehabilitacji w Warszawie. Zajmuje się terapią miofunkcjonalną\, przywrac
 a język i mięśnie układu orofacjalnego do właściwych funkcji żucia\, oddyc
 hania i połykania. Pracuje z pacjentami\, którzy są przed\, w trakcie lub 
 po leczeniu ortodontycznym wspomagając leczenie i jego efekty\, z pacjenta
 mi z zaburzeniami stawów skroniowo-żuchwowych (piski uszne\, szumy uszne\,
  trzaski w stawach podczas jedzenia\, zmęczenie mięśni żujących podczas je
 dzenia). Pracuje także z pacjentami z wadami wymowy usprawniając mięśnie b
 iorące udział w artykulacji.\n\nCena za kurs nie obejmuje noclegu. Nocleg 
 należy zarezerwować indywidualnie.\nOpłatę za kurs proszę wnieść na podsta
 wie faktury proforma\, którą Państwo otrzymają po wypełnieniu zgłoszenia. 
 Konto\, na które należy wpłacić należność za kurs to:\nSPS - Piotr Szymańs
 ki numer: 31 1090 1870 0000 0001 3335 2731\nSzczegółowych informacji udzie
 la Aleksandra Kowalińska tel. +48 509 912 963  w godz. 9:00-16:00.
DTSTART:20250410T100000Z
DTEND:20250410T120000Z
GEO:+50.059734;+20.009449
LOCATION:ul. Galicyjska 9\; 31-586 Kraków
ORGANIZER;CN=:prenumerata@spsmedia.pl
SEQUENCE:1
SUMMARY:Leczenie stomatologiczno-funkcjonalne dzieci w ujęciu interdyscypli
 narnym. Diagnostyka. Praca zespołowa lekarz dentysta – logopeda.
TRANSP:OPAQUE
URL:https://www.szkolastomatologii.pl/historia-szkolen/61-leczenie-stomatol
 ogiczno-funkcjonalne-dzieci-w-ujeciu-interdyscyplinarnym-diagnostyka-praca
 -zespolowa-lekarz-dentysta-logopeda
END:VEVENT
END:VCALENDAR
