BEGIN:VCALENDAR
VERSION:2.0
PRODID:-//szkolastomatologii.pl//NONSGML kigkonsult.se iCalcreator 2.30.10/
 /
CALSCALE:GREGORIAN
METHOD:PUBLISH
UID:83ef7041-654e-47dd-b9ec-bd36b6bba5e1
X-WR-CALNAME:iCagenda
X-WR-CALDESC:Event Management Extension for Joomla!
X-WR-RELCALID:3E26604A-50F4-4449-8B3E-E4F4932D05B5
X-WR-TIMEZONE:UTC
BEGIN:VTIMEZONE
TZID:UTC
END:VTIMEZONE
BEGIN:VEVENT
UID:ee44950d-b086-4b2c-a6b3-4f1a2765a80b
DTSTAMP:20260420T114345Z
CATEGORIES:CYFROWA STOMATOLOGIA 3D
CLASS:PUBLIC
DESCRIPTION;ALTREP="CID:<FFFF__=0ABBE548DFE235B58f9e8a93d@coffeebean.com>":
 Temat: Cyfrowa implantoprotetyka 2.0 - Dołącz do grona profesjonalistów i 
 odkryj najnowsze techniki oraz rozwiązania w dziedzinie cyfrowej protetyki
 .\nNasze szkolenie skupia się na rozbudowanej tematyce zaawansowanych impl
 antoprotetycznych rozwiązań\, z naciskiem na zastosowanie nowoczesnych ska
 nerów wewnątrzustnych.\nTermin: Sobota – Niedziela 8-9 luty 2025\nMiejsce:
  Lublin\, Al. Warszawska 53 (Laboratorium CEREClab)\nKoszt szkolenia: 2900
  zł\nProwadzący: prof. dr hab. n. med. Jan Pietruski\, dr n. med. Marcin K
 ędra\, lek. dent. Wojciech Kędra\, tech. dent. Jacek Maj\, tech. dent. Naz
 ar Kaliapuh\, tech. dent. Bartosz Pecyna\, Aleksandra Tobiańska\n\nDzień 1
  - 8 lutego 2025 \n8:45 Przywitanie uczestników\n\nRejestracja\nKrótkie wp
 rowadzenie\n\n9:00 Skaner wewnątrzustny w cyfrowej implantoprotetyce\n\nCy
 frowy wycisk - jak okiełznać skaner wewnątrzustny. Wskazówki dotyczące\n\n
 skanowania poszczególnymi modelami.\n\nJak powinien wyglądać prawidłowo wy
 konany skan? Kiedy mogę wysłać cyfrowy\n\nwycisk do laboratorium?\n\nProce
 dury skanowania dla różnych typów prac:\n\n- Pojedyncze prace na implantac
 h\n- Belki\n- Prace na multiunitach\n- Prace kombinowane\n- Prace All-on-4
  / All-on-6\n10:30 Materiałoznawstwo w cyfrowej protetyce\n\nMateriały do 
 frezowania w CAD/CAM - jak właściwie wybrać?\n\n(Właściwości biomechaniczn
 e w odniesieniu do właściwości odtwarzanych tkanek).\n\nZasady projektowan
 ia prac protetycznych z uwzględnieniem materiałoznawstwa.\nNOWOŚĆ: Adhezja
  w cyrkonie\, czyli cyrkonowe licówki są już możliwe.\n\n(LiSi Connect) – 
 innowacja od Aidite.\n11:45 Komponenty w cyfrowej implantoprotetyce\n\nRod
 zaje łączników: jak dobrać właściwe spośród standardowych\, indywidualnych
 \, pośrednich i hybrydowych?\nPrzedstawienie systemu DAS.\nOmówienie syste
 mów do skanowania Reference Scanbody oraz OP Scanbody.\nWykonywanie skompl
 ikowanych prac protetycznych z wykorzystaniem najnowszych rozwiązań Multiu
 nit DAS.\nOmówienie systemu do skanowania DAS all-on-X\, z uwzględnieniem 
 Peek PINS oraz CAPS System.\nOmówienie przypadków z wykorzystaniem systemu
  Peek PINS.\n\n14:00 Lunch\n\nPrzerwa obiadowa\n\n15:00 Cyfrowy workflow w
  implantoprotetyce: komunikacja lekarz – technik\n\nKluczowe aspekty współ
 pracy.\nNajczęściej popełniane błędy.\nAnaliza rzeczywistych przypadków kl
 inicznych.\n\n16:00 Poprawna dokumentacja fotograficzna w kontekście lecze
 nia protetycznego\n\nTechniki i sprzęt do dokumentacji fotograficznej (apa
 rat vs smartfon).\nZnaczenie dokumentacji w procesie leczenia implantoprot
 etycznego.\nPraktyczne wskazówki.\nProjektowanie uśmiechu w dobie cyfryzac
 ji (Smile design/Digital waxup/Mockup) - Przegląd akcesoriów\, dzięki któr
 ym bez dodatkowych kosztów możemy zaplanować uśmiech\, który zaakceptuje p
 acjent.\n\n20:00 Kolacja\nDzień 2 - 9 lutego 2025 r.\n9:00 Jak przeszedłem
  z analogu na cyfrową stomatologię\n\nDoświadczenia i refleksje prof. Jana
  Pietruskiego na temat transformacji z analogu do cyfry.\n\n9:45 Okluzja w
  implantoprotetyce\n\nStabilność okluzji u pacjentów rehabilitowanych impl
 antoprotetycznie.\nObserwacje długoczasowe i kontrola stabilności okluzji 
 na wizytach kontrolnych.\nOcena ryzyka leczenia implantoprotetycznego.\nPr
 ofil wyłaniania: definicja i znaczenie.\nPowielanie profilu wyłaniania z c
 zęści pod śluzówkowej.\n\n11:00 Tkanki miękkie w cyfrowej implantoprotetyc
 e\n\nWpływ poszczególnych łącznikow implantologicznych na tkanki.\nMateria
 ły Cad/Cam w implantoprotetyce i ich wplyw na tkanki miękkie.\n\n12:00 Nak
 ładki ortodontyczne w procesie leczenia przedprotetycznego\n\nCzy protetyc
 y mogą wykonywać prostą ortodoncje nakładkową?\nZastosowanie nakładek orto
 dontycznych.\nStudium przypadków.\n\n13:00 Lunch\n\nPrzerwa obiadowa\n\n14
 :00 Dyskusja\n\nSesja pytań i odpowiedzi z wykładowcami.\nOmówienie proble
 mów i wyzwań z praktyki uczestników.\nWymiana doświadczeń.\n\n16:00 Zakońc
 zenie\n\nPodsumowanie szkolenia.\nWręczenie certyfikatów uczestnictwa.\n\n
 \nDodatkowe Informacje\n\nKompleksowe szkolenie: Szkolenie obejmuje zarówn
 o teorię\, jak i praktyczne zajęcia.\nSesja pytań i odpowiedzi: Uczestnicy
  mogą przygotować zestaw do 3 pytań\,\n\nna które prowadzący odpowiedzą po
 dczas szkolenia.\n\nTestowanie skanerów: Uczestnicy będą mieli możliwość p
 rzetestowania 6 różnych\n\nmodeli skanerów:\n\nSIRONA PRIMESCAN\nMEDIT i70
 0\nOMNICAM 2.0\nOMNICAM 1.0 Update\nHERON OVO\nCAMEO ELEGANT 3\nAidite Rap
 id 3\n\n \nPrezent dla uczestników\nKażdy uczestnik otrzyma zestaw: 2 x Sc
 anbody pod dedykowany system\, 1 x śrubokręt oraz pudełko do późniejszej r
 ozbudowy - a to wszystko od KTI Implants.\nKażdy uczestnik\, który jeszcze
  nie współpracuje z CEREClab\, otrzyma na miesiąc skaner wewnątrzustny do 
 przetestowania - Aidite Rapid 3 lub Heron OVO.\n \n 
DTSTART:20250208T090000Z
DTEND:20250209T160000Z
GEO:00;0
LOCATION:Lublin\, Al. Warszawska 53
ORGANIZER;CN=:prenumerata@spsmedia.pl
SEQUENCE:1
SUMMARY:Cyfrowa implantoprotetyka 2.0
TRANSP:OPAQUE
URL:https://www.szkolastomatologii.pl/historia-szkolen/58-cyfrowa-implantop
 rotetyka
END:VEVENT
END:VCALENDAR
