BEGIN:VCALENDAR
VERSION:2.0
PRODID:-//szkolastomatologii.pl//NONSGML kigkonsult.se iCalcreator 2.30.10/
 /
CALSCALE:GREGORIAN
METHOD:PUBLISH
UID:3cbb5367-dcb5-452e-8539-bf15d1321a02
X-WR-CALNAME:iCagenda
X-WR-CALDESC:Event Management Extension for Joomla!
X-WR-RELCALID:3E26604A-50F4-4449-8B3E-E4F4932D05B5
X-WR-TIMEZONE:UTC
BEGIN:VTIMEZONE
TZID:UTC
END:VTIMEZONE
BEGIN:VEVENT
UID:611644ff-b03e-4cd8-9273-c4941ad9a500
DTSTAMP:20260420T114230Z
CATEGORIES:CYFROWA STOMATOLOGIA 3D
CLASS:PUBLIC
DESCRIPTION;ALTREP="CID:<FFFF__=0ABBE548DFE235B58f9e8a93d@coffeebean.com>":
 Temat: Cyfrowe intro - Cyfrowa protetyka dla kaÅ¼dego\nProwadzÄ…cy: Â dr n. m
 ed. Marcin KÄ™dra\, lek. dent. Wojciech KÄ™dra\; tech. dent. Nazar Kaliapuh\
 , Aleksandra TobiaÅ„ska\nKoszt szkolenia: 1500 zÅ‚\nData: Sobota\, 18 styczn
 ia 2025\nMiejsce: Lublin\, Al. Warszawska 53 (Laboratorium CEREClab)\nÂ \nK
 urs wprowadzajÄ…cy w cyfrowÄ… stomatologiÄ™ dla tych\, ktÃ³rzy dopiero zaczÄ™li
  przygodÄ™ z cyfrowÄ… protetykÄ… oraz dla tych ktÃ³rzy siÄ™ jeszcze wahajÄ….\nCz
 y to juÅ¼ czas na cyfrowÄ… rewolucjÄ™?\n\nHarmonogram\n8:30 Przywitanie uczes
 tnikÃ³w\n\nKrÃ³tkie wprowadzenie i zapoznanie z programem szkolenia.\n\n8:45
  PorÃ³wnanie: protetyka cyfrowa a analogowa\n\nWprowadzenie do cyfrowej pro
 tetyki.\nJak skaner wewnÄ…trzustny i system CAD/CAM zmieniÅ‚ praktykÄ™ stomat
 ologicznÄ…?\nOmÃ³wienie kluczowych rÃ³Å¼nic miÄ™dzy protetykÄ… cyfrowÄ… a analogo
 wÄ….\nKorzyÅ›ci i wyzwania zwiÄ…zane z cyfrowÄ… protetykÄ….\nCzy technologia CA
 D/CAM bardzo zmienia nawyki lekarza z dÅ‚ugoletnim staÅ¼em?\n\n10:00 Skanery
  wewnÄ…trzustne\n\nCyfrowy wycisk - Jak okieÅ‚znaÄ‡ skaner wewnÄ…trzustny? Por
 Ã³wnanie najpopularniejszych skanerÃ³w wewnÄ…trzustnych pod wzglÄ™dem ergonomi
 i i ich dokÅ‚adnoÅ›ci. Skanery laptopowe vs. konsole. (Primescan\, 3Disc OVO
 \, Aidite Rapid 3\, Medit i700\, Omnicam\, Cameo-Shining)\nOmÃ³wienie rÃ³Å¼ni
 c technologicznych i zastosowaÅ„ klinicznych.\nPrzykÅ‚adowe skanowanie rÃ³Å¼ny
 ch rodzajÃ³w prac / Tips&amp\;Tricks.\n\n11:00 Cyfrowy Workflow\n\nProcedur
 a poprawnego skanowania: Jak wyglÄ…da odpowiedni skan? Kiedy mogÄ™\n\njuÅ¼ wy
 sÅ‚aÄ‡ cyfrowy wycisk do laboratorium?\n\nProtokÃ³Å‚ duch (BioCopy).\nStomatol
 ogia cyfrowa a okluzja.\nProtokÃ³Å‚ skanowania pod rozlegÅ‚e odbudowy protety
 czne.\nKomunikacja lekarz â€“ technik: W drodze do cyfrowej doskonaÅ‚oÅ›ci - p
 rotokÃ³Å‚\n\nudanej komunikacji cyfrowy dentysta - cyfrowy technik na miarÄ™ 
 XXI wieku.\n\nOmÃ³wienie przypadkÃ³w: Analiza rzeczywistych przypadkÃ³w klini
 cznych.\n\n12:00 MateriaÅ‚oznawstwo w cyfrowej protetyce\n\nWprowadzenie do
  materiaÅ‚Ã³w stosowanych w cyfrowej protetyce.\nWÅ‚aÅ›ciwoÅ›ci i zastosowania 
 rÃ³Å¼nych materiaÅ‚Ã³w.\nNowoÅ›ci i innowacje w materiaÅ‚oznawstwie.\nNOWOÅšÄ†: Ad
 hezja w cyrkonie\, czyli wykonywanie licÃ³wek z cyrkonu jest juÅ¼ moÅ¼liwe.\n
 \nÂ 13:30 Lunch\n\nPrzerwa obiadowa\n\n14:00 WstÄ™p do cyfrowej implanto â€“ p
 rotetyki\n\nPodstawy cyfrowej implanto-protetyki.\nScanbody w cyfrowej imp
 lanto-protetyce.\nPraktyczne wskazÃ³wki.\n\n15:30 Poprawna dokumentacja fot
 ograficzna w kontekÅ›cie leczenia protetycznego\n\nTechniki i sprzÄ™t do dok
 umentacji fotograficznej (aparat vs smartfon).\nZnaczenie dokumentacji w p
 rocesie leczenia.\nPraktyczne wskazÃ³wki.\n\n16:30 NakÅ‚adki ortodontyczne w
  procesie leczenia przedprotetycznego\n\nCzy protetycy mogÄ… wykonywaÄ‡ pros
 tÄ… ortodoncje nakÅ‚adkowÄ…?\nZastosowanie nakÅ‚adek ortodontycznych.\nStudium
  przypadkÃ³w.\n\n17:30 Dyskusja\n\nSesja pytaÅ„ i odpowiedzi z wykÅ‚adowcami.
 \nOmÃ³wienie problemÃ³w i wyzwaÅ„ z praktyki uczestnikÃ³w.\nWymiana doÅ›wiadcze
 Å„.\n\n19:00 ZakoÅ„czenie\n\nPodsumowanie szkolenia.\nWrÄ™czenie certyfikatÃ³w
  uczestnictwa.\n\n\nDodatkowe Informacje\n\nKompleksowe szkolenie: Szkolen
 ie obejmuje zarÃ³wno teoriÄ™\, jak i praktyczne zajÄ™cia.\nSesja pytaÅ„ i odpo
 wiedzi: Uczestnicy mogÄ… przygotowaÄ‡ zestaw do 3 pytaÅ„\,\n\nna ktÃ³re prowad
 zÄ…cy odpowiedzÄ… podczas szkolenia.\n\nTestowanie skanerÃ³w: Uczestnicy bÄ™dÄ…
  mieli moÅ¼liwoÅ›Ä‡ przetestowania 6 rÃ³Å¼nych\n\nmodeli skanerÃ³w:\nðŸ”¹ PRIMESCAN
 \nðnðŸ Omnicam 2.0\nðŸ”¹ RAPID 3 ELEGANT\nðŸ”¸ CAMEO SHINING\nðŸ”¹ MEDIT i700\nðŸ”¸ Heron OVO
 \nÂ \nPrezent dla uczestnikÃ³w\nKaÅ¼dy uczestnik\, ktÃ³ry jeszcze nie wspÃ³Å‚pra
 cuje z CEREClab\, otrzyma na miesiÄ…c skaner wewnÄ…trzustny do przetestowani
 a - Aidite Rapid 3 lub Heron OVO.
DTSTART:20250118T083000Z
DTEND:20250118T190000Z
GEO:+51.255775;+22.518368
LOCATION:Lublin\, Al. Warszawska 53
ORGANIZER;CN=:prenumerata@spsmedia.pl
SEQUENCE:1
SUMMARY:Cyfrowe intro - Cyfrowa protetyka dla kaÅ¼dego
TRANSP:OPAQUE
URL:https://www.szkolastomatologii.pl/historia-szkolen/57-cyfrowe-intro
END:VEVENT
END:VCALENDAR
