BEGIN:VCALENDAR
VERSION:2.0
PRODID:-//szkolastomatologii.pl//NONSGML kigkonsult.se iCalcreator 2.30.10/
 /
CALSCALE:GREGORIAN
METHOD:PUBLISH
UID:61557bdb-4cb6-4269-82da-d93926754024
X-WR-CALNAME:iCagenda
X-WR-CALDESC:Event Management Extension for Joomla!
X-WR-RELCALID:3E26604A-50F4-4449-8B3E-E4F4932D05B5
X-WR-TIMEZONE:UTC
BEGIN:VTIMEZONE
TZID:UTC
END:VTIMEZONE
BEGIN:VEVENT
UID:425ff184-f1cb-4cb1-ad19-831646d95956
DTSTAMP:20260420T114257Z
CATEGORIES:RTG
CLASS:PUBLIC
DESCRIPTION;ALTREP="CID:<FFFF__=0ABBE548DFE235B58f9e8a93d@coffeebean.com>":
 Temat: Zakres wykorzystania tomografii komputerowej w praktyce endodontycz
 nej.\nProwadzący: lek. dent. Stanisław JalowskiCena: 1390 złTermin: 7 grud
 nia 2024 r. godz. 9.30 - 18.00Punkty edukacyjne: 7 pkt.\n\nSzczegółowy pla
 n szkolenia\n9.30 - 11.00 Wykład 1Wskazania do zastosowanie CBCT w podstaw
 owych procedurach stomatologicznych\n\nstomatologia zachowawcza\,\nendodon
 cja.\n\n11.00 - 11.15 Przerwa kawowa\n11.15 - 13.15. Wykład 2\nMożliwości 
 oraz ograniczenia obrazowania 2D i 3D – kiedy i jakie badanie należy zleci
 ć?\nWymogi prawne opisu 2D i 3D.\n13.15 - 14.00 Lunch\n14.00 - 15.30 Wykła
 d 3\nPrzypadki kliniczne i porównanie opcji 2D i 3D\n\nodmiany anatomiczne
  zębów stałych\,\nzasady przeglądania badania\,\nocena wypełnienia kanału\
 ,\nocena zmian okołowierzchołkowych\,\nocena gojenia zmian okołowierzchołk
 owych.\n\n15.30 - 15.45 Przerwa kawowa\n15.45 - 18.00 Wykład 4\nOpisy pato
 logii.\nWspólna analiza wielu przypadków klinicznych. Uczestnicy szkolenia
  proszenie są o przywiezienie zanimizowanych obrazów w formacie DICOM na p
 endrivach\, do wspólnej analizy obrazów radiologicznych przez uczestników 
 szkolenia.\n\nCena za kurs nie obejmuje noclegu. Nocleg należy zarezerwowa
 ć indywidualnie w hotelu (tel. 22 574 20 00). Na hasło Zjazd Lekarzy Denty
 stów hotel udziela zniżki na noclegi.\nOpłatę za kurs proszę wnieść na pod
 stawie faktury proforma\, którą Państwo otrzymają po wypełnieniu zgłoszeni
 a. Konto\, na które należy wpłacić należność za kurs to:\nSPS - Piotr Szym
 ański numer: 31 1090 1870 0000 0001 3335 2731\nSzczegółowych informacji ud
 ziela Aleksandra Kowalińska tel. +48 509 912 963  w godz. 9:00-16:00.
DTSTART:20241207T103800Z
DTEND:20241207T180000Z
GEO:00;0
LOCATION:
ORGANIZER:
SEQUENCE:1
SUMMARY:Zakres wykorzystania tomografii komputerowej w praktyce endodontycz
 nej
TRANSP:OPAQUE
URL:https://www.szkolastomatologii.pl/historia-szkolen/56-tomografia-i-endo
 doncja
END:VEVENT
END:VCALENDAR
