BEGIN:VCALENDAR
VERSION:2.0
PRODID:-//szkolastomatologii.pl//NONSGML kigkonsult.se iCalcreator 2.30.10/
 /
CALSCALE:GREGORIAN
METHOD:PUBLISH
UID:be562107-b281-4163-872a-f5ebdb6b4db1
X-WR-CALNAME:iCagenda
X-WR-CALDESC:Event Management Extension for Joomla!
X-WR-RELCALID:3E26604A-50F4-4449-8B3E-E4F4932D05B5
X-WR-TIMEZONE:UTC
BEGIN:VTIMEZONE
TZID:UTC
END:VTIMEZONE
BEGIN:VEVENT
UID:6ebb9935-ea9a-47b7-9193-58147c8e2a89
DTSTAMP:20260420T114426Z
CATEGORIES:ODBUDOWA ESTETYCZNA
CLASS:PUBLIC
DESCRIPTION;ALTREP="CID:<FFFF__=0ABBE548DFE235B58f9e8a93d@coffeebean.com>":
 \nProwadzący: lek. dent. Krzysztof Polanowski\nTermin: Niedziela\, 8 grudn
 ia 2024 r. 10.00 - 18.00 Kurs jednodniowy\nMiejsce:  Hotel Lord\, Warszawa
 \, Al. Krakowska 218\nPunkty edukacyjne: 7 pkt.\nCena kursu: 1220 zł\nSzcz
 egółowy plan zajęć\n9.30 – 10.00 Rejestracja \, poranna kawa\n10.00 – 12.3
 0 Część wykładowa: \nTechniki adhezyjne i wykorzystanie materiałów kompozy
 towych \, glasionomerowych w rekonstrukcjach typu bezpośredniego\n\nzasady
  adhezji\nzastosowanie systemów adhezyjnych\nwykorzystanie materiałów \, t
 echnik\, sprzętu  zwiększających siłę adhezji\nmateriały kompozytowe nanoh
 ybrydowe\, mikrofilne i hybrydowe – przeznaczenie \, wady i zalety\nzasady
  wykonywania licowania techniką bezpośrednią\nrola kompozytów typu flow\, 
 opaquery i podbarwiacze\nzastosowanie silanu\n\n12. 30 - 13.30 Lunch\n13.3
 0 - 18.00 Część warsztatowa\nLicowanie techniką bezpośrednią\n\ninstrument
 arium\nzasady preparacji\ntechnika warstwowa z zastosowaniem kompozytów hy
 brydowych/nano/microfilnych\nsposoby użycia opaquerów i podbarwiaczy\nprze
 jście z koloru A4 na A1 w zakresie 1 mm materiału kryjącego\ntechnika pole
 rowania\n\n\nSzczegółowych informacji udziela Aleksandra Kowalińska tel. +
 48 509 912 963  w godz. 9:00-16:00.\nCena za kurs nie obejmuje noclegu. No
 cleg należy zarezerwować indywidualnie w hotelu (tel. 22 574 20 00). Na ha
 sło Zjazd Lekarzy Dentystów hotel udziela zniżki na noclegi.\nOpłatę za ku
 rs proszę wnieść na podstawie faktury proforma\, którą Państwo otrzymają p
 o wypełnieniu zgłoszenia. Konto\, na które należy wpłacić należność za kur
 s to:\nSPS - Piotr Szymański numer: 31 1090 1870 0000 0001 3335 2731\n\nPa
 rtner szkolenia:\n\n\n 
DTSTART:20241208T090000Z
DTEND:20241208T180000Z
GEO:+52.186707;+20.955709
LOCATION:Hotel Lord\, Warszawa\, Al. Krakowska 218
ORGANIZER;CN=:prenumerata@spsmedia.pl
SEQUENCE:1
SUMMARY:Warsztat: Licowanie techniką bezpośrednią
TRANSP:OPAQUE
URL:https://www.szkolastomatologii.pl/historia-szkolen/54-warsztat-licowani
 e-technika-bezposrednia-2
END:VEVENT
END:VCALENDAR
