BEGIN:VCALENDAR
VERSION:2.0
PRODID:-//szkolastomatologii.pl//NONSGML kigkonsult.se iCalcreator 2.30.10/
 /
CALSCALE:GREGORIAN
METHOD:PUBLISH
UID:bb8cdf5e-e16a-4038-92b6-a748b68ba190
X-WR-CALNAME:iCagenda
X-WR-CALDESC:Event Management Extension for Joomla!
X-WR-RELCALID:3E26604A-50F4-4449-8B3E-E4F4932D05B5
X-WR-TIMEZONE:UTC
BEGIN:VTIMEZONE
TZID:UTC
END:VTIMEZONE
BEGIN:VEVENT
UID:5f47d807-23ac-4a1d-9ee5-063b6b96b661
DTSTAMP:20260420T113555Z
CATEGORIES:TERAPIA STAWÓW SSŻ
CLASS:PUBLIC
DESCRIPTION;ALTREP="CID:<FFFF__=0ABBE548DFE235B58f9e8a93d@coffeebean.com>":
 Temat:  Szynoterapia w koncepcji Rocabado – zasady współpracy z fizjoterap
 eutą główne założenia koncepcji\nProwadzący: lek. dent. Krzysztof Adamowic
 z\;\nCena 310 zł\,\nPunkty edukacyjne: 2 pkt.\nTermin: 12 kwietnia 2025 r.
  (sobota)\; godz. 15.00 - 17.00\nMiejsce: Krakdent\, sala Lwów C. ul. Gali
 cyjska 9\; 31-586 Kraków\n\nPoruszane tematy:\n\n\nRotacja głowy – co to t
 akiego i jakie mogą być konsekwencje\n\n\nPraca stawów ssż w rotacjach gło
 wy\n\n\nAparat Rocabado do mobilizacji ssż\n\n\nAparat Rocabado do leczeni
 a rotacji dotylnej głowy\n\n\nAparat typu Fast link do precyzyjnego leczen
 ia asymetrii w każdym zakresie\n\n\nWspółpraca z fizjoterapeutą – skojarzo
 ne leczenie rotacji głowy\n\n\nMetody monitorowania postępów leczenia\n\n
 \nZasady analizy RTG w przypadkach pacjentów z podejrzeniem rotacji\n\n\nS
 tabilność czaszkowo-kręgowa i czaszkowo-żuchwowa                          
                                                                           
                         \n\n\n\nCena za kurs nie obejmuje noclegu. Nocleg 
 należy zarezerwować indywidualnie.\nOpłatę za kurs proszę wnieść na podsta
 wie faktury proforma\, którą Państwo otrzymają po wypełnieniu zgłoszenia. 
 Konto\, na które należy wpłacić należność za kurs to:\nSPS - Piotr Szymańs
 ki numer: 31 1090 1870 0000 0001 3335 2731\nSzczegółowych informacji udzie
 la Aleksandra Kowalińska tel. +48 509 912 963  w godz. 9:00-16:00.
DTSTART:20250412T150000Z
DTEND:20250412T170000Z
GEO:+50.059734;+20.009449
LOCATION:ul. Galicyjska 9\; 31-586 Kraków
ORGANIZER;CN=:prenumerata@spsmedia.pl
SEQUENCE:1
SUMMARY:Szynoterapia w koncepcji Rocabado – zasady współpracy z fizjoterape
 utą główne założenia koncepcji
TRANSP:OPAQUE
URL:https://www.szkolastomatologii.pl/historia-szkolen/53-rocabado-krakdent
 -2025
END:VEVENT
END:VCALENDAR
