BEGIN:VCALENDAR
VERSION:2.0
PRODID:-//szkolastomatologii.pl//NONSGML kigkonsult.se iCalcreator 2.30.10/
 /
CALSCALE:GREGORIAN
METHOD:PUBLISH
UID:213bab5c-f482-4ec8-907b-fd873c314e08
X-WR-CALNAME:iCagenda
X-WR-CALDESC:Event Management Extension for Joomla!
X-WR-RELCALID:3E26604A-50F4-4449-8B3E-E4F4932D05B5
X-WR-TIMEZONE:UTC
BEGIN:VTIMEZONE
TZID:UTC
END:VTIMEZONE
BEGIN:VEVENT
UID:c8a80ae0-848b-4283-b14d-5b066f0fe4a8
DTSTAMP:20260420T114236Z
CATEGORIES:LECZENIE NAKŁADKAMI
CLASS:PUBLIC
DESCRIPTION;ALTREP="CID:<FFFF__=0ABBE548DFE235B58f9e8a93d@coffeebean.com>":
 Wykładowca: dr n. med. Agnieszka Czechumska\; \nCena: 2090 zł\; \nPunkty e
 dukacyjne: 6 pkt. \n\nPlan kursu:\n10.00-11.30 Część 1\nWybrane rodzaje le
 czenia nakładkami osób dorosłych\n\n\nLeczenie przedprotetyczne\nLeczenie 
 przedimplantologiczne\nLeczenie pacjentów z chorobami przyzębia\nLeczenie 
 pacjentów w wieku emerytalnym\nLeczenie pacjentów z licznymi brakami zębow
 ymi\n\n\nWprowadzenie do ortodoncji nakładkowej osób dorosłych.\nZasady bi
 omechaniki jakie należy przestrzegać podczas leczenia nakładkami pacjentów
  periodontologicznych lub z rekonstrukcjami protetycznymi\, w tym z implan
 tami.\nWskazania i przeciwskazania do leczenia nakładkami pacjentów dorosł
 ych.\nSelekcja pacjentów dorosłych\, by nie rozpocząć leczenia ponad swoje
  możliwości.\n11.30 - 11.45 Przerwa kawowa\n11.45- 13.15 Część 2\nJak przy
 śpieszyć i ułatwić pracę nakładkami ortodontycznymi?\nCyfrowe plany leczen
 ia \n\nDelegowanie analizy cyfrowego planu leczenia. Dlaczego warto? Jak w
 ygląda konsultacja online lub pisemna?\nDlaczego nie należy akceptować pie
 rwszego planu leczenia\, bez szczegółowego sprawdzenia?\nCo zrobić\, jeśli
  leczenie przebiega niezgodnie z oczekiwaniami? Jakimi możliwościami modyf
 ikacji planu leczenia dysponuje lekarz?\n\nAttachmenty \n\n\nPokaz nakleja
 nia attachmentów \nRola attachmentów w leczeniu nakładkami\nRodzaje techni
 k i materiałów stosowanych do zakładania attachamentów by nie odpadały z z
 ębów.\n\n\nStripping \n\n\nPokaz narzędzi i omówienie cen oraz przydatnośc
 i \nRola strippingu w leczeniu nakładkami\n\n\n13.15 -14.00 Przerwa - Lunc
 h\n14.00 -15.30 Część 3\nPrzebieg wizyt podczas leczenia nakładkami\n\n\nP
 ierwsza wizyta - oddanie nakładek\, wykonanie strippingu i naklejenie atta
 chamentów\nNadzorowanie realizacji ekspresji klinicznej cyfrowego planu le
 czenia\nEdukacja pacjenta\nWizyty kontrolne planowane\nAwarie w leczeniu n
 akładkami\n\n\n15.30– 15.45 Przerwa kawowa\n15.45 – 17.30 Część 4\nZakończ
 enie leczenia nakładkami\n\n\nNakładki dodatkowe\nNakładki do finishingu\n
 Zasady retencji wyników leczenia\nPlanowanie rekonstrukcji implantoprotety
 cznych po leczeniu nakładkami\nDyskusja – pytania i odpowiedzi\n\n\n\n„Szk
 olenie „Alignery dla dorosłych” obejmuje wprowadzenie i uzupełnienie wiedz
 y z zakresu leczenia przedprotetycznego i przedimplantologicznego pacjentó
 w dorosłych. Na wykładach omawiane będą bardzo szczegółowo informacje na t
 emat selekcji pacjentów dorosłych i geriatrycznych do minimalnie inwazyjne
 go leczenia nakładkami. Przeanalizujemy leczenie nakładkami osób dorosłych
  od wizyty konsultacyjnej\, po tworzenie realistycznego cyfrowego planu le
 czenia aż do zasad zakończenia leczenia.\nNa szkolenie zaproszeni są wszys
 cy początkujący „nakładkowcy” każdej marki nakładkowej dostępnej w Polsce.
  Wiele korzyści uzyskać mogą lekarze\, którzy są w trakcie lub wyleczyli m
 niej niż 10 pierwszych swoich pacjentów. Opowiem o awariach i problemach w
  trakcie leczenia nakładkami\, a co najważniejsze wytłumaczę jakie są na n
 ie rozwiązania. Wiele miejsca poświęcone będzie zasadą ułatwienia i przysp
 ieszenia pracy nakładkami\, by mieć mniej stresu i więcej czasu na relaks.
 \nPrzewiduję dużo czasu na rozmowy na temat konkretnych waszych klinicznyc
 h pytań. Z doświadczenia wiem\, że na tego typu szkolenia przychodzą denty
 ści którzy mają pytania ale nie mają gdzie uzyskać odpowiedzi. Zatem zapra
 szam na szkolenie.”\ndr n. med. Agnieszka Czechumska\n\nO wykładowcy\nDr n
 . med. Agnieszka Czechumska to pasjonat nowinek technologicznych w stomato
 logii. Redaktor naczelna witryny DentystaRadzi.pl.\nPowoływana na biegłego
  sądowego w sprawach stomatologii. Od 15 lat zafascynowana małoinwazyjnymi
  metodami leczenia\, w tym leczenia przezroczystymi nakładkami. Certyfikow
 any lekarz kilku światowych firm nakładkowych. Z doświadczeniem pracy w kr
 aju i za granicą. Od 5 lat pomaga dentystą zrozumieć biomechanikę i zasady
  pracy alignerami. Prowadzi szkolenia stacjonarne i online dla kilku firm 
 nakładkowych i indywidualnych dentystów. Autor aktualnego cyklu artykułów 
 poświęconych wprowadzeniu do leczenia nakładkami przez stomatologów ogólny
 ch\, publikowanych w Nowym Gabinecie Stomatologicznym.\n 
DTSTART:20241208T100000Z
DTEND:20241208T173000Z
GEO:+52.186707;+20.955727
LOCATION:Hotel Lord\, Warszawa\, Al. Krakowska 218
ORGANIZER;CN=:prenumerata@spsmedia.pl
SEQUENCE:1
SUMMARY:Leczenie nakładkami pacjentów dorosłych „Alignery dla dorosłych” - 
 edycja #2
TRANSP:OPAQUE
URL:https://www.szkolastomatologii.pl/historia-szkolen/52-alignery-dla-doro
 slych
END:VEVENT
END:VCALENDAR
