BEGIN:VCALENDAR
VERSION:2.0
PRODID:-//szkolastomatologii.pl//NONSGML kigkonsult.se iCalcreator 2.30.10/
 /
CALSCALE:GREGORIAN
METHOD:PUBLISH
UID:0f6b443a-4c99-4a8f-82bd-cad3051ed52d
X-WR-CALNAME:iCagenda
X-WR-CALDESC:Event Management Extension for Joomla!
X-WR-RELCALID:3E26604A-50F4-4449-8B3E-E4F4932D05B5
X-WR-TIMEZONE:UTC
BEGIN:VTIMEZONE
TZID:UTC
END:VTIMEZONE
BEGIN:VEVENT
UID:20dea1b3-0ad6-4cb1-ba6a-e5a574df4dd8
DTSTAMP:20260420T113831Z
CATEGORIES:SZKOLENIE NA KADAWERACH
CLASS:PUBLIC
DESCRIPTION;ALTREP="CID:<FFFF__=0ABBE548DFE235B58f9e8a93d@coffeebean.com>":
 Temat: Plastyka wędzidełka języka w leczeniu zespołowym - praktyczny kurs 
 kadawerowy.\nTermin: 12 maja 2025\, Warszawa\nAdres: Centrum Edukacji Medy
 cznej - budynek Mera Park Wawer\, wejście hol B\, ul. Bysławska 84\, 04-99
 3 Warszawa\nWykładowcy: dr n. med. Michał Szałwiński\, lek. dent. Magdalen
 a Szałwińska\, mgr Katarzyna Lewsza\,  mgr Natalia Kojder\nCena szkolenia:
  4800 zł. Punkty edukacyjne: 8 pkt\n\n\nCelem kursu jest przedstawienie sc
 hematu postepowania zespołowego w diagnostyce i leczeniu ankyloglosji.\n 
 \nWykładowcy obecni są przez całe szkolenie wspólnie komentując przypadki 
 i odpowiadając na pytania uczestników. Zajęcia w Labie prowadzi dr Michał 
 Szałwiński.\n09:00 - 11:00  mgr Katarzyna Lewsza (LOGOPEDIA)\n\nOcena funk
 cji prymarnych – oddychanie\, żucie\, połykanie i pozycja spoczynkowa języ
 ka (tor oddechowy\, szerokość nozdrzy a jakość oddechu\, żucie jednostronn
 e vs żucie obustronne\, połykanie z ułożeniem masy języka w okolicy dziąse
 ł górnego łuku zębowego\, omówienie prawidłowej pozycji spoczynkowej język
 a w kontekście ankyloglosji).\nDiagnoza miofunkcjonalna ze szczególnym uwz
 ględnieniem funkcji prymarnych.\nKwalifikacja do zabiegu plastyki wędzideł
 ka języka.\nPrzygotowanie Pacjenta do zabiegu frenulotomii.\nRola komunika
 cji między logopedą\, chirurgiem i fizjoterapeutą w kontekście plastyki wę
 dzidełka.\nRehabilitacja Pacjenta po zabiegu frenulotomii. Studium kilkorg
 a przypadków Pacjentów zakwalifikowanych do zabiegu frenulotomii (przedsta
 wienie postawionej diagnozy\, dokumentacja zdjęciowa przed i po zabiegu fr
 enulotomii).\nTerapia prawidłowej funkcji połykania i pozycji spoczynkowej
  języka po zabiegu frenulotomii.\nCele i formy pracy miofunkcjonalnej logo
 pedy z Pacjentem przygotowywanym do operacji ortognatycznych lub po operac
 jach\, z Pacjentem przed\, w trakcie lub po zakończonym leczeniu ortodonty
 cznym oraz z Pacjentem skierowanym przez fizjoterapeutę.\n\n11:00 - 11:15 
 – przerwa kawowa\n11:15 - 13:15 mgr Natalia Kojder (FIZJOTERAPIA STOMATOLO
 GICZNA) .\n\nRola fizjoterapeuty w przygotowaniu pacjenta do zabiegu frenu
 lotomii.\nKorelacja postawy\, odcinka szyjnego kręgosłupa i stawów skronio
 wo-żuchwowych z funkcją języka. \nWspółpraca z logopedą i chirurgiem – kom
 unikacja. \nPrzygotowanie fizjoterapeutyczne pacjenta do zabiegu frenuloto
 mii. \nPostępowanie fizjoterapeutyczne po zabiegu frenulotomii – możliwe n
 astępstwa zabiegu w ciele pacjenta.\n\n13:15 - 13:45 – przerwa obiadowa\n1
 3:45 - 18:15 Zajęcia w labie dr n. med. Michał Szałwiński\, lek. dent. Mag
 dalena Szałwińska (CHIRURGIA SZCZĘKOWO-TWARZOWA\, ORTODONCJA) .\n\nAnatomi
 a obszaru jamy ustnej i języka\nTechnika plastyki wędzidełka języka\nRola 
 języka w kształtowaniu układu stomatognatycznego\nPrzygotowanie i prowadze
 nie pacjenta najczęstsze powikłania i postępowanie.\nDyssekcja preparatu n
 ieutrwalonego (Lab)\n\n18:15 - 18:30 Zakończenie szkolenia.\n             
                                                                           
                                                                           
                    \n\nWykładowcy:\ndr n. med. Michał Szałwiński – kierown
 ik naukowy szkolenia chirurg szczękowo-twarzowy\, anatom\, wykładowca na k
 ursach o tematyce: anatomia\, implantologia i stawy skroniowo-żuchwowe.\nA
 bsolwent Akademii Medycznej w Warszawie\, gdzie uzyskał dyplom lekarza sto
 matologa a następnie dyplom lekarza medycyny. W 2007 r. z wynikiem bardzo 
 dobrym otrzymał tytuł specjalisty chirurgii szczękowo-twarzowej. Ukończył 
 podyplomowe studia Prawa Medycznego\, Bioetyki i Socjologii Medycyny na Un
 iwersytecie Warszawskim. W 2009 r. uzyskał z wyróżnieniem tytuł doktora na
 uk medycznych. Zajmuje się implantologią stomatologiczną. Poza Kliniką jes
 t zatrudniony w Klinice Chirurgii Czaszkowo Szczękowo-Twarzowej Chirurgii 
 Jamy Ustnej i Implantologii IS WUM. Od roku 2011 do 2016 zatrudniony jako 
 starszy asystent w Instytucie Matki i Dziecka w Warszawie. Pracuje jako Ad
 iunkt w Zakładzie Anatomii Prawidłowej i Klinicznej CB WUM. Członek towarz
 ystw: PTCHJUiCHSZ-TW\, OSIS\, EOS\, EACMFS.\nhttps://szalwinscy.pl/nasz-ze
 spol/\nlek stom. Magdalena Szałwińskalekarz dentysta\, specjalista ortodon
 cji\, wykładowca na kursach o tematyce stawów skroniowo-żuchwowych.\nAbsol
 wentka Akademii Medycznej w Warszawie\, gdzie studiowała na Oddziale Lekar
 sko-Dentystycznym i na I Wydziale Lekarskim. Od 2009 r. pracuje w Zakładzi
 e Ortodoncji Warszawskiego Uniwersytetu Medycznego. Nieustannie poszerza s
 woją wiedzę i umiejętności w trakcie licznych szkoleń\, seminariów i kongr
 esów z dziedziny ortodoncji w kraju i zagranicą. Jest członkiem Sekcji Ort
 odoncji i Ortopedii Szczękowej Polskiego Towarzystwa Stomatologicznego (PT
 S)\, Członkiem Polskiego Towarzystwa Ortodontycznego (PTO)\, Europejskiego
  Towarzystwa Ortodontycznego (EOS) oraz Europejskiego Towarzystwa Ds. Młod
 zieńczego Idiopatycznego Zapalenia Stawów Skroniowo-Żuchwowych. Zajmuje si
 ę leczeniem ortodontycznym dzieci\, młodzieży i dorosłych. Jest dyplomowan
 ym lekarzem Invisalign. \nhttps://szalwinscy.pl/nasz-zespol/\nmgr Katarzyn
 a LewszaLogopeda\, mioterapeuta\, oligofrenopedagog. Ukończyła studia na k
 ierunku logopedia ogólna i kliniczna na Uniwersytecie Warszawskim\, podypl
 omowe studia z zakresu oligofrenopedagogiki oraz podyplomowe studia na kie
 runku edukacja przedszkolna i wczesnoszkolna. Obecnie studiuje fizjoterapi
 ę w Wyższej Szkole Rehabilitacji w Warszawie. Zajmuje się terapią miofunkc
 jonalną (przywracanie języka i mięśni układu orofacjalnego do właściwych f
 unkcji żucia\, oddychania i połykania). Na co dzień pracuje z pacjentami\,
  którzy są przed\, w trakcie lub po leczeniu ortodontycznym wspomagając le
 czenie i jego efekty\; z pacjentami z zaburzeniami stawów skroniowo-żuchwo
 wych oraz pacjentami z wadami wymowy usprawniając mięśnie biorące udział w
  artykulacji.\nhttps://logopedalewsza.pl/\n \nmgr Natalia Kojder  Absolwen
 tka studiów licencjackich na Uniwersytecie Rzeszowskim i magisterskich na 
 kierunku Fizjoterapia na Wydziale Rehabilitacji Akademii Wychowania Fizycz
 nego w Warszawie. We współpracy z logopedami oraz stomatologami przygotowu
 je pacjentów do leczenia ortodontycznego\, przebudowy zgryzu czy operacji 
 ortognatycznych. Na co dzień pracuje również z pacjentami z wadami postawy
 \, prowadząc diagnostykę oraz terapię korekcyjną. Interesuje się korelacją
  między postawą ciała a zaburzeniami stawów skroniowo-żuchwowych\, napięci
 owymi bólami głowy oraz dolegliwościami w obrębie szyi i obręczy barkowej.
  W swojej pracy łączy różne metody pracy m.in. Rocabado\, CRAFTA czy PNF. 
 \nwww.kojderfizjoterapia.pl\n \n \n\nGwarancja wartości edukacyjnych\n \nU
 nikatowa wartość kursów kadawerowychDają lekarzom możliwość ćwiczenia tech
 nik operacyjnych na prawdziwych tkankach\, narządach - właściwości tkanki 
 preparatu nieutrwalonego najwierniej odzwierciedlają właściwości tkanki ży
 wej. Praktyczny trening na preparatach\, daje możliwość rzeczywistego prze
 ćwiczenia poszczególnych procedur medycznych\, których lekarz nie wykonywa
 ł wcześniej. Lekarz może w trakcie szkolenia popełniać (i korygować) błędy
  operacyjne\, obserwować konsekwencje poszczególnych decyzji bez ryzyka wy
 rządzenia uszczerbku na zdrowiu.\nSzkolenia w warunkach bloku operacyjnego
 Warunki sali operacyjnej\, pełne instrumentarium operacyjne\, najlepszy sp
 rzęt. Lekarz ćwiczy dokładnie w takich warunkach w jakich na co dzień prac
 uje. Nie zastąpi tego żadna sala konferencyjna. \n\nSzczegóły i informacje
 :\nKatarzyna Fernik - tel. 506 988 334\n\n
DTSTART:20250512T090000Z
DTEND:20250512T180000Z
GEO:+52.158504;+21.199574
LOCATION:ul. Bysławska 84\, 04-993 Warszawa
ORGANIZER;CN=:k.fernik@gmail.com
SEQUENCE:1
SUMMARY:Plastyka wędzidełka języka w leczeniu zespołowym - praktyczny kurs 
 kadawerowy.
TRANSP:OPAQUE
URL:https://www.szkolastomatologii.pl/historia-szkolen/50-kadawery-mechanik
 a-stawu-skroniowo-zuchwowego
END:VEVENT
END:VCALENDAR
