BEGIN:VCALENDAR
VERSION:2.0
PRODID:-//szkolastomatologii.pl//NONSGML kigkonsult.se iCalcreator 2.30.10/
 /
CALSCALE:GREGORIAN
METHOD:PUBLISH
UID:591c09ac-48c7-42ba-acad-c4c17d31f4a8
X-WR-CALNAME:iCagenda
X-WR-CALDESC:Event Management Extension for Joomla!
X-WR-RELCALID:3E26604A-50F4-4449-8B3E-E4F4932D05B5
X-WR-TIMEZONE:UTC
BEGIN:VTIMEZONE
TZID:UTC
END:VTIMEZONE
BEGIN:VEVENT
UID:6bac400c-d07d-4c37-a36e-74407bde788f
DTSTAMP:20260420T130619Z
CATEGORIES:TERAPIA STAWÓW SSŻ
CLASS:PUBLIC
DESCRIPTION;ALTREP="CID:<FFFF__=0ABBE548DFE235B58f9e8a93d@coffeebean.com>":
 Warsztat praktyczny: Szynoterapia dla zaawansowanych: Ustalenie i rejestra
 cja neuromięśniowej pozycji terapeutycznej w protokole analogowym i analog
 owo-cyfrowym w celu wykonania podstawowego aparatu nocnego do wstępnej ter
 apii dysfunkcji\nProwadzący: lek. dent. Krzysztof Adamowicz\nTermin: 9-10 
 grudnia 2023 r. godz. 9.30 – 16.00 (9 grudnia - wykład\; 10 grudnia - wars
 ztaty)\nMiejsce: Warszawa\, Hotel Lord Al. Krakowska 218.\nCena: 2200 zł. 
 (cena obejmuje część teoretyczną - sobota oraz część praktyczną - niedziel
 a)\nPunkty edukacyjne: 12 pkt. edu.\nPoniżej znajdują się szczegóły dotycz
 ące zajęć praktycznych w niedzielę. Szczegóły sobotniego wykładu znajdują 
 się tutaj: Podstawy okluzji: okluzja funkcjonalna\, przygotowanie pacjenta
  do rekonstrukcji\, zasady artykulacji \n\nNa warsztacie poświęconym pozyc
 ji terapeutycznej: \n\nnauczysz się obsługiwać aparat J5\; \nnauczysz się 
 przygotowywać pacjentów do rejestracji wstępnej pozycji neuromięśniowe\; 
 \nnauczysz się jak rejestrować pozycję szczęki za pomocą łuku twarzowego o
 raz jak dokonać rejestracji terapeutycznej pozycji cr masą typu bite\;\ndo
 wiesz się jak analizować rtg ssż oraz jak interpretować rtg szkieletowe kr
 ęgosłupa oraz jak dobierać masy typu bite w różnych rejestracjach\; \ndowi
 esz się jak modyfikować aparaty neuromięśniowe w różnych sytuacjach klinic
 znych.\n\nPlan zajęć:\n9.30-11.00 Ćwiczenia cz. 1\n\nPrzygotowanie pacjent
 a do rejestracji pozycji neromięśniowej w celu wykonania nocnego aparatu n
 euromieśniowego (NN PCR-1)\nĆwiczenia z użyciem łuku twarzowego – istotne 
 wskazówki i protokół eliminacji błędów\n\n11.00 - 11.30 Przerwa kawowa\n11
 .30 - 13.00 Ćwiczenia cz. 2\n\nObsługa aparatu J5\n\n13.00 - 14.00 Lunch\n
 14.00 - 16.00 Ćwiczenia cz. 3\n\nProcedura rejestracji wstępnej CR metodą 
 uproszczoną w celu wykonania nocnego aparatu neuromieśniowego (NN PCR-1)\n
 Analiza rtg ssż w celu właściwej kwalifikacji pacjenta\n\n \nNa szkoleniu 
 nauczysz się:\n\nJak rozpoznawać pacjenta z przeważająca komponentą mięśni
 ową dysfunkcji we właściwy sposób\nJak pobrać rejestrację analogowym łukie
 m twarzowym aby uniknąć podstawowych błędów\nJak przygotować pacjenta do z
 abiegu tens\nJak wykonać zabieg tens i w jakich przypadkach może nam się t
 o przydać\nJak zarejestrować neromięśniową pozycję CR – wstępną w celu wyk
 onania nocnego aparatu neuromieśniowego (NN PCR-1)\nJak sprawdzić dokładno
 ść wykonania aparatu NN PCR-1\n\nKażdy uczestnik otrzymuje:               
                                                    \n\nKomplet elektrod do
  wykonania zabiegu tens                         \nFilmik instruktażowy – m
 ontaż łuku twarzowego\nFormularz zgody na tens z podaniem przeciwwskazań d
 o wykonania tego zabiegu\nFormularz analizy rtg ssż\nOpis pozycji neuromie
 śniowej CR z podaniem piśmiennictwa\nSkrypt zawierający opis:\n\n* właściw
 ego umiejscowienia elektrod do tens\n* procedury kontroli precyzji nakleja
 nia elektrod\n* zasad analizy RTG-ssż oraz normy\n* zasad kontroli dokładn
 ość wykonania nocnego aparatu neuromieśniowego (NN PCR-1)\n \n \n\nCena za
  kurs nie obejmuje noclegu. Nocleg należy zarezerwować indywidualnie w hot
 elu (tel. 22 574 20 00). Na hasło Zjazd Lekarzy Dentystów hotel udziela zn
 iżki na noclegi.\nOpłatę za kurs proszę wnieść na podstawie faktury profor
 ma\, którą Państwo otrzymają po wypełnieniu zgłoszenia. Konto\, na które n
 ależy wpłacić należność za kurs to:\nSPS - Piotr Szymański numer: 31 1090 
 1870 0000 0001 3335 2731\nSzczegółowych informacji udziela Aleksandra Kowa
 lińska tel. +48 509 912 963  w godz. 9:00-16:00.
DTSTART:20231209T093000Z
DTEND:20231210T160000Z
GEO:+52.186707;+20.955709
LOCATION:Warszawa\, al. Krakowska 218\, Hotel LORD
ORGANIZER;CN=:prenumerata@spsmedia.pl
SEQUENCE:1
SUMMARY:Warsztat praktyczny: Ustalenie i rejestracja neuromięśniowej pozycj
 i terapeutycznej w protokole analogowym i analogowo-cyfrowym  w celu wykon
 ania podstawowego aparatu nocnego do wstępnej terapii dysfunkcji
TRANSP:OPAQUE
URL:https://www.szkolastomatologii.pl/historia-szkolen/5-warsztat-praktyczn
 y-ustalenie-i-rejestracja-neuromiesniowej-pozycji-terapeutycznej-w-protoko
 le-analogowym-i-analogowo-cyfrowym-w-celu-wykonania-podstawowego-aparatu-n
 ocnego-do-wstepnej-terapii-dysfunkcji-cwiczenia-praktyczne
END:VEVENT
END:VCALENDAR
