BEGIN:VCALENDAR
VERSION:2.0
PRODID:-//szkolastomatologii.pl//NONSGML kigkonsult.se iCalcreator 2.30.10/
 /
CALSCALE:GREGORIAN
METHOD:PUBLISH
UID:fd7a1ba7-4ff0-431a-bf04-85465e726f5c
X-WR-CALNAME:iCagenda
X-WR-CALDESC:Event Management Extension for Joomla!
X-WR-RELCALID:3E26604A-50F4-4449-8B3E-E4F4932D05B5
X-WR-TIMEZONE:UTC
BEGIN:VTIMEZONE
TZID:UTC
END:VTIMEZONE
BEGIN:VEVENT
UID:325c4cb2-0955-4ecd-9f3d-fa4a0ba51afe
DTSTAMP:20260420T110547Z
CATEGORIES:College of Dental Medicine
CLASS:PUBLIC
DESCRIPTION;ALTREP="CID:<FFFF__=0ABBE548DFE235B58f9e8a93d@coffeebean.com>":
 Prowadzący: lek. dent. Paweł Kłosiński\, lek. dent. Jakub Munk\, lek. dent
 . Krzysztof Pluta\nCena: 15 200 zł\nMiejsce zajęć: ul. Kołodzieja 8\, 40-7
 49 Katowice \nTerminy zajęć - 4 zjazdy po 2 dni: \nXXIV EDYCJA – WRZESIEŃ 
 2025\n18.09.2025 – 19.09.202530.10.2025 – 31.10.202520.11.2025 – 21.11.202
 511.12.2025 – 12.12.2025\n24 godziny zajęć z pacjentami + warsztaty + wykł
 ady = 44 godziny zajęć.Tylko praktyczne informacje.STEP BY STEP od pojedyn
 czej korony na implancie do pełnych rekonstrukcji.Technologie klasyczne + 
 technologie najnowsze.Każdy uczestnik otrzymuje 44 punkty edukacyjne.Liczb
 a miejsc ograniczona\, 6-cio osobowe grupy.\n \n\n1. Wprowadzenie do lecze
 nia implantoprotetycznego. Metody klasyczne. Warsztaty implantoprotetyczne
 .\n\nlek. dent. Paweł Kłosiński Master in Oral Implantology\n\nPlanowanie 
 leczenia\, backward  planning.\nModelowanie diagnostyczne: Waxup\, Mockup.
 \nRodzaje prac implantoprotetycznych: korony\, mosty\, overdenture.\nWskaz
 ania i przeciwwskazania do konkretnych rodzajów prac.\nCzynniki warunkując
 e sukces w wybranych metodach leczenia.\nBiomechanika w implantoprotetyce.
 \nInstrumentarium\, algorytmy postępowania.\nMateriały używane w implantop
 rotetyce.\nOdsłonięcia implantów –  techniki postępowania.\nMetody kształt
 owania profilu wyłaniania.\nWyciski transferowe / skanowanie.\nSystem CAD-
 CAM. Możliwości i ograniczenia.\nUzupełnienia tymczasowe.\nPróba klucza\, 
 przymiarka podbudowy\, oddanie pracy.\nUzupełnienia dokręcane / wklejane.
 \nWarunki długofalowego powodzenia leczenia.\nAdaptacja pacjenta do nowych
  warunków w jamie ustnej.\n\nWarsztat: materiały\, części\, instrumentariu
 m\, techniki stosowane w implantoprotetyce.\n\n2. Ustalanie przestrzennej 
  relacji żuchwy względem szczęki u pacjentów podczas leczenia implantoprot
 etycznego. Podstawy okluzji. Warsztaty praktyczne.\n\nlek. dent. Jakub Mun
 k Master in Oral Implantology\n\nPodstawy okluzji\, dlaczego okluzja jest 
 ważna. Dokumentacja w okluzji.\nOmówienie podstawowych metod ustalania zwa
 rcia u pacjentów uzębionych\, w brakach częściowych\, w bezzębiu. Współpra
 ca z technikiem z uwzględnieniem okluzji. Sprzęt wykorzystywany do analizy
  i rejestracji zwarcia.\nEstetyka kosztem wysokości zwarcia\, na ile możem
 y sobie pozwolić bez uszczerbku dla funkcjonowania US jako całości\, metod
 y diagnostyki (TK\, RTG)\, współpracy z technikiem (rejestraty okluzyjne) 
 i bezpiecznej adaptacji do nowej wysokości zwarcia.\nPrzygotowanie pacjent
 a do zmiany warunków zwarciowych – szyna okluzyjna\, leczenie wieloetapowe
 \, interdyscyplinarne. Chronologia pracy.\nWspółpraca wielospecjalistyczna
  w leczeniu pacjentów trudnych – z problemami kolizyjnymi.\nUstalanie zwar
 cia a napięcie mięśni żucia-podstawowe metody rozpoznawania zaburzeń czynn
 ościowych\, sposoby diagnostyki i podstawy fizjoterapii i farmakoterapii. 
 Postępowanie okołozabiegowe z pacjentem poddawanym dużym zmianom struktura
 lnym: ekstrakcje\, szlifowanie\, długotrwałe procedury implantologiczne\, 
 czasochłonny proces wytwarzania nowego uzupełnienia protetycznego. Koniecz
 ność doprowadzenia do fizjologicznego napięcia mięśni żucia w tym okresie 
 oraz utrzymania prawidłowego napięcia przez cały okres leczenia oraz adapt
 acji do uzupełnień protetycznych\nPodstawowe założenia okluzji i ich zasto
 sowanie w implantoprotetyce.\nPojęcie guzków podtrzymujących i prowadzącyc
 h\, prowadzenie kłowe\, grupowe\, okluzja obustronnie zbalansowana.\nOkluz
 ja w implantoprotetyce – koncepcje bezpiecznego zgryzu: -Payne’a (guzek-br
 uzda\, w long centric zęby starte)\, Thomas’a (guzek-listwa brzeżna\, dwie
  wypukłe powierzchnie).\nOkluzja pasywna (ograniczenie powierzchni okluzyj
 nej w wymiarze poziomym)\, koncepcja przęsła biernego\, redukcja powierzch
 ni żującej.\nUstalenie optymalnego kierunku obciążenia wszczepów\, elimina
 cja sił ścinających i rotacyjnych. Przenoszenie sił zgodnie z długą osią i
 mplantu.\nOstrożnie z przemodelowaniem konstrukcji\, jeśli wykonujemy rozb
 udowę pomierzch zwarciowej należy ją powiększać symetrycznie.\nPodparcia o
 kluzyjne (punkty kontaktu)  w osi implantu\, lub blisko jego centrum.\nOve
 rjet\, overbite około 1 mm.\nPłaski kąt nachylenia drogi stawowej (normaln
 ie 33stopnie)\, implantoprotetyka 30 stopni. Małe stopnie nachylenia guzkó
 w\, płaskie\, mniej zaklinowania.\nZagadnienie ruchomości zębów w trakcie 
 żucia a ruchomości (lub jej braku) w przypadku implantów- pojęcie wolno dz
 iałającego obciążenia. Zasada niełączenia zębów własnych z implantami w pr
 acach kombinowanych. Element planowania uzupełnień protetycznych na wstępn
 ych etapach leczenia- wykorzystanie podłoża\, analiza ruchomości własnych 
 zębów\, podatności na siły podczas żucia oraz w czasie obciążenia para fun
 kcjonalnego(większa ruchomość zębów).\nDecyzja co do sposobu osadzenia pra
 cy protetycznej na łącznikach implantoprotetycznych: prace przykręcane czy
  cementowane?\nW pracach przykręcanych wielopunktowe kontakty okluzyjne są
  trudniejsze do odbudowania z powodu konieczności zamknięcia otworów na śr
 uby. Prace cementowane lepiej odbudowują okluzję\, prace skrawane lub odle
 wane z metalu pozwalają na ostro konturowość i precyzję wykonania. Prace c
 eramiczne obrabiane w wysokiej temperaturze charakteryzują się nieprzewidy
 walnym kształtem i przypadkowymi kontaktami okluzyjnymi pomiędzy powierzch
 niami zwarciowymi.\nRodzaje uzupełnień protetycznych stosowanych w implant
 oprotetyce u pacjentów z podejrzeniem zaburzeń czynnościowych US – spokój 
 w fazie podtrzymującej leczenia implantoprotetycznego (bruxcir\,  ścieraln
 a porcelana\, zęby kompozytowe w pracach ruchomych\, szyna zapobiegająca p
 owstawaniu nadmiernych naprężeń pomiędzy elementami odbudowy protetycznej 
 po zmianie wzajemnych relacji przestrzennych w US.).\nCzy rodzaj materiału
  z jakiego wykonane jest uzupełnienie stałe lub ruchome oparte na wszczepa
 ch zmienia obciążenie jakiego doznaje kość wyrostka zębodołowego? Elementy
  wytłumiające jak olicowanie kompozytowe\, wkładki elastyczne. Elementy mo
 cniej zakotwiczone\, czyli bardziej obciążone przenoszą na siebie większe 
 siły. Warunkiem długowieczności pracy protetycznej jest prawidłowo zaplano
 wana\, dopasowana do istniejącej sytuacji zwarciowej\, okluzja.\n\n\n3. Im
 plantoprotetyka cyfrowa. Warsztaty implantoprotetyczne.\n\nlek. dent. Pawe
 ł Kłosiński Master in Oral Implantology\n\nNowoczesne technologie w implan
 toprotetyce – integracja skanowania i obrazu CBCT\nKompleksowe planowanie 
 leczenia implantoprotetycznego przy użyciu nowych technologii:\n\nskanowan
 ie pacjenta przy użyciu tomografu CBCT oraz  skanera wewnątrzustnego 3Shap
 e® Trios3\,\nłączenie obrazów CBCT i skanów wewnątrzustnych w programie Im
 plant Studio\,\nplanowanie rozmieszczenia implantów na podstawie połączony
 ch  obrazów\,\nprojektowanie szablonu chirurgicznego na podstawie zaplanow
 anej pozycji implantów\,\nprojektowanie odbudowy protetycznej zgodnie z za
 planowaną pozycją wszczepów\,\ndrukowanie szablonu chirurgicznego i odbudo
 wy tymczasowej.\n\n\nZastosowanie szyn korygujących wady zgryzu jako wspar
 cie leczenia implantoprotetycznego.\nKoncepcja korygowania wad zgryzu przy
  pomocy szyn Clear Aligner.\nMożliwości zastosowania szyn do repozycji zęb
 ów w protetyce oraz implantoprotetyce ze względu na estetykę oraz funkcjon
 alność przyszłej odbudowy.\nZastosowa nie metody termoformowania w implant
 ologii i implantoprotetyce.\n\nlek. dent. Krzysztof Pluta\n Warsztat: skan
 owanie wewnątrzustne\, skanowanie modeli\, tradycyjne wyciski transferowe.
 \n\n4. Utrzymanie efektów leczenia implantoprotetycznego. \n\nlek. dent. P
 aweł Kłosiński Master in Oral Implantology\n\nDokumentacja oraz archiwizac
 ja etapów oraz rezultatów leczenia.\nPowikłania w implantoprotetyce oraz s
 posoby radzenia sobie w trudnych sytuacjach – Troubleshooting.\nUtrzymanie
  efektów leczenia implantoprotetycznego.\nSpecyfika higienizacji pacjenta 
 implantologicznego.\nWpływ leczenia implantoprotetycznego na prawidłową wy
 mowę u pacjenta.\nKliniczno techniczne aspekty wykonawstwa uzupełnień impl
 antoprotetycznych (wykład / dyskusja).\nPodsumowanie.\n\n\n\n\n\n 
DTSTART:20250918T090000Z
DTEND:20250918T190000Z
GEO:+50.199028;+19.053528
LOCATION:ul. Kołodzieja 8\, 40-749 Katowice
ORGANIZER;CN=:prenumerata@spsmedia.pl
SEQUENCE:1
SUMMARY:Curriculum implantoprotetyczne – XXIV EDYCJA – WRZESIEŃ 2025
TRANSP:OPAQUE
URL:https://www.szkolastomatologii.pl/historia-szkolen/48-curriculum-implan
 toprotetyczne-xxiv
END:VEVENT
END:VCALENDAR
