BEGIN:VCALENDAR
VERSION:2.0
PRODID:-//szkolastomatologii.pl//NONSGML kigkonsult.se iCalcreator 2.30.10/
 /
CALSCALE:GREGORIAN
METHOD:PUBLISH
UID:917d298e-0067-404c-abec-5317fcd95418
X-WR-CALNAME:iCagenda
X-WR-CALDESC:Event Management Extension for Joomla!
X-WR-RELCALID:3E26604A-50F4-4449-8B3E-E4F4932D05B5
X-WR-TIMEZONE:UTC
BEGIN:VTIMEZONE
TZID:UTC
END:VTIMEZONE
BEGIN:VEVENT
UID:80c6f800-d8ce-4070-aa1a-73240f7f4775
DTSTAMP:20260420T114405Z
CATEGORIES:11. Zjazd Lekarzy Dentystów
CLASS:PUBLIC
DESCRIPTION;ALTREP="CID:<FFFF__=0ABBE548DFE235B58f9e8a93d@coffeebean.com>":
 Wykładowcy: dr n. med. Aleksandra Palatyńska-Ulatowska\, dr n. med. Agnies
 zka Czechumska\, lek. dent. Anna Trzcińska-Caputa\, lek. dent. Paweł Ocios
 \, lek. dent. Krzysztof Polanowski\; dr n. med. Przemysław Grodecki\; mgr 
 lic. tech. dent. Szymon Marciniak \nCena: 390 zł\nMiejsce: Hotel Lord - Wa
 rszawa\, al. Krakowska 218\nTermin: 7 grudnia (sobota) 9:00-18:30\nPunkty 
 edukacyjne: 8 pkt.\n\nWykład 1: Rozległe bezpośrednie rekonstrukcje ubytkó
 w tkanek twardych zębów bocznych – czy współczesna technologia materiałów 
 kompozytowych pozwala na przezwyciężenie wcześniejszych ograniczeń? – dr n
 . med. Przemysław Grodecki\nWykład 2: Aligner w gabinecie u stomatologa – 
 dr n. med. Agnieszka Czechumska\nWykład 3: Wyzwania dzisiejszej endodoncji
 : diagnostyka\, materiały i leczenie – dr n. med. spec. stom. zach. z endo
 doncją Aleksandra Palatyńska-Ulatowska\nWykład 4: Pęknięcia zębów - Wyzwan
 ia diagnostyczne  i lecznicze  w codziennej praktyce klinicznej – lek. den
 t. Paweł Ocios\nWykład 5: Protezy częściowe zdejmowane:  szkieletowe\, akr
 ylowe\, termoplastyczne – teoria a praktyka – lek. dent. Krzysztof Polanow
 ski\nWykład 6: Wybielanie zębów - skuteczna metoda nieinwazyjnej poprawy e
 stetyki – lek. dent. Anna Trzcińska-Caputa\nWykład 7: Poliamid\, nylon\, p
 rotezy elastyczne: Nowoczesne rozwiązania czy zagrożenie dla zdrowia? –  m
 gr lic. tech. dent. Szymon Marciniak \n\nSzczegółowy plan zajęć:\n9:00 – 1
 0:00 Rozległe bezpośrednie rekonstrukcje ubytków tkanek twardych zębów boc
 znych – czy współczesna technologia materiałów kompozytowych pozwala na pr
 zezwyciężenie wcześniejszych ograniczeń? – dr n. med. Przemysław Grodecki
 \n\nRozległe rekonstrukcje tkanek twardych zębów w odcinku bocznym zawsze 
 były traktowane jako kontrowersyjna metoda postępowania. Wynikało to z ogr
 aniczeń jakie narzuca klasyczna technologia systemów wiążących jak i mater
 iałów kompozycyjnych. Również kwestia trudności technicznych w odtworzeniu
  pożądanego kształtu w przypadku rozległego uszkodzenia tkanek może stanow
 ić barierę ograniczającą bezpośrednie techniki odtwarzania utraconych tkan
 ek twardych. Z drugiej strony prawidłowo przeprowadzona rekonstrukcja bezp
 ośrednia jest szczególnie korzystnym rozwiązaniem ze względu na ograniczen
 ie czasu i kosztów leczenia i może zapewnić długoczasowy efekt terapeutycz
 ny. Ostatnia dekada przyniosła nam pewne nowości w technologii zastosowani
 a materiałów kompozycyjnych w stomatologii\, które już z perspektywy pewny
 ch doświadczeń pozwalają spojrzeć na ten problem w odmienny sposób.\n\n10:
 00-11:00 Aligner w gabinecie u stomatologa – dr n. med. Agnieszka Czechums
 ka\n\nJakie są tendencje w cyfrowej stomatologii?\nDlaczego warto leczyć n
 akładkami w swoim gabinecie?\nJak selekcjonować pacjentów do swoich pierws
 zych minimalnie inwazyjnych leczeń?\nJakie są możliwości przedprotetyczneg
 o leczenia nakładkami?\nJaki niezbędny sprzęt i materiały potrzebne są do 
 rozpoczęcia pracy nakładkami?\nJak polskie prawo odnosi się do leczenia na
 kładkami?\n\n11:00 - 11: 15 Przerwa kawowa\n11:15 – 12:45 Wyzwania dzisiej
 szej endodoncji: diagnostyka\, materiały i leczenie – dr n. med. spec. sto
 m. zach. z endodoncją Aleksandra Palatyńska-Ulatowska\, Kierownik Katedry 
 Stomatologii Zachowawczej z Endodoncją Kierownik Zakładu Endodoncji Uniwer
 sytetu Medycznego w Łodzi\n\nW dobie dynamicznie rozwijających się technol
 ogii endodonci stają przed nowymi wyzwaniami. Najnowsze osiągnięcia w dzie
 dzinie zaawansowanej diagnostyki endodontycznej\, opartej między innymi na
  radiologicznej analizie systemu kanałów korzeniowych\, pozwalają na coraz
  dokładniejszą ocenę zmian chorobowych\, postawienie prawidłowej diagnozy\
 , podjęcie właściwego leczenia i kontroli pozabiegowej terapii endodontycz
 nej. Tomografia komputerowa CBCT wraz ze szczegółową oceną mikroskopową st
 ruktur zęba staje się obecnie standardem\, zwłaszcza w powikłanych przypad
 kach leczenia kanałowego takich jak rozległe okołowierzchołkowe zmiany zap
 alne\, resorpcje czy pęknięcia korzeni. Właściwości materiałów bioceramicz
 nych wykorzystywanych w leczeniu biologicznym i obturacji dają także szero
 kie możliwości terapeutyczne. Jak wykorzystać w praktyce zdobycze nowych t
 echnologii i prowadzić skuteczne leczenie? Wykład ma na celu przedstawić n
 ajnowsze osiągnięcia wykorzystywane w diagnostyce i leczeniu endodontyczny
 m\, jednoczenie łącząc praktyczne wskazówki kliniczne z dyskusją o standar
 dach i ostatnich wytycznych S3 Guidelines Europejskiego Towarzystwa Endodo
 ntycznego ESE.\n\n12:45 – 14:00 Pęknięcia zębów - Wyzwania diagnostyczne  
 i lecznicze  w codziennej praktyce klinicznej – lek. dent. Paweł Ocios\, p
 ierwszy redaktor naczelny magazynu Nowy Gabinet Stomatologiczny\n\nWprowad
 zenie - przyczyny problemów\, czyli dlaczego zęby pękają?\nCTS - pęknięcia
  zębów żywych - metody i narzędzia diagnostyczne. Rola mikroskopu.\nCzy mo
 żna zapobiec pęknięciom zębów żywych? Analiza działań prewencyjnych.\nLecz
 enie pękniętych zębów z żywą miazgą - przegląd piśmiennictwa i doświadczen
 ia własne.\nVRF - pionowe pęknięcie korzenia\, czy i jak można tego unikną
 ć.\nNietypowe symptomy częstego problemu - diagnoza i różnicowanie.\nVRF –
  bolesne konsekwencje pomyłek diagnostycznych.\nPrzegląd przypadków klinic
 znych – doświadczenia własne\, dyskusja\, pytania\, wymiana doświadczeń.\n
 \n14:00 - 15:00 Lunch Jubileuszowy\n15:00-16:30  Protezy częściowe zdejmow
 ane:  szkieletowe\, akrylowe\, termoplastyczne – teoria a praktyka – lek. 
 dent. Krzysztof Polanowski\n\nWskazania do wykonywania protez: szkieletowy
 ch\, akrylowych\, elastycznych\;\nProjekt\, techniki wycisków\, planowanie
 \;\nMetody modyfikowania protez szkieletowych: zamki\,łamacze sił\, konstr
 ukcje equipose\, konstrukcje mieszane (hybrydowe)\;\nProteza polyamidowa\,
  nylonowa\, acetalowa – wskazania i przeciwwskazania\;\nPodstawowe zasady 
 wykonywania protezy elastycznej\;\nWpływ etapu laboratoryjnego na rezultat
  kliniczny protez\;\nProtezy i rekonstrukcje protetyczne oparte na materia
 łach acetalowych\;\nMateriały miękkie – praktyczne zastosowania\, metodyka
  postępowania.\n\nPrzerwa kawowa\n16:30-17:30 Wybielanie zębów - skuteczna
  metoda nieinwazyjnej poprawy estetyki - lek. dent. Anna Trzcińska-Caputa
 \n\nTematyka wykładu\nPrzedstawienie mechanizmu wybielania zębów\nPrzegląd
  współczesnych metod wybielania zębów\nPrzyczyny przebarwień zębów: wewnęt
 rzne i zewnętrzne\nKwalifikacja i przygotowanie pacjenta do zabiegu wybiel
 ania\nJak prawidłowo wykonać nakładki do wybielania domowego?\nJakie są na
 jczęściej popełniane błędy podczas wykonywania szyn wybielających?\nDiagno
 styka i plany leczenia dla różnych sytuacji klinicznych\nRóżnice w usuwani
 u przebarwień wewnątrz i zewnątrzpochodnych\nNadtlenek wodoru vs. nadtlene
 k karbamidu\nJak postępować w przypadku nadwrażliwości zębów\nUtrzymanie e
 fektów wybielania\n\n17.30-18.30 Poliamid\, nylon\, protezy elastyczne: No
 woczesne rozwiązania czy zagrożenie dla zdrowia? –  mgr lic. tech. dent. S
 zymon Marciniak \n\nW erze innowacji materiałowych poliamid\, czyli nylon\
 , zrewolucjonizował przemysł\, oferując niezwykłe możliwości w produkcji o
 dzieży\, sprzętu sportowego i protetycznych rozwiązań\, takich jak protezy
  elastyczne. Jednak w obliczu rosnącej popularności tych materiałów warto 
 zadać pytanie: czy ich zalety przeważają nad potencjalnymi zagrożeniami dl
 a zdrowia? Pod względem biokompatybilności poliamid wydaje się mieć przewa
 gę nad materiałami na bazie metakrylanu metylu (np. brak monomeru resztkow
 ego w płycie protezy). Mimo to\, elastyczne protezy osiadające mają wielu 
 przeciwników. Dlatego prelegent pragnie zachęcić lekarzy stomatologów i te
 chników dentystycznych do ożywionej dyskusji\, a nawet „burzy mózgów” na t
 emat możliwości wykorzystania tego materiału w innych pracach niż te najba
 rdziej popularne\, czyli osiadające rozwiązania.\n\n18:30 - Zakończenie se
 sji\n\nCena za kurs nie obejmuje noclegu. Nocleg należy zarezerwować indyw
 idualnie w hotelu (tel. 22 574 20 00). Na hasło Zjazd Lekarzy Dentystów ho
 tel udziela zniżki na noclegi.\nOpłatę za kurs proszę wnieść na podstawie 
 faktury proforma\, którą Państwo otrzymają po wypełnieniu zgłoszenia. Kont
 o\, na które należy wpłacić należność za kurs to:\nSPS - Piotr Szymański n
 umer: 31 1090 1870 0000 0001 3335 2731\nSzczegółowych informacji udziela A
 leksandra Kowalińska tel. +48 509 912 963  w godz. 9:00-16:00.
DTSTART:20241207T090000Z
DTEND:20241207T183000Z
GEO:+52.186707;+20.955709
LOCATION:Hotel Lord\, Warszawa\, Al. Krakowska 218
ORGANIZER;CN=:prenumerata@spsmedia.pl
SEQUENCE:1
SUMMARY:Sesja Jubileuszowa '150 x Nowy Gabinet Stomatologiczny'
TRANSP:OPAQUE
URL:https://www.szkolastomatologii.pl/historia-szkolen/46-sesja-jubieleuszo
 wa
END:VEVENT
END:VCALENDAR
