BEGIN:VCALENDAR
VERSION:2.0
PRODID:-//szkolastomatologii.pl//NONSGML kigkonsult.se iCalcreator 2.30.10/
 /
CALSCALE:GREGORIAN
METHOD:PUBLISH
UID:9d4cb440-8dbe-4946-95a9-86114e985837
X-WR-CALNAME:iCagenda
X-WR-CALDESC:Event Management Extension for Joomla!
X-WR-RELCALID:3E26604A-50F4-4449-8B3E-E4F4932D05B5
X-WR-TIMEZONE:UTC
BEGIN:VTIMEZONE
TZID:UTC
END:VTIMEZONE
BEGIN:VEVENT
UID:5e79c213-d745-46a2-b20d-38cacdbe554e
DTSTAMP:20260420T112017Z
CATEGORIES:College of Dental Medicine
CLASS:PUBLIC
DESCRIPTION;ALTREP="CID:<FFFF__=0ABBE548DFE235B58f9e8a93d@coffeebean.com>":
 Prowadzący: lek. dent. Jakub Munk\,\nCena: 17 300 zł\nMiejsce zajęć: ul. K
 ołodzieja 8\, 40-749 Katowice \nTerminy zajęć - 6 dni zajęć: \nPunkty eduk
 acyjne: 44 pkt.\n\nXXIII EDYCJA - PAŹDZIERNIK 2025\n\n\n20.10.2025 – 22.10
 .20251.12.2025 – 3.12.2025\n\n\n\nSzkolenie teoretyczne.Warsztaty hands – 
 on.Live – surgery.Samodzielne implantacje.Tylko praktyczne informacje.Każd
 y uczestnik otrzymuje 44 punkty edukacyjne.Liczba miejsc ograniczona\, 4- 
 ro osobowe grupy.Szkolenie na poziomie podstawowym i średnim umożliwiające
  rozpoczęcie kształcenia się w wybranym kierunku lub uzupełnienie dotychcz
 asowych umiejętności.\n\n\n1. Podstawy implantologii. Zasady i prawa w imp
 lantologii stomatologicznej.\n\nlek.dent. Jakub Munk Master in Oral Implan
 tolgy\n\nKwalifikacja pacjenta do zabiegu i planowanie całego toku leczeni
 a implantoprotetycznego.\nKoncepcje odbudowy braków zębowych w implantopro
 tetyce.\nErgonomia pracy operatora z asystą oraz instrumentariuszką.\nPozy
 cjonowanie implantów w strefie estetycznej i w odcinku bocznym\, w korzyst
 nych i niekorzystnych warunkach anatomicznych.\nUmiejętność nacięcia płata
  błony śluzowej z okostną\, umiejętność postępowania  z tkankami miękkimi 
 i z tkanką kostną\, umiejętność szycia rany.\nWdrożenie planowania\, prowa
 dzenie cięcia\, odwarstwienie okostnej\, zasady preparacji kości.\n\nWarsz
 taty Jakub Munk MD\, Master in Oral ImplantolgyInstrumentarium implantolog
 iczne\, zakładanie implantów w korzystnych warunkach anatomicznych na mode
 lach fantomowych. Schematy postępowania.ZabiegiZajęcia kliniczne – omówien
 ie diagnostyki przedimplantacyjnej oraz poszczególnych faz klinicznych prz
 ed zabiegiem implantacji\, prezentacja instrumentarium\, modeli\, dokument
 acji. Każdorazowo samodzielne implantacje oraz czynna asysta przy zabiegac
 h wszystkich uczestników szkolenia. 2 – 3 zabiegi podczas jednego spotkani
 a.Możliwość przyprowadzenia przez uczestników szkolenia własnych pacjentów
  i wykonanie dodatkowego zabiegu pod okiem instruktora.\n\n2. Planowanie p
 rostych zabiegów implantologicznych\, pojedyncza implantacja w odcinku boc
 znym (okolica przedtrzonowców) w szczęce.\n\nlek.dent. Jakub Munk Master i
 n Oral Implantolgy\n\nPojęcie strefy estetycznej\, definicja implantacji n
 atychmiastowej.\nAnaliza algorytmu postępowania i przypadków.\nKryteria ob
 ciążenia natychmiastowego w przypadku protez całkowitych dolnych i górnych
 .\nWprowadzenie 4 implantów w odcinku przednim żuchwy. Overdenture.\nPlano
 wanie pełnych rekonstrukcji implantoprotetycznych.\n\nWarsztaty Jakub Munk
  MD\,  Master in Oral ImplantolgyZakładanie implantów na modelach zwierzęc
 ych. Techniki odwarstwiania płata\, szycie chirurgiczne. Przygotowanie PRF
 .\nZabiegiZajęcia kliniczne – omówienie diagnostyki przedimplantacyjnej or
 az poszczególnych faz klinicznych przed zabiegiem implantacji\, prezentacj
 a instrumentarium\, modeli\, dokumentacji. Każdorazowo samodzielne implant
 acje oraz czynna asysta przy zabiegach wszystkich uczestników szkolenia. 2
  – 3 zabiegi podczas jednego spotkania.Możliwość przyprowadzenia przez ucz
 estników szkolenia własnych pacjentów i wykonanie dodatkowego zabiegu pod 
 okiem instruktora.\n\n3. Przegląd podstawowych procedur augmentacyjnych w 
 implantologii.\n\nlek.dent. Jakub Munk Master in Oral Implantolgy\n\nAugme
 ntacja poekstrakcyjna\, augmentacja boczna\, technika osteotomowa\, spread
 ing\, splitting.\nImplantacja przezśluzówkowa\, bezpłatowa.\nPrzegląd biom
 ateriałów – autogenne\, allogenne\, xenogenne\, syntetyczne.\nPodniesienie
  dna zatoki szczękowej – metodą wewnętrzną\, z dojścia przez wyrostek zębo
 dołowy\, poprzez podniesienie membrany Schneidera (sinus lifting zamknięty
 \, sinus lifting otwarty).\nImplantologia cyfrowa\, skanowanie\, szablony 
 implantoprotetyczne\, digital workflow.\nDigital workflow – skanowanie pac
 jenta\, tomografia CBCT\, skaner wewnątrzustny – łączenie obrazów CBCT i s
 kanów\, planowanie rozmieszczenia implantów\, szablonu chirurgicznego i od
 budowy protetycznej.\nObciążenie natychmiastowe i odroczone\,\nIndywidualn
 e profile wyłaniania. Uzupełnienia tymczasowe\, dobór łączników\, materiał
 ów\, oddanie pracy natychmiastowej\, korekty.\n\nWarsztaty Jakub Munk MD\,
  Master in Oral ImplantolgyElementy stomatologii cyfrowej\, szablony chiru
 rgiczne. Zakładanie implantów na modelach fantomowych. Warsztaty skanowani
 a. Projektowanie implantu i szablonu.\nZabiegiZajęcia kliniczne – omówieni
 e diagnostyki przedimplantacyjnej oraz poszczególnych faz klinicznych prze
 d zabiegiem implantacji\, prezentacja instrumentarium\, modeli\, dokumenta
 cji. Każdorazowo samodzielne implantacje oraz czynna asysta przy zabiegach
  wszystkich uczestników szkolenia. 2 – 3 zabiegi podczas jednego spotkania
 .Możliwość przyprowadzenia przez uczestników szkolenia własnych pacjentów 
 i wykonanie dodatkowego zabiegu pod okiem instruktora.\n\n4. Błędy w impla
 ntologii. Powikłania śródzabiegowe\, wczesne\, późne. Wstęp do periodontol
 ogii w implantologii.\n\nlek.dent. Jakub Munk Master in Oral Implantolgy\n
 \nZnaczenie dziąsła zrogowaciałego w obrębie implantów.\nTechniki augmenta
 cji tkanki miękkiej w celu poszerzenia strefy dziąsła zrogowaciałego.\nPre
 zentacja szeregu przypadków powikłań.\nSposoby rozwiązywania problemów w i
 mplantologii\, zapobieganie powikłaniom.\nAspekty prawne\, odpowiedzialnoś
 ć lekarza implantologa\, praca biegłego sądowego.\nDokumentacja fotografic
 zna w implantologii.\n\nWarsztaty Jakub Munk MD\, Master in Oral Implantol
 gyZakładanie implantów na modelach zwierzęcych. Elementy implantoprotetycz
 ne. Przygotowanie autogennego biomateriału kostnego (zęby własne pacjenta)
 .\nZabiegiZajęcia kliniczne – omówienie diagnostyki przedimplantacyjnej or
 az poszczególnych faz klinicznych przed zabiegiem implantacji\, prezentacj
 a instrumentarium\, modeli\, dokumentacji. Każdorazowo samodzielne implant
 acje oraz czynna asysta przy zabiegach wszystkich uczestników szkolenia. 2
  – 3 zabiegi podczas jednego spotkania.Możliwość przyprowadzenia przez ucz
 estników szkolenia własnych pacjentów i wykonanie dodatkowego zabiegu pod 
 okiem instruktora.\n\n\n\n\n 
DTSTART:20251020T150000Z
DTEND:20251020T180000Z
GEO:+50.198986;+19.053658
LOCATION:Kołodzieja 8\; 40-749 Katowice
ORGANIZER;CN=:prenumerata@spsmedia.pl
SEQUENCE:1
SUMMARY:Curriculum implantologii małoinwazyjnej | XXIII EDYCJA - PAŹDZIERNI
 K 2025
TRANSP:OPAQUE
URL:https://www.szkolastomatologii.pl/historia-szkolen/44-curriculum-implan
 tologii-maloinwazyjnej-xxii-edycja-styczen-2025
END:VEVENT
END:VCALENDAR
