BEGIN:VCALENDAR
VERSION:2.0
PRODID:-//szkolastomatologii.pl//NONSGML kigkonsult.se iCalcreator 2.30.10/
 /
CALSCALE:GREGORIAN
METHOD:PUBLISH
UID:9119a603-f7f0-42da-ba2e-e3500888d52a
X-WR-CALNAME:iCagenda
X-WR-CALDESC:Event Management Extension for Joomla!
X-WR-RELCALID:3E26604A-50F4-4449-8B3E-E4F4932D05B5
X-WR-TIMEZONE:UTC
BEGIN:VTIMEZONE
TZID:UTC
END:VTIMEZONE
BEGIN:VEVENT
UID:98a1f615-69d1-4c40-9f59-0b0a32447f3f
DTSTAMP:20260420T102205Z
CATEGORIES:IMPLANTOPROTETYKA
CLASS:PUBLIC
DESCRIPTION;ALTREP="CID:<FFFF__=0ABBE548DFE235B58f9e8a93d@coffeebean.com>":
 Temat wykładu: Od bondingu do implantoprotetyki w stomatologii zintegrowan
 ej\nWykładowca: dr n. med. Jacek Ciesielski\;\nTermin: 7 grudnia 2025 r. g
 odz.10:00-16:00\nMiejsce: Hotel Lord****\, Warszawa\, Al. Krakowska 218\nC
 ena: 990 zł\;\nPunkty edukacyjne: 6 pkt.Plan szkolenia\n10.00 - 11.30 Wykł
 ad 1. Proste i zaawansowane odbudowy estetyczne i protetyczne w  nowoczesn
 ej praktyce dentystycznej.\n11.30 - 11.45 Przerwa kawowa11.45 - 12.30 Wykł
 ad 2. W jaki sposób leczyć pacjentów protetycznie z utraconą wysokością zw
 arcia?\n12.30 - 13.15 Wykład 3. Cele leczenia protetycznego i implantoprot
 etycznego w aspekcie przywracania funkcji żucia pokarmów i estetyki uśmiec
 hu.\n13.15 - 14.15 Lunch14.15 - 15.00 Wykład 4. Okluzja w stomatologii neu
 romięśniowej. Teoria i praktyka.\n15.00 - 15.45 Wykład 5. Wskazania i prze
 ciwwskazania w planowaniu leczenia  implantologicznego w stomatologii neur
 omięśniowej.\n15.45 - 16.00 Przerwa kawowa16.00 - 16.45 Wykład 6. Prezenta
 cja przypadków klinicznych. 16.45-17.00  Dyskusja\n\nCena za kurs nie obej
 muje noclegu. Nocleg należy zarezerwować indywidualnie w hotelu (tel. 22 5
 74 20 00).\nInformacje i zapisy:Aleksandra Kowalińska\, +48 509 912 963\, 
 prenumerata@spsmedia.pl\nPŁATNOŚCI:Prosimy kwotę za szkolenie wpłacić na k
 onto:31 1090 1870 0000 0001 3335 2731SPS-Piotr SzymańskiZ. Modzelewskiego 
 67/402-679 Warszawa\nNa podstawie otrzymanej płatności otrzymają Państwo f
 akturę na maila\, z którego nastąpiła rejestracja na szkolenie.
DTSTART:20251207T100000Z
DTEND:20251207T170000Z
GEO:+52.186707;+20.955709
LOCATION:Warszawa\, Hotel Lord ****\; al. Krakowska 218.
ORGANIZER;CN=:prenumerata@spsmedia.pl
SEQUENCE:1
SUMMARY:Od bondingu do implantoprotetyki w stomatologii zintegrowanej
TRANSP:OPAQUE
URL:https://www.szkolastomatologii.pl/historia-szkolen/37-od-bondingu-do-im
 plantoprotetyki-w-stomatologii-zintegrowanej
END:VEVENT
END:VCALENDAR
