BEGIN:VCALENDAR
VERSION:2.0
PRODID:-//szkolastomatologii.pl//NONSGML kigkonsult.se iCalcreator 2.30.10/
 /
CALSCALE:GREGORIAN
METHOD:PUBLISH
UID:12c53ac5-9b01-4e52-b149-10d31e9acc48
X-WR-CALNAME:iCagenda
X-WR-CALDESC:Event Management Extension for Joomla!
X-WR-RELCALID:3E26604A-50F4-4449-8B3E-E4F4932D05B5
X-WR-TIMEZONE:UTC
BEGIN:VTIMEZONE
TZID:UTC
END:VTIMEZONE
BEGIN:VEVENT
UID:37cb2935-d0a2-42f1-a147-7eec6d1b685f
DTSTAMP:20260420T114134Z
CATEGORIES:KONFERENCJA WOJSKOWEJ IZBY LEKARSKIEJ
CLASS:PUBLIC
DESCRIPTION;ALTREP="CID:<FFFF__=0ABBE548DFE235B58f9e8a93d@coffeebean.com>":
 KOSZTY UDZIAŁU W KONFERENCJI DENTWIL' 2025\nW cenie otrzymują Państwo możl
 iwość uczestnictwa w ciekawych wykładach prowadzonych przez wybitnych prel
 egentów\, pobyt w hotelu położonym w sosnowym lesie\, bliskość Zatoki Gdań
 skiej\, wyżywienie - w tym udział w uroczystej kolacji z tańcem i muzyką.
 \nCzłonkowie Wojskowej Izby Lekarskiej i Okręgowej Izby Lekarskiej w Łodzi
  otrzymują 100 zł dofinansowania na udział w konferencji. Przy rejestracji
  prosimy o podanie Izby Lekarskiej.\nCeny przy zgłoszeniu do 1 kwietnia 20
 25 r.\nUdział w konferencji bez noclegów:\nwykłady\, przerwy kawowe\, lunc
 he - 990 złwykłady\, przerwy kawowe\, lunche\, uroczysta kolacja (piątek)\
 , kolacja grillowa (sobota) - 1290 zł\nCeny przy zgłoszeniu po 1 kwietnia 
 2025 r.\nUdział w konferencji bez noclegów:\nwykłady\, przerwy kawowe\, lu
 nche - 1090 złwykłady\, przerwy kawowe\, lunche\, uroczysta kolacja (piąte
 k)\, kolacja grillowa (sobota) - 1390 zł\nNOCLEGI\nUwaga! Pula pokoi w Hot
 elu Orle została wyczerpana. Prosimy o indywidualne zarezerwowanie pokoi w
  sąsiadujących hotelach (uzgodniliśmy z nim stawki za nocleg dla uczestnik
 ów konferencji DENTWIL). Rezerwując inny hotel niż Orle\, prosimy o wybran
 ie opcji z możliwością bezpłatnego anulowana. W przypadku zwolnienia się d
 odatkowych pokoi w hotelu ORLE\, będziemy mieli możliwość przekwaterowania
  Państwa. Rezerwacja w innych hotelach niż ORLE odbywa się indywidualnie. 
 Na tę chwilę rejestrują się Państwo u nas na konferencję\, a w hotelu reze
 rwują pobyt. Przepraszamy za tę niedogodność.\nHotele w bezpośrednim sąsie
 dztwie Hotelu Orle\, które przyjmują naszych gości:\n\nGRANO HOTEL SOLMARI
 NA - https://www.granohotelsolmarina.pl/\ncena od 450 zł / dobę (w jedynce
 ) lub od 550 zł / dobę (za dwójkę)\nrezerwacja tel. 58 717 80 51 - na hasł
 o SOLMARINA \n\nHotel Bartan Gdańsk Seaside - https://www.hotelbartan.pl/
 \ncena od 479 zł / dobę (w jedynce) lub od 549 zł / dobę (za dwójkę)\nreze
 rwacja tel. 58 30 80 999 - na hasło DENTWIL\n\nBursztyn - ośrodek wypoczyn
 kowy - https://osrodekbursztyn.pl/\ncena od 220 zł / dobę (w jedynce) lub 
 od 440 zł / dobę (za dwójkę)\nrezerwacja tel. 664 927 617 - na hasło DENTW
 IL
DTSTART:20250530T110000Z
DTEND:20250601T110000Z
GEO:+54.34602;+18.875111
LOCATION:Hotel Orle\, Lazurowa 8\, Gdańsk - Wyspa Sobieszewska
ORGANIZER;CN=:prenumerata@spsmedia.pl
SEQUENCE:1
SUMMARY:DENTWIL' 25 - SESJA GŁÓWNA
TRANSP:OPAQUE
URL:https://www.szkolastomatologii.pl/historia-szkolen/27-wil2024-2dni
END:VEVENT
END:VCALENDAR
