BEGIN:VCALENDAR
VERSION:2.0
PRODID:-//szkolastomatologii.pl//NONSGML kigkonsult.se iCalcreator 2.30.10/
 /
CALSCALE:GREGORIAN
METHOD:PUBLISH
UID:0c66b64d-803c-43d7-b2cc-35d944035e2b
X-WR-CALNAME:iCagenda
X-WR-CALDESC:Event Management Extension for Joomla!
X-WR-RELCALID:3E26604A-50F4-4449-8B3E-E4F4932D05B5
X-WR-TIMEZONE:UTC
BEGIN:VTIMEZONE
TZID:UTC
END:VTIMEZONE
BEGIN:VEVENT
UID:8ae770d7-384e-4b50-96cd-ab2ad42c0894
DTSTAMP:20260420T100942Z
CATEGORIES:ODBUDOWA ESTETYCZNA
CLASS:PUBLIC
DESCRIPTION;ALTREP="CID:<FFFF__=0ABBE548DFE235B58f9e8a93d@coffeebean.com>":
 Temat: Warsztat: Estetyczno-funkcjonalna odbudowa zębów bocznych metodą b
 ezpośrednią\nWykładowca: dr n. med. Michał Paulo\nCena: 1390 zł\,\nPunkty 
 edu: 8 pkt.\nTermin: 5 grudnia 2025 r.  godz. 10:00 - 18:30\nMiejsce: Hote
 l Lord\, Warszawa Al. Krakowska 218\n\nProgram kursu:\n\n9.30 - 10.00    R
 ejestracja uczestników10.00 - 11.30    Wykład cz. I11.30 - 11.45    Przerw
 a kawowa11.45 - 13.15    Wykład cz. II13.15 - 14.00    Przerwa obiadowa14.
 00 - 15.30    Pokaz praktyczny15.30 - 16.00    Przerwa kawowo - techniczna
 16.00 - 18.00    Warsztaty hands-on18.00 - 18.30    Test\, wręczenie certy
 fikatów\, podsumowanie\n\nWarsztaty praktyczne zakładają wykonanie dwóch w
 ypełnień w zębach akrylowych. Jednego klasy MOD i drugiego klasy I zgodnie
  z zasadami stomatologii biofunkcjonalnej. Zadaniem kursantów po wykonaniu
  uzupełnienia jest ich dopasowanie do funkcjonalnego zwarcia oraz opracowa
 nie powierzchni stycznej i okluzyjnej.\nGłówne założenia kursu:\n\n      j
 ak prawidłowo i przewidywalnie pracować z koferdamem?\n      jak poprawnie
  zaplanować odbudowę z materiału kompozytowego?\n      zasady wykonania es
 tetycznej i funkcjonalnej odbudowy kompozytowej\n      czym jest kompas ok
 luzyjny i jak zastosować go w praktyce?\n      dopasowanie zęba w zgryzie 
 - krok po kroku\n      zasady pracy z ubytkiem II klasy\n      jak prawidł
 owo odbudować mocny punkt styczny?\n      nawisy z materiału - jak ich uni
 knąć\, jak je usunąć?\n      praca w powiększeniu - czy jest niezbędna?\n 
      procedury polerowania wypełnienia\n      formówka częściowa\, klin\, 
 taśma teflonowa - tips and tricks!!!\n\nPo kursie każdy z uczestników będz
 ie umiał wykonać biofunkcjonalne i estetyczne wypełnienie w zębach bocznyc
 h. Nabędzie umiejętności prawidłowego odtworzenia punktu stycznego. Pozna 
 bardzo zaawansowane zasady zakładania koferdamu\, pracy z taśmą teflonową 
 oraz klinami. Nabędzie również umiejętności wykonywania korekty okluzyjnej
  wypełnień w maksymalnym zaguzkowaniu oraz podczas ruchów bocznych i ruchu
  doprzedniego niezbędnych dla zabezpieczenia wykonanych wypełnień przed us
 zkodzeniem podczas żucia.\n\nCena za kurs nie obejmuje noclegu. Nocleg nal
 eży zarezerwować indywidualnie w hotelu (tel. 22 574 20 00). Na hasło Zjaz
 d Lekarzy Dentystów hotel udziela zniżki na noclegi.\nOpłatę za kurs prosz
 ę wnieść na podstawie faktury proforma\, którą Państwo otrzymają po wypełn
 ieniu zgłoszenia. Konto\, na które należy wpłacić należność za kurs to:\nS
 PS - Piotr Szymański numer: 31 1090 1870 0000 0001 3335 2731\nSzczegółowyc
 h informacji udziela Aleksandra Kowalińska tel. +48 509 912 963  w godz. 9
 :00-16:00.
DTSTART:20251205T100000Z
DTEND:20251205T183000Z
GEO:+52.186707;+20.955709
LOCATION:Aleja Krakowska 218\, 02-219 Warszawa\, Polska
ORGANIZER;CN=:prenumerata@spsmedia.pl
SEQUENCE:1
SUMMARY:Warsztat: Estetyczno-funkcjonalna odbudowa zębów bocznych metodą b
 ezpośrednią - edycja #2
TRANSP:OPAQUE
URL:https://www.szkolastomatologii.pl/historia-szkolen/2-warsztat-estetyczn
 o-funkcjonalna-odbudowa-zebow-bocznych
END:VEVENT
END:VCALENDAR
