BEGIN:VCALENDAR
VERSION:2.0
PRODID:-//szkolastomatologii.pl//NONSGML kigkonsult.se iCalcreator 2.30.10/
 /
CALSCALE:GREGORIAN
METHOD:PUBLISH
UID:aacd1671-b595-4082-892e-a136f3cc18ea
X-WR-CALNAME:iCagenda
X-WR-CALDESC:Event Management Extension for Joomla!
X-WR-RELCALID:3E26604A-50F4-4449-8B3E-E4F4932D05B5
X-WR-TIMEZONE:UTC
BEGIN:VTIMEZONE
TZID:UTC
END:VTIMEZONE
BEGIN:VEVENT
UID:2654edb2-f14a-43ae-b025-b83017f3117c
DTSTAMP:20260420T100525Z
CATEGORIES:TERAPIA STAWÓW SSŻ
CLASS:PUBLIC
DESCRIPTION;ALTREP="CID:<FFFF__=0ABBE548DFE235B58f9e8a93d@coffeebean.com>":
 Temat: Szynoterapia - rehabilitacja pacjenta z dysfunkcją układu ruchowego
  narządu żucia (2 dni).\nProwadzący: dr n. med. Michał Paulo\; \nTermin: 6
 -7 grudnia 2025 r.\nCena: 3790 zł\;\n Punkty edukacyjne: 18 pkt.\nMiejsce:
  Hotel Lord\, Warszawa\, Al. Krakowska 218\n \n\nGłówne założenia kursu: 
 \n\nKtórzy pacjenci kwalifikują się do leczenia szyną rehabilitacyjną? \nJ
 aką szynę wybrać? \nJak prawidłowo rejestrować zgryz konstrukcyjny do wyko
 nania szyny? \nDopasowanie szyny rehabilitacyjnej w jamie ustnej - krok po
  kroku jak prawidłowo zaplanować i przeprowadzić szynoterapię? \nCo należy
  sprawdzić podczas wizyt kontrolnych? \nIle czasu powinna trwać szynoterap
 ia? \nJak radzić sobie w przypadku pogorszenia stanu pacjenta? \nJakie wsp
 omagające leczenie farmakologiczne zalecić pacjentowi? \nKiedy zakończyć l
 eczenie szyną?\n\nWarsztaty praktyczne zakładają dopasowanie w jamie ustne
 j pacjenta (drugiego kursanta) szyny rehabilitacyjnej pod opieką prowadząc
 ego. Zadaniem kursantów będzie również korygowanie poszczególnych elementó
 w szyny w celu nabycia umiejętności modyfikowania leczenia w razie pogorsz
 enia stanu pacjenta\, zniszczenia szyny lub utraty jej funkcjonalności. \n
 W pierwszym dniu kursu uczestnicy wykonają sobie na wzajem deprogramatory.
  Prowadzący nauczy jak w prosty sposób bykonać deprogramator\, który przyn
 iesie ulgę już po kilku godzinach.\nPo kursie każdy z uczestników będzie u
 miał:\n\nzdiagnozować pacjenta (prowadzący udostępnia obszerną ankietę\, k
 tórą wypełnia każdy pacjent)\;\nwykonać prosty deprogramator przynoszący u
 lgę jgż po kilku godzinach stosowania\;\ndopasować szynę w jamie ustnej pa
 cjenta\, \nnaprawić ewentualne błędy w jej technicznym wykonaniu (dopasowa
 ć szynę)\,\nnabędzie umiejętności prawidłowego dobrania odpowiedniej szyny
 \, \nprowadzenia leczenia zaburzenia stawów skroniowo-żuchwowych\, \nplano
 wania wizyt kontrolnych\, \nkorygowania szyny oraz reagowania w sytuacjach
  kryzysowych\,\npozna podstawowe oraz zaawansowane zasady szynoterapii ora
 z planowania dalszego leczenia stabilizacyjnego\,\ndowie się w jaki sposób
  wykorzystać szynę pacjenta do odbudowy zwarcia.\n\n \n\nKażdy z kursantów
  zobowiązany jest do przesłania przed kursem swoich wycisków gipsowych w c
 elu wcześniejszego przygotowania szyny rehabilitacyjnej. Podczas warsztató
 w szyny te będą „oddawane przez lekarza pacjentowi”. Pacjentem będzie w ty
 m wypadku drugi lekarz.\nKażdy z kursantów musi przywieźć ze sobą modele s
 woich zębów (gips klasy IV) w zwieraku.\n \nAgenda szkolenia\nDzień I \nPl
 anowanie leczenia\, wyciski\, wykonanie szyny i płytki podjęzykowej\n9.30 
 - 10.00 Rejestracja uczestników10.00 - 11.30 Wykład cz. I11.30 - 11.45 Prz
 erwa kawowa11.45 - 13.15 Wykład cz. II13.15 - 14.00 Przerwa obiadowa14.00 
 - 15.30 Pokaz praktyczny15.30 - 16.00 Przerwa kawowo - techniczna16.00 - 1
 9.00 Warsztaty hands-on19.00 - 19.30 Podsumowanie\nDzień II\n10.00 - 11.30
  Wykład cz. I11.30 - 11.45 Przerwa kawowa11.45 - 13.15 Wykład cz. II13.15 
 - 14.00 Przerwa obiadowa14.00 - 15.30 Warsztaty hands-on15.30 - 16.00 Prze
 rwa kawowo - techniczna16.00 - 19.00 Warsztaty hands-on19.00 - 19.30 Test\
 , wręczenie certyfikatów\, podsumowanie\nUWAGA: W cenie kursu każdy uczest
 nik otrzyma szynę o wartości ok. 1000 zł\n \n\nSzczegółowych informacji ud
 ziela Aleksandra Kowalińska tel. +48 509 912 963  w godz. 9:00-16:00.\nCen
 a za kurs nie obejmuje noclegu. Nocleg należy zarezerwować dodatkowo - w t
 ej sprawie prosimy o kontakt z p. Aleksandrą Kowalińską\nOpłatę za kurs pr
 oszę wnieść na podstawie faktury proforma\, którą Państwo otrzymają po wyp
 ełnieniu zgłoszenia.\nINFORMACJE I ZAPISY:Aleksandra Kowalińska\, +48 509 
 912 963\, prenumerata@spsmedia.pl\nKonto\, na które należy wpłacić należno
 ść za kurs to:\nPŁATNOŚCI:Prosimy kwotę za szkolenie wpłacić na konto:31 1
 090 1870 0000 0001 3335 2731SPS-Piotr SzymańskiZ. Modzelewskiego 67/402-67
 9 Warszawa\n \n 
DTSTART:20251206T100000Z
DTEND:20251207T180000Z
GEO:+52.186707;+20.955709
LOCATION:Hotel Lord\, Warszawa\, Al. Krakowska 218
ORGANIZER;CN=:prenumerata@spsmedia.pl
SEQUENCE:1
SUMMARY:Szynoterapia - rehabilitacja pacjenta z dysfunkcją układu ruchowego
  narządu żucia (2 dni) - edycja #10
TRANSP:OPAQUE
URL:https://www.szkolastomatologii.pl/historia-szkolen/18-szynoterapia-reha
 bilitacja-pacjenta
END:VEVENT
END:VCALENDAR
