BEGIN:VCALENDAR
VERSION:2.0
PRODID:-//szkolastomatologii.pl//NONSGML kigkonsult.se iCalcreator 2.30.10/
 /
CALSCALE:GREGORIAN
METHOD:PUBLISH
UID:37dad1e5-3174-4328-98b5-bbfcf52b41e5
X-WR-CALNAME:iCagenda
X-WR-CALDESC:Event Management Extension for Joomla!
X-WR-RELCALID:3E26604A-50F4-4449-8B3E-E4F4932D05B5
X-WR-TIMEZONE:UTC
BEGIN:VTIMEZONE
TZID:UTC
END:VTIMEZONE
BEGIN:VEVENT
UID:82d0df3e-bdab-4d4a-a83b-97955d3d7327
DTSTAMP:20260420T131526Z
CATEGORIES:IMPLANTOPROTETYKA
CLASS:PUBLIC
DESCRIPTION;ALTREP="CID:<FFFF__=0ABBE548DFE235B58f9e8a93d@coffeebean.com>":
 Temat: Mój pierwszy dobrze wszczepiony implant\nProwadzący: Dr n med. Mart
 a Cieślik-Wegemund\; lek. dent. Jakub Munk\nTermin: Piątek\, 8 grudnia 202
 3 r. 10.00 - 18.00 Kurs jednodniowy\nMiejsce:  Hotel Lord\, Warszawa\, Al.
  Krakowska 214\nCena: 1990 zł (690 zł - tylko część wykładowa)\nWarsztat o
 rganizowany z COLLEGE OF DENTAL MEDICINE KATOWICE oraz Polskim Stowarzysze
 niem Implantologicznym (PSI)\n\n\nMożliwy jest udział w całym szkoleniu lu
 b tylko w części wykładowej. Opłata ca całe szkolenie to 1990 zł\, opłata 
 za udział w części wykładowej to 690 zł. Część wykładowa kończy się po lun
 chu\nPLAN SZKOLENIA\nCzęść wykładowa:\n10:00-11:15 WYKŁAD 1\n\nDiagnostyka
  przedimplantacyjna - co warto zbadać by odnieść sukces w leczeniu implant
 omlogicznym i implantoprotetycznym?\nDiagnostyka RTG nowe perspektywy a dz
 isiejsze standardy.\nDeficyt dziąsła\, mit czy prawdziwy problem?\nOcena t
 kanek miękkich przed i po implantacji.\nIdealny czas wszczepienia przeszcz
 epu.\nTechniki augmentacji i odsłaniania implantów.\nPowikłania pozabiegow
 e\, jak sobie z nimi radzić.\n\n11:15- 11:30 Przerwa kawowa\n11:30-13:00 W
 YKŁAD 2\n\nOcena tkanek przyległych w badaniu przedimplantacyjnym:\n\ntkan
 ek miękkich\,\nkości\,\nzębów.\n\n\nKiedy i gdzie implantować?\nJak okluzj
 a wpływa na planowanie implantologiczne?\nPrzebieg zabiegu prostej implant
 acji - omówienie etapów.\nKryteria sukcesu.\nCzy warto regenerować kość i 
 tkanki miękkie?\nAspekty kompensacji.\n\n13:00- 14:00 Przerwa obiadowa\n 
 \nCzęść warsztatowa:\n14:00- 17:00 WARSZTATY\nĆwiczenia praktyczne na prep
 aratach zwierzęcych (świnia):\n\nPodstawy cięć i mobilizacja płata.\nProce
 dura wszczepienia implanta. Techniki odsłonięcia implantów.\nSzycie chirur
 giczne - metody szycia i formowania płatów.\nAugmentacja tkanka miękką z w
 ykorzystaniem przeszczepu nabłonkowego\n\n17:00-17:15 Zakończenie szkoleni
 a\n \n\nSzczegółowych informacji udziela Aleksandra Kowalińska tel. +48 50
 9 912 963  w godz. 9:00-16:00.\nCena za kurs nie obejmuje noclegu. Nocleg 
 należy zarezerwować indywidualnie w hotelu (tel. 22 574 20 00). Na hasło Z
 jazd Lekarzy Dentystów hotel udziela zniżki na noclegi.\nOpłatę za kurs pr
 oszę wnieść na podstawie faktury proforma\, którą Państwo otrzymają po wyp
 ełnieniu zgłoszenia. Konto\, na które należy wpłacić należność za kurs to:
 \nSPS - Piotr Szymański numer: 31 1090 1870 0000 0001 3335 2731\n\nPartner
  szkolenia:\n
DTSTART:20231208T100000Z
DTEND:20231208T180000Z
GEO:00;0
LOCATION:Miejsce: Warszawa\, Hotel Lord ****\; al. Krakowska 218.
ORGANIZER;CN=:prenumerata@spsmedia.pl
SEQUENCE:1
SUMMARY:Mój pierwszy dobrze wszczepiony implant
TRANSP:OPAQUE
URL:https://www.szkolastomatologii.pl/historia-szkolen/14-moj-pierwszy-dobr
 ze-wszczepiony-implant
END:VEVENT
END:VCALENDAR
