BEGIN:VCALENDAR
VERSION:2.0
PRODID:-//szkolastomatologii.pl//NONSGML kigkonsult.se iCalcreator 2.30.10/
 /
CALSCALE:GREGORIAN
METHOD:PUBLISH
UID:097b1105-0cc5-47bb-95cc-ed2582f8dfe7
X-WR-CALNAME:iCagenda
X-WR-CALDESC:Event Management Extension for Joomla!
X-WR-RELCALID:3E26604A-50F4-4449-8B3E-E4F4932D05B5
X-WR-TIMEZONE:UTC
BEGIN:VTIMEZONE
TZID:UTC
END:VTIMEZONE
BEGIN:VEVENT
UID:ffc7dfd8-2e8e-4504-ae0e-605adeaf8631
DTSTAMP:20260420T125016Z
CATEGORIES:RTG
CLASS:PUBLIC
DESCRIPTION;ALTREP="CID:<FFFF__=0ABBE548DFE235B58f9e8a93d@coffeebean.com>":
 Temat:  Wykład: Czy oko może zobaczyć to o czym umysł nie wie\, że istniej
 e? Anatomia prawidłowa części twarzowej czaszki – repetytorium\nProwadzący
 : dr n. med. Michał Szałwiński\nCena: 990 zł lub 1990 zł za trzy dni radio
 logii (Anatomia prawidłowa części twarzowej czaszki – repetytorium + Rentg
 enodiagnostyka w praktyce dla lekarzy dentystów. Kurs obowiązkowy dla leka
 rzy wykonujących zdjęcia rtg (2 dni))\nPunkty edu: 6 pkt. + 6 pkt. 'sanepi
 dowskich RTG' lub 22 pkt. (za trzy dni szkolenia z radiologii)\nMiejsce: H
 otel Lord\, Warszawa Al. Krakowska 218\n\nSzkolenie to obejmuje tematykę o
 chrony radiologicznej/bezpiecznego stosowania promieniowania jonizującego 
 w celach medycznych/medycznych zastosowań promieniowania jonizującego/meto
 d i procedur badań parametrów technicznych urządzeń radiologicznych Zgodni
 e z rozporządzeniem Ministra Zdrowia z dnia 6 marca 2020 r. w sprawie szko
 leń w dziedzinie ochrony radiologicznej pacjenta oraz Prawem atomowym (art
 . 33n ust. 19) lekarz dentysta w ciągu 5 lat musi zgromadzić 20 pkt. szkol
 eniowych w dziedzinach:\n1) metod i technik wykonywania zdjęć wewnątrzustn
 ych\,2) metod i technik wykonywania zdjęć zewnątrzustnych\,3) obrazowania 
 badań RTG w stomatologii\,4) elementów radiologii stomatologicznej\,5) tes
 tów eksploatacyjnych urządzeń radiologicznych i urządzeń pomocniczych\,6) 
 medycznych procedur radiologicznych (wzorcowych i szczegółowych)\,7) teler
 adiologii\,8) radiologii twarzowo-szczękowej\,9) stomatologicznej anatomii
  radiologicznej CT (CBCT)– w zakresie związanym z ochroną radiologiczną pa
 cjenta.\nZa udział w tym szkoleniu otrzymają Państwo 6 punktów edukacyjnyc
 h (do OIL-u) oraz 6 pkt szkoleniowych w ramach szkolenia z tematyki ochron
 y radiologicznej.\n\nSzczegółowy plan kursu:\n9.30 - 11.00 Wykład:\n1.    
      Anatomia prawidłowa części twarzowej czaszki – repetytorium\n\nPrawid
 łowy rozwój i wzrost części twarzowej czaszki.\n\n2.         Anatomia radi
 ologiczna w pantomografii \n\nStruktury anatomiczne widoczne na prawidłowo
  wykonanym zdjęciu pantomograficznym.\nJaką przyjąć kolejność przy oglądan
 iu zdjęcia pantomograficznego?\nStruktury anatomiczne\, zmiany patologiczn
 e czy artefakty? Co sprawia najwięcej trudności w interpretacji zdjęć 2D?
 \n\n11.00 - 11.15 Przerwa kawowa\n11.15 - 13.15 Wykład:\n3.         Anatom
 ia radiologiczna w CBCT\n\nMożliwości oraz ograniczenia obrazowania 2D i 3
 D – kiedy i jakie badanie należy zlecić?\nStruktury anatomicznie widoczne 
 w różnych formach: przekroje\, rekonstrukcja wolumetryczna itp.\nAnatomia 
 radiologiczna CBCT kości szczęki i żuchwy\; zatok i jamy nosowej\, ssż itp
 .\nTkanki przyzębia na CBCT.\nAnaliza cefalometryczna.\n\n13.15 - 14.00 Lu
 nch\n14.00 - 15.45 Wykład:\n4.         Odmienności anatomiczne w obrazach 
 radiologicznych. \n\nWspólna analiza obrazów 2D i 3D.\n\n5.         Patolo
 gie (najczęstsze) w obrazach radiologicznych.\n\nWspólna analiza obrazów 2
 D i 3D.\n\n15.45 - 16.00 Przerwa kawowa\n16.00 - 17.30 Wykład:\n6.        
  Możliwości współczesnych oprogramowań do przeglądania obrazów radiologicz
 nych.\n \n\nCena za kurs nie obejmuje noclegu. Nocleg należy zarezerwować 
 indywidualnie w hotelu (tel. 22 574 20 00). Na hasło Zjazd Lekarzy Dentyst
 ów hotel udziela zniżki na noclegi.\nOpłatę za kurs proszę wnieść na podst
 awie faktury proforma\, którą Państwo otrzymają po wypełnieniu zgłoszenia.
  Konto\, na które należy wpłacić należność za kurs to:\nSPS - Piotr Szymań
 ski numer: 31 1090 1870 0000 0001 3335 2731\nSzczegółowych informacji udzi
 ela Aleksandra Kowalińska tel. +48 509 912 963  w godz. 9:00-16:00.\n\nPar
 tner szkolenia:\n
DTSTART:20231208T093000Z
DTEND:20231208T173000Z
GEO:+52.186707;+20.955709
LOCATION:Miejsce: Warszawa\, Hotel Lord ****\; al. Krakowska 218.
ORGANIZER;CN=:prenumerata@spsmedia.pl
SEQUENCE:1
SUMMARY:Czy oko może zobaczyć to o czym umysł nie wie\, że istnieje? Anatom
 ia prawidłowa części twarzowej czaszki – repetytorium
TRANSP:OPAQUE
URL:https://www.szkolastomatologii.pl/historia-szkolen/13-anatomia-prawidlo
 wa-czesci-twarzowej-czaszki-repetytorium
END:VEVENT
END:VCALENDAR
