BEGIN:VCALENDAR
VERSION:2.0
PRODID:-//szkolastomatologii.pl//NONSGML kigkonsult.se iCalcreator 2.30.10/
 /
CALSCALE:GREGORIAN
METHOD:PUBLISH
UID:93b789cb-d781-4afb-8d7f-17a3b58b44b8
X-WR-CALNAME:iCagenda
X-WR-CALDESC:Event Management Extension for Joomla!
X-WR-RELCALID:3E26604A-50F4-4449-8B3E-E4F4932D05B5
X-WR-TIMEZONE:UTC
BEGIN:VTIMEZONE
TZID:UTC
END:VTIMEZONE
BEGIN:VEVENT
UID:b65edc41-f055-4c3d-a8e4-0eb8d13fbd58
DTSTAMP:20260420T100505Z
CATEGORIES:RTG
CLASS:PUBLIC
DESCRIPTION;ALTREP="CID:<FFFF__=0ABBE548DFE235B58f9e8a93d@coffeebean.com>":
 Wykładowca: Prof. Raphael Olszewski\nForma: wykład + analiza przypadków kl
 inicznych\nTermin: 6.12.2025\, 9.00 - 17.00\nCena: 1850 zł\nMiejsce szkole
 nia: Hotel Lord\, Warszawa\, Al. Krakowska 218\n Tomografia stożkowa (CBCT
 ) jest dziś jednym z najważniejszych narzędzi współczesnej diagnostyki sto
 matologicznej. Prawidłowa interpretacja obrazów 3D pozwala nie tylko zwięk
 szyć skuteczność leczenia\, ale także podnieść jego bezpieczeństwo i precy
 zję w każdej specjalizacji – od endodoncji po chirurgię rekonstrukcyjną.\n
 To szkolenie zostało zaprojektowane z myślą o lekarzach\, którzy oczekują 
 najwyższego poziomu merytorycznego i chcą korzystać z CBCT w sposób w pełn
 i świadomy\, zgodny z zasadami radiologicznego bezpieczeństwa i międzynaro
 dowymi wytycznymi diagnostycznymi.\nPod okiem profesora Raphaela Olszewski
 ego\, jednego z czołowych ekspertów w dziedzinie obrazowania 3D i chirurgi
 i szczękowo-twarzowej\, uczestnicy przejdą przez wszystkie etapy pracy z C
 BCT – od zasad fizycznych\, przez interpretację obrazów\, po analizę złożo
 nych przypadków klinicznych.\nCel szkolenia\nCelem kursu jest kompleksowe 
 zapoznanie uczestników z zasadami pracy z tomografią stożkową (CBCT) w cod
 ziennej praktyce stomatologicznej. Uczestnicy poznają nie tylko podstawy t
 echniczne funkcjonowania aparatu\, lecz także aspekty bezpieczeństwa radio
 logicznego\, interpretacji obrazów oraz diagnostyki różnorodnych przypadkó
 w klinicznych.\nProgram szkolenia\n09:00 – 10:30Wprowadzenie do tomografii
  CBCT\n\nZasady działania aparatu CBCT – parametry ekspozycji (kVp\, mAs)
 \nDobór pól widzenia (FOV) do rodzaju badania\nOchrona radiologiczna pacje
 nta i operatora\nZasada ALARA – minimalizacja dawek promieniowania\nRekome
 ndacje i wytyczne europejskie dotyczące stosowania CBCT w stomatologii\n\n
 10:30 – 11:00Przerwa kawowa\n11:00 – 12:30Podstawy interpretacji obrazów C
 BCT\n\nBudowa i składnia obrazów klinicznych\nInformacje początkowe obrazó
 w klinicznych: powtarzających się elementów obrazu możliwie istniejących\,
  a nie związanych z tematem badania jak aparaty\, metal\, wypełnienia\, mi
 ejsca gojenia po usunięciu zębów\, etc.\nJak poprawnie oceniać jakość i wi
 arygodność uzyskanych danych\n\n12:30 – 13:30Przerwa na lunch\n13:30 – 15:
 00Zastosowanie CBCT w diagnostyce stomatologicznej – część I\n\nDiagnostyk
 a zębów zatrzymanych (ósemki\, kły\, inne)\nHipodoncja i hiperdoncja – zna
 czenie obrazowania 3D w planowaniu leczenia\n\n15:00 – 15:30Przerwa kawowa
 \n15:30 – 17:00Zastosowanie CBCT w diagnostyce stomatologicznej – część II
 \n\nMakrodoncja\, geminacja i fuzja – różnicowanie morfologicznych niepraw
 idłowości zębów\nPerły szkliwne\, taurodontyzm\, dilaceracja i anomalie ko
 rzeni\nDiagnostyka resorpcji wewnętrznej i zewnętrznej\nZłamania korzeni i
  zmiany okołowierzchołkowe w obrazowaniu 3D\n\nAdresaci szkolenia\nSzkolen
 ie jest skierowane do lekarzy dentystów oraz radiologów stomatologicznych\
 , którzy chcą w sposób świadomy i zgodny z aktualnymi standardami wykorzys
 tać tomografię CBCT w swojej praktyce klinicznej.\nKorzyści dla uczestnikó
 w\n\nZrozumienie zasad działania i bezpiecznego użytkowania CBCT\nUmiejętn
 ość interpretacji podstawowych i zaawansowanych obrazów\nRozpoznawanie art
 efaktów i unikanie błędów diagnostycznych\nPoznanie klinicznych wskazań do
  badań CBCT w różnych specjalizacjach stomatologicznych\n\n \nWykładowca: 
 \nProf. Raphael Olszewski\, DDS\, MD\, PhDProfesor chirurgii stomatologicz
 nej i szczękowo-twarzowej Uniwersytetu Katolickiego w Louvain (UCLouvain\,
  Belgia) oraz Uniwersytetu Mikołaja Kopernika w Toruniu\, Collegium Medicu
 m w Bydgoszczy. Absolwent i doktor UCLouvain\, habilitowany w Collegium Me
 dicum UJ. Kierownik Kliniki Chirurgii Stomatologicznej i Szczękowo-Twarzow
 ej Cliniques universitaires Saint Luc w Brukseli oraz Laboratorium OMFS La
 b. Odbył staże w Harvard Medical School\, Texas Health Medical Center i US
 C Los Angeles. Autor ponad 150 publikacji\, patentu EPO i licznych projekt
 ów badawczych z zakresu druku 3D\, chirurgii rekonstrukcyjnej oraz sztuczn
 ej inteligencji w diagnostyce stomatologicznej. Editor-in-Chief czasopisma
  NEMESIS\, laureat nagród Académie Royale de Médecine de Belgique i UCLouv
 ain Digital Year Award.\n \nPatroni kursu:\n             \nCena za kurs ni
 e obejmuje noclegu. Nocleg należy zarezerwować indywidualnie w hotelu (tel
 . 22 574 20 00).\nInformacje i zapisy:Aleksandra Kowalińska\, +48 509 912 
 963\, prenumerata@spsmedia.pl\nPŁATNOŚCI:Prosimy kwotę za szkolenie wpłaci
 ć na konto:31 1090 1870 0000 0001 3335 2731SPS-Piotr SzymańskiZ. Modzelews
 kiego 67/402-679 Warszawa\nNa podstawie otrzymanej płatności otrzymają Pań
 stwo fakturę na maila\, z którego nastąpiła rejestracja na szkolenie.
DTSTART:20251206T090000Z
DTEND:20251206T170000Z
GEO:+52.186707;+20.955709
LOCATION:Warszawa\, Hotel Lord ****\; al. Krakowska 218
ORGANIZER;CN=:prenumerata@spsmedia.pl
SEQUENCE:1
SUMMARY:Szkolenie dla stomatologów: CBCT w praktyce klinicznej – diagnostyk
 a\, bezpieczeństwo i interpretacja obrazów
TRANSP:OPAQUE
URL:https://www.szkolastomatologii.pl/historia-szkolen/104-12-zld-cbct-w-pr
 aktyce-klinicznej
END:VEVENT
END:VCALENDAR
