BEGIN:VCALENDAR
VERSION:2.0
PRODID:-//szkolastomatologii.pl//NONSGML kigkonsult.se iCalcreator 2.30.10/
 /
CALSCALE:GREGORIAN
METHOD:PUBLISH
UID:edbfe28b-e15e-48ff-bdd2-0504769261ce
X-WR-CALNAME:iCagenda
X-WR-CALDESC:Event Management Extension for Joomla!
X-WR-RELCALID:3E26604A-50F4-4449-8B3E-E4F4932D05B5
X-WR-TIMEZONE:UTC
BEGIN:VTIMEZONE
TZID:UTC
END:VTIMEZONE
BEGIN:VEVENT
UID:2298bcde-691f-4dfa-b8ae-176741c35b60
DTSTAMP:20260420T100525Z
CATEGORIES:MARKETING
CLASS:PUBLIC
DESCRIPTION;ALTREP="CID:<FFFF__=0ABBE548DFE235B58f9e8a93d@coffeebean.com>":
 Seminarium komunikacji i reklamy wyrobów medycznych: Wyroby medyczne - Pro
 dukty lecznicze - Działalność lecznicza. Zgodna z obowiązującym prawem rek
 lama i komunikacja w mediach i social mediach\nPrelegenci: r. pr. dr Jan S
 zulc\; adw. Michał Gajda\; red. mgr prawa Andrzej Gross\; Monika Dobrowols
 ka-Filip\nCena: 1450 zł +VAT (VAT dla lekarzy - zw (0 proc.) \; VAT dla fi
 rm - 23 proc.)\nTermin: 17.11. 2025 - REJESTRACJA OTWARTA (liczba miejsc o
 graniczona)\nMiejsce: Hotel Lord. Al. Krakowska 218\, Warszawa\n\nCzy wies
 z\, jak reklamować się w medycynie po zmianach przepisów?Na początku 2023 
 roku w życie weszła Ustawa o wyrobach medycznych\, która mocno ograniczyła
  możliwości reklamowe w branży medycznej. Zakazano praktycznie reklamy pro
 duktów leczniczych w mediach ogólnodostępnych\, a kary za nieprzestrzegani
 e nowych zasad mogą być bardzo wysokie.\nZapraszamy na wyjątkowe szkolenie
 : „Marketing w medycynie po zmianach prawnych – jak reklamować się legalni
 e i skutecznie?”\nPodczas szkolenia dowiesz się:\n\nJakie są aktualne ogra
 niczenia i możliwości reklamowe w medycynie po wprowadzeniu Ustawy o wyrob
 ach medycznych\nJak prowadzić komunikację marketingową\, by uniknąć ryzyka
  wysokich kar finansowych\nJak skutecznie dostosować strategię marketingow
 ą do nowych wymogów prawnych\n\nSzkolenie jest dedykowane dla: \n\nSzefów 
 firm dystrybucyjnych i producentów wyrobów medycznych\nSpecjalistów ds. ma
 rketingu w firmach medycznych\nMenedżerów klinik i placówek medycznych\n\n
 \n9:30 - rejestracja\, kawa10:00 - Powitanie uczestników\, wstęp do szkole
 nia10:15 - red. mgr prawa Andrzej Gross: 'Praktyczne aspekty komunikacji o
  wyrobach medycznych i produktach leczniczych'\n\nDefinicja reklamy\, info
 rmacji i edukacji zdrowotnej\nKomunikacja w mediach medycznych i periodyka
 ch tylko dla profesjonalistów\nKomunikacja w mediach mainstreamowych i soc
 ial mediach\n\n10:50 - Przerwa 11:00 - Monika Dobrowolska-Filip (Medonet):
  Jak skutecznie komunikować swoje produkty i usługi do pacjentów i lekarzy
 ?\n\nzasady i know-how efektywnej komunikacji do pacjentów\nzasady i know-
 how efektywnej komunikacji do HCP\ncase study z realizacji kampanii w Medo
 net\n\n11:20 - Przerwa11:30 - r. pr. dr Jan Szulc: 'Reklama wyrobów medycz
 nych - Ustawa o wyrobach medycznych'\n\nReklama wyrobów medycznych do publ
 icznej wiadomości\nReklama w mediach medycznych i periodykach tylko dla pr
 ofesjonalistów\nDozwolone działania z użyciem nazw i wizerunków wyrobów me
 dycznych w social mediach i na stronach internetowych\n\n12:30 - Przerwa 1
 2:40 - red. mgr prawa Andrzej Gross: 'Wizerunek i prawo autorskie w komuni
 kacji informacyjnej\, edukacyjnej i reklamowej”\n\nKodeks Etyki Lekarskiej
 \, a działania marketingowe i reklamowe lekarzy\nWykorzystanie wizerunku w
  gabinecie lekarskim oraz w informacji i reklamie o wyrobach medycznych i 
 produktach leczniczych\nWykorzystywanie materiałów filmowych\, fotografii 
 i muzyki w materiałach informacyjnych i reklamowych\n\n13:20 - Przerwa13:3
 0 - adw. Michał Gajda: 'Wprowadzanie wyrobów medycznych do obrotu i używan
 ia'\n\nDefinicja wyrobu medycznego\nNadawanie oznaczenia CE dla wyrobów me
 dycznych\nRejestracja i wprowadzanie wyrobów medycznych do obrotu\n\n14:30
  - Lunch15:30 - Zakończenie szkolenia\n \nPrelegenci:\n\n\n\n\nadw. Michał
  Gajda\n\n\n\nAbsolwent Uniwersytetu Szczecińskiego\, Pomorskiego Uniwersy
 tetu Medycznego oraz Uniwersytetu Jagiellońskiego. Ukończył studia podyplo
 mowe z prawa medycznego oraz prawa karnego skarbowego i gospodarczego. Czł
 onek Rady Ekspertów Parlamentarnego Zespołu ds. Medycyny Estetycznej\, wyk
 ładowca Pomorskiego Uniwersytetu Medycznego\, pełnomocnik Koalicji Lekarzy
  oraz ekspert prawa medycznego przy Stowarzyszeniu Lekarzy Dermatologów Es
 tetycznych. Autor wielu publikacji w prasie branżowej oraz prelegent konfe
 rencji naukowych poświęconych prawu medycznemu.\n\n\n\nred. mgr prawa Andr
 zej Gross\n\n\nAbsolwent Uniwersytetu Szczecińskiego\, dziennikarz medyczn
 y i prawnik in-house w Grupie Medialnej „Estetyka i Chirurgia – Medyczna T
 V”\, członek Rady Naukowej Academy of Aesthetic &amp\; Anti-Aging Medicine
 . Zajmuje się teorią prawa\, prawem mediów\, prawem autorskim i prawem med
 ycznym\, oraz marketingiem medycznym. Wykładowca na krajowych i międzynaro
 dowych kongresach i sympozjach naukowych. Inicjator i organizator Ogólnopo
 lskiej Konferencji Naukowej “Prawo w medycynie - Medycyna w prawie”\, i sy
 mpozjum naukowego “Prawo i medycyna”. W latach 2005-2010 członek Polskiej 
 Izby Komunikacji Elektronicznej\; od lat dziewięćdziesiątych dziennikarz\,
  redaktor i producent telewizyjny związany z mediami lokalnymi\, regionaln
 ymi i ogólnopolskimi.\n \n\n\n\nr. pr. dr Jan Szulc\n\n\nDoktor prawa\, ra
 dca prawny. Dyrektor Departamentu Informacji o Wyrobach Medycznych Urzędu 
 Rejestracji Produktów Leczniczych\, Wyrobów Medycznych oraz  Produktów Bio
 bójczych. Posiada wieloletnie doświadczenie zarówno po stronie organów adm
 inistracji (Ministerstwo Zdrowia oraz Urzędu Rejestracji Produktów Lecznic
 zych\, Wyrobów Medycznych oraz Produktów Biobójczych) oraz jednej z wiodąc
 ej kancelarii obsługującej podmioty z branży produktów leczniczych i wyrob
 ów medycznych. W swojej pracy zawodowej zajmuje się lub zajmował zarówno p
 racą przy przepisach regulujących branżę farmaceutyczną oraz wyrobów medyc
 znych\, jak również ich stosowaniem na rzecz podmiotów działających na tyc
 h rynkach.\n\n\n\nMonika Dobrowolska-Filip\, Business Growth Managerka\, M
 edonet.pl\n\n\n\nEkspertka komunikacji zdrowotnej i strategii biznesowej w
  obszarze medycyny i farmacji.\nOd ponad dekady związana z branżą farmaceu
 tyczną\, gdzie z sukcesem wdrażała nowe marki\, skalowała sprzedaż i budow
 ała trwałe relacje z profesjonalistami ochrony zdrowia. Specjalizuje się w
  komunikacji skierowanej do HCP oraz pacjentów\, łącząc wiedzę rynkową z e
 mpatycznym podejściem do odbiorcy.\nOd 2021 roku w Ringier Axel Springer P
 olska odpowiadała za rozwój oferty zdrowotnego marketplace’u\, a obecnie o
 dpowiada za realizację strategii biznesowej serwisu Medonet — największego
  portalu zdrowotnego w Polsce. Dzięki dogłębnej analizie potrzeb konsument
 ów i lekarzy wdraża rozwiązania\, które nie tylko edukują\, ale realnie wp
 ływają na decyzje zdrowotne i cele marek.\nZałożycielka społeczności Medon
 et Wellbeing Creators\, skupiającej liderów odpowiedzialnych za zdrowie i 
 wellbeing w miejscu pracy. Prywatnie pasjonatka zdrowego stylu życia\, któ
 ra z powodzeniem łączy osobiste wartości z zawodową misją.\n\n\n\n\n\nCena
  za kurs nie obejmuje noclegu. Nocleg należy zarezerwować indywidualnie w 
 hotelu (tel. 22 574 20 00).\nInformacje i zapisy:Aleksandra Kowalińska\, +
 48 509 912 963\, prenumerata@spsmedia.pl\nPŁATNOŚCI:Prosimy kwotę za szkol
 enie wpłacić na konto:31 1090 1870 0000 0001 3335 2731SPS-Piotr SzymańskiZ
 . Modzelewskiego 67/402-679 Warszawa\nPŁATNOŚĆ KARTĄ:\nProszę skorzystać z
  naszego sklepu i tam wypełnić zgłoszenie: \nhttps://e-stom.pl/prawo/370-s
 eminarium.html\nNa podstawie otrzymanej płatności otrzymają Państwo faktur
 ę na maila\, z którego nastąpiła rejestracja na szkolenie.
DTSTART:20251117T093000Z
DTEND:20251117T153000Z
GEO:+52.186707;+20.955709
LOCATION:Hotel Lord\, Warszawa\, Al. Krakowska 218
ORGANIZER;CN=:prenumerata@spsmedia.pl
SEQUENCE:1
SUMMARY:Seminarium komunikacji i reklamy wyrobów medycznych: Wyroby medyczn
 e - Produkty lecznicze - Działalność lecznicza. Zgodna z obowiązującym pra
 wem reklama i komunikacja w mediach i social mediach
TRANSP:OPAQUE
URL:https://www.szkolastomatologii.pl/historia-szkolen/102-seminarium-komun
 ikacji-i-reklamy
END:VEVENT
END:VCALENDAR
