BEGIN:VCALENDAR
VERSION:2.0
PRODID:-//szkolastomatologii.pl//NONSGML kigkonsult.se iCalcreator 2.30.10/
 /
CALSCALE:GREGORIAN
METHOD:PUBLISH
UID:eec5e460-4c7a-433c-b8d1-3db1dbf20ce5
X-WR-CALNAME:iCagenda
X-WR-CALDESC:Event Management Extension for Joomla!
X-WR-RELCALID:3E26604A-50F4-4449-8B3E-E4F4932D05B5
X-WR-TIMEZONE:UTC
BEGIN:VTIMEZONE
TZID:UTC
END:VTIMEZONE
BEGIN:VEVENT
UID:4cc15105-5864-4b5f-9ef0-7c0ab4ca6844
DTSTAMP:20260420T112215Z
CATEGORIES:IMPLANTOPROTETYKA
CLASS:PUBLIC
DESCRIPTION;ALTREP="CID:<FFFF__=0ABBE548DFE235B58f9e8a93d@coffeebean.com>":
 \n Prowadzący: Jakub Munk\, Paweł Kłosiński\nCena: 5920 zł\nTermin:\nMiejs
 ce: ul. Kołodzieja 8\, 40-749 Katowice \nSzkolenie przygotowuje uczestnika
  do samodzielnego wykonania zabiegów z zaawansowanej implantologii\, z nac
 iskiem na umiejętności praktyczne w zakresie zabiegów ALL-ON-X.\nOpis kurs
 u\nDzień 1: Aspekty Chirurgiczne - Prowadzący lek. dentysta Jakub Munk\n\n
 Pozycjonowanie Implantów:\n\nImplanty pterygoidalne\, nasalne oraz zygomat
 yczne: To zaawansowane techniki implantologiczne stosowane w przypadkachzn
 acznego zaniku kości szczęki. Warto podkreślić wskazania\, przeciwwskazani
 a\, protokoły chirurgiczne krok po kroku oraz potencjalnekomplikacje dla k
 ażdego z tych typów implantów.\nObciążenie natychmiastowe i wtórne w aspek
 cie chirurgicznym: Omówienie kryteriów kwalifikacji pacjentów do obciążeni
 anatychmiastowego\, protokołów postępowania chirurgicznego oraz różnic w g
 ojeniu w porównaniu z obciążeniem wtórnym.\nRozwiązywanie deficytów kostny
 ch: Przedstawienie różnych technik augmentacji kostnej (np. sterowana rege
 neracja kości - GBR\,podniesienie dna zatoki szczękowej\, przeszczepy kost
 ne) oraz ich zastosowania w zależności od rodzaju i rozległości deficytu.
 \nPozycjonowanie implantów oraz dobór ilości z uwzględnieniem wieloczynnik
 owych różnic w indywidualnych przypadkach: Podkreślenieznaczenia planowani
 a leczenia z uwzględnieniem wieku pacjenta\, jego stanu zdrowia ogólnego o
 raz specyficznych warunkówanatomicznych.\nGeometria implantów\, a gęstość 
 kości i stabilizacja pierwotna oraz rokowania długoterminowe: Wyjaśnienie\
 , jak różne kształty i powierzchnie implantów wpływają na stabilizację pie
 rwotną w kości o różnej gęstości oraz jakie to ma znaczenie dla długotermi
 nowego sukcesu leczenia.\n\n\nWarsztat (Fantomy):\n\n\nProjektowanie zabie
 gu: Praktyczne ćwiczenia z planowania leczenia implantologicznego na model
 ach (fantomach).\n3 scenariusze warsztatowe na fantomach: Trzy różne przyp
 adki kliniczne do przećwiczenia\, co pozwoli uczestnikom na zastosowaniezd
 obytej wiedzy w praktyce. Warto\, aby scenariusze obejmowały różne sytuacj
 e kliniczne\, np. pojedynczy brak zęba\, braki wielozębne\,bezzębie.\n\n\n
 \nDzień 2: Aspekty Protetyczne - Prowadzący lek. dentysta Paweł Kłosiński
 \n\nProjektowanie protetyczne przed zabiegowe:\n\nWspółpraca z technikiem:
  Podkreślenie kluczowej roli komunikacji i współpracy między lekarzem a te
 chnikiem dentystycznym na etapieplanowania leczenia protetycznego.\nKoncep
 cje protetyczne RP i FP: Omówienie różnych koncepcji uzupełnień protetyczn
 ych opartych na implantach (ruchome protezy - RP istałe protezy - FP)\, ic
 h wskazań\, przeciwwskazań oraz zalet i wad.\nObciążenie natychmiastowe i 
 wtórne w aspekcie protetycznym: Przedstawienie protokołów postępowania pro
 tetycznego w przypadku obciążenia natychmiastowego i wtórnego\, w tym proj
 ektowania tymczasowych i ostatecznych uzupełnień.\n\n\nWarsztaty:\n\nEtapy
  wykonawstwa: Praktyczne ćwiczenia z poszczególnych etapów wykonania uzupe
 łnień protetycznych na implantach.\nSkanowanie kontra wyciski (wycisk otwa
 rty i zamknięty): Porównanie tradycyjnych metod pobierania wycisków z nowo
 czesnymitechnikami skanowania wewnątrzustnego\, omówienie wskazań i techni
 ki pobierania wycisków otwartych i zamkniętych.\n\n\n\nWarunkiem odbycia c
 zęści praktycznej jest uczestnictwo w części teoretycznej kursu\n\n\n\nPRO
 WADZĄCY:\nJakub Munk MDMaster in Oral Implantology\nAbsolwent Śląskiego Un
 iwersytetu Medycznego w Katowicach. W latach 2008-2024 wykładał w Katedrze
  i Zakładzie Leczenia Dysfunkcji Narządu Żucia w Zabrzu ŚUM. W 2004 roku o
 dbył miesięczny staż na Katedrze Chirurgii Twarzowej w Monachium pod okiem
  prof. Horch’a gdzie zaczął swoją przygodę z Chirurgią Stomatologiczną. Pu
 blikuje prace w czasopismach stomatologicznych polskich i zagranicznych or
 az bierze czynny udział w konferencjach krajowych i międzynarodowych. Wykł
 adowca w ramach kursów z zakresu okluzji\, implantoprotetyki. Wieloletni c
 złonek PTDNŻ\, członek PSI oraz członek Athenea Institute. Głównymi obszar
 ami jego zainteresowań są: zaawansowana diagnostyka pacjentów\, rehabilita
 cja narządu żucia\, leczenie dysfunkcji i parafunkcji oraz zaawansowane od
 budowy implantoprotetyczne i protetyczne. Prywatnie podróżnik i ratownik G
 OPR. Windsurfer\, nurek i żeglarz.\n\nPaweł Kłosiński MDMaster in Oral Imp
 lantology\nAbsolwent Śląskiego Uniwersytetu Medycznego w Katowicach. Ukońc
 zył międzynarodowe studia podyplomowe na Uniwersytecie San Jorge w Hiszpan
 ii\, uzyskując tytuł Master in Implantology. Aktywny członek towarzystw na
 ukowych: PSI\, ICOI\, DGOI. Autor publikacji w prasie specjalistycznej ora
 z wystąpień na konferencjach naukowych. Prelegent oraz kierownik szkolenio
 wy kursów z zakresu implantoprotetyki stomatologicznej. Wykładowca w ramac
 h Curriculum Implantologii Polskiego Stowarzyszenia Implantologicznego.\n
 \n
DTSTART:20250924T141300Z
DTEND:20250925T190000Z
GEO:+50.198986;+19.053658
LOCATION:ul. Kołodzieja 8\, 40-749 Katowice
ORGANIZER;CN=:prenumerata@spsmedia.pl
SEQUENCE:1
SUMMARY:ALL-ON-X
TRANSP:OPAQUE
URL:https://www.szkolastomatologii.pl/historia-szkolen/101-all-on-x
END:VEVENT
END:VCALENDAR
