BEGIN:VCALENDAR
VERSION:2.0
PRODID:-//szkolastomatologii.pl//NONSGML kigkonsult.se iCalcreator 2.30.10/
 /
CALSCALE:GREGORIAN
METHOD:PUBLISH
UID:c31a3a75-ccb2-4a78-95ab-48d81d21b88e
X-WR-CALNAME:iCagenda
X-WR-CALDESC:Event Management Extension for Joomla!
X-WR-RELCALID:3E26604A-50F4-4449-8B3E-E4F4932D05B5
X-WR-TIMEZONE:UTC
BEGIN:VTIMEZONE
TZID:UTC
END:VTIMEZONE
BEGIN:VEVENT
UID:33288849-aff9-4f2e-84e1-201223a86cec
DTSTAMP:20260420T111219Z
CATEGORIES:IMPLANTOPROTETYKA
CLASS:PUBLIC
DESCRIPTION;ALTREP="CID:<FFFF__=0ABBE548DFE235B58f9e8a93d@coffeebean.com>":
 Prowadzący: Jakub Munk\nCena: 5900 zł\nTermin: 03.10.2025 – 04.10.2025\nMi
 ejsce: ul. Kołodzieja 8\, 40-749 Katowice \n \nKurs przeznaczony jest dla 
 lekarzy stomatologów / lekarzy zainteresowanych poszerzeniem wiedzy i umie
 jętności w zakresie atraumatycznych ekstrakcji\, natychmiastowej implantac
 ji i odbudowy protetycznej.Szkolenie skierowane jest do lekarzy stomatolog
 ów / lekarzy dentystów wszystkich specjalizacji.\n \n\nOpis szkolenia:\nDz
 ień 1: Fundamenty Procedur Łączonych\nBlok I: Atraumatyczna Ekstrakcja i P
 rzygotowanie Miejsca Pod Implant (Czas trwania: ok. 3 godziny)\n\nAtraumat
 yczne usuwanie zębów:\n\nZnaczenie minimalnie inwazyjnych technik ekstrakc
 ji.\nPrezentacja i praktyczne aspekty stosowania różnych narzędzi (periost
 iotomy\, dźwignie\, kleszcze).\nTechniki minimalizujące uszkodzenie kości 
 i tkanek miękkich.\n\n\nTechniki i sprzęt:\n\nOmówienie specjalistycznych 
 narzędzi do atraumatycznej ekstrakcji.\nZastosowanie piezosurgery w ekstra
 kcjach.\nWybór odpowiednich instrumentów w zależności od sytuacji kliniczn
 ej.\n\n\nMateriały do regeneracji kości po ekstrakcji zęba:\n\nPrzegląd do
 stępnych materiałów (kserografty\, allografty\, autografty\, materiały syn
 tetyczne).\nWskazania i przeciwwskazania do zastosowania różnych materiałó
 w.\nTechniki augmentacji kości w zębodole poekstrakcyjnym.\n\n\n\nBlok II:
  Implantologia w Procedurach Łączonych (Czas trwania: ok. 3 godziny)\n\nIm
 planty rekomendowane do użytku w procedurach łączonych:\n\nDługości: Kryte
 ria wyboru długości implantu w kontekście natychmiastowej implantacji.\nGe
 ometria: Różnice w geometrii implantów i ich wpływ na stabilizację pierwot
 ną.\nPozycjonowanie: Kluczowe aspekty trójwymiarowego pozycjonowania impla
 ntu w procedurach natychmiastowych.\nZnaczenie stabilizacji pierwotnej dla
  powodzenia leczenia.\n\n\nSticky Bone\, PRF i CGF:\n\nBiologia i mechaniz
 m działania PRF (Rich Fibrin Platelet) i CGF (Concentrated Growth Factors)
 .\nProtokoły przygotowania i zastosowania Sticky Bone\, PRF i CGF w proced
 urach łączonych.\nKorzyści z zastosowania autogennych materiałów w regener
 acji i gojeniu tkanek.\n\n\nProcedury i protokoły:\n\nSzczegółowe omówieni
 e protokołów natychmiastowej implantacji.\nWskazania i przeciwwskazania do
  natychmiastowej implantacji.\nCzynniki wpływające na sukces natychmiastow
 ej implantacji.\n\n\nKwalifikacja pacjenta do zabiegu:\n\nSzczegółowy wywi
 ad i badanie kliniczne.\nOcena ryzyka i przewidywalności leczenia.\nPlanow
 anie leczenia z uwzględnieniem oczekiwań pacjenta.\n\n\n\n\nDzień 2: Zaawa
 nsowane Techniki i Praktyka\nBlok III: Zarządzanie Tkankami Miękkimi i Obc
 iążenie Implantu (Czas trwania: ok. 3 godziny)\n\nZarządzanie tkanką miękk
 ą:\n\nTechniki zachowania i kształtowania tkanek miękkich wokół implantu.
 \nWykorzystanie przeszczepów tkanki łącznej w procedurach łączonych.\nZnac
 zenie estetyki tkanek miękkich w ostatecznym efekcie leczenia.\n\n\nNatych
 miastowe obciążenie implantu – metody i techniki:\n\nKryteria kwalifikacji
  do natychmiastowego obciążenia.\nRóżne protokoły natychmiastowego obciąże
 nia (pojedyncze implanty\, mosty).\nZnaczenie okluzji i biomechaniki w nat
 ychmiastowym obciążeniu.\n\n\nZabezpieczenie braku zębowego na czas gojeni
 a:\n\nMetody tymczasowego zaopatrzenia protetycznego w przypadku braku nat
 ychmiastowego i wczesnego obciążenia (ruchome i stałe).\nWybór odpowiednie
 go rozwiązania tymczasowego w zależności od sytuacji klinicznej.\n\n\nSock
 et Shield Preservation:\n\nKoncepcja i wskazania do Socket Shield Preserva
 tion.\nTechnika preparacji i pozostawienia fragmentu korzenia.\nKorzyści i
  potencjalne ryzyka związane z tą procedurą.\n\n\n\nBlok IV: Wspomaganie L
 eczenia i Praktyka (Czas trwania: ok. 3 godziny)\n\nZastosowanie lasera:\n
 \nWykorzystanie lasera w chirurgii przedimplantacyjnej i implantologicznej
 .\nZalety i ograniczenia stosowania różnych typów laserów.\nProtokoły lase
 rowe wspomagające gojenie i redukcję bakterii.\n\n\nOcena gęstości kości –
  SimPlant/SimDensity (lub inne oprogramowanie):\n\nZnaczenie oceny gęstośc
 i kości w planowaniu leczenia implantologicznego.\nWykorzystanie oprogramo
 wania do analizy tomografii komputerowej i oceny gęstości kości.\nWpływ gę
 stości kości na wybór implantu i protokół obciążenia.\n\n\nWarsztaty prakt
 yczne (hands-on):\n\nĆwiczenia na modelach fantomowych z zakresu atraumaty
 cznej ekstrakcji.\nSymulacja technik augmentacji kości w zębodole.\nDemons
 tracja technik zarządzania tkankami miękkimi.\n\n\nLive Surgery (do zastan
 owienia):\n\nMożliwość obserwacji na żywo procedury łączonej przeprowadzon
 ej przez prowadzącego (opcjonalnie\, w zależności od możliwościlogistyczny
 ch i zgody pacjenta).\n\n\nTomografia komputerowa w planowaniu leczenia:\n
 \nZnaczenie CBCT w diagnostyce i planowaniu implantologicznym.\nInterpreta
 cja obrazów tomografii komputerowej w kontekście procedur łączonych.\nWyko
 rzystanie oprogramowania do planowania pozycji implantów.\n\n\n\nPROWADZĄC
 Y:\n\n\nJakub Munk MDMaster in Oral Implantology\nAbsolwent Śląskiego Uniw
 ersytetu Medycznego w Katowicach. W latach 2008-2024 wykładał w Katedrze i
  Zakładzie Leczenia Dysfunkcji Narządu Żucia w Zabrzu ŚUM. W 2004 roku odb
 ył miesięczny staż na Katedrze Chirurgii Twarzowej w Monachium pod okiem p
 rof. Horch’a gdzie zaczął swoją przygodę z Chirurgią Stomatologiczną. Publ
 ikuje prace w czasopismach stomatologicznych polskich i zagranicznych oraz
  bierze czynny udział w konferencjach krajowych i międzynarodowych. Wykład
 owca w ramach kursów z zakresu okluzji\, implantoprotetyki. Wieloletni czł
 onek PTDNŻ\, członek PSI oraz członek Athenea Institute. Głównymi obszaram
 i jego zainteresowań są: zaawansowana diagnostyka pacjentów\, rehabilitacj
 a narządu żucia\, leczenie dysfunkcji i parafunkcji oraz zaawansowane odbu
 dowy implantoprotetyczne i protetyczne. Prywatnie podróżnik i ratownik GOP
 R. Windsurfer\, nurek i żeglarz.\n\n\n
DTSTART:20251003T140700Z
DTEND:20251004T190000Z
GEO:+50.198986;+19.053658
LOCATION:ul. Kołodzieja 8\, 40-749 Katowice
ORGANIZER;CN=:prenumerata@spsmedia.pl
SEQUENCE:1
SUMMARY:Protokoły łączone
TRANSP:OPAQUE
URL:https://www.szkolastomatologii.pl/historia-szkolen/100-protokoly-laczon
 e
END:VEVENT
END:VCALENDAR
