BEGIN:VCALENDAR
VERSION:2.0
PRODID:-//szkolastomatologii.pl//NONSGML kigkonsult.se iCalcreator 2.30.10/
 /
CALSCALE:GREGORIAN
METHOD:PUBLISH
UID:b138d6fc-f0f9-4453-b466-496e06d37f6d
X-WR-CALNAME:iCagenda
X-WR-CALDESC:Event Management Extension for Joomla!
X-WR-RELCALID:3E26604A-50F4-4449-8B3E-E4F4932D05B5
X-WR-TIMEZONE:UTC
BEGIN:VTIMEZONE
TZID:UTC
END:VTIMEZONE
BEGIN:VEVENT
UID:d212ee3f-4f96-45d1-a2ef-d6b38559ed14
DTSTAMP:20260420T114616Z
CATEGORIES:OKLUZJA
CLASS:PUBLIC
DESCRIPTION;ALTREP="CID:<FFFF__=0ABBE548DFE235B58f9e8a93d@coffeebean.com>":
 Temat: Szynoterapia - rehabilitacja pacjenta z dysfunkcją układu ruchowego
  narządu żucia (2 dni)\nProwadzący: dr n. med. Michał Paulo\nCena: 2990 zł
 \;\nPunkty edukacyjne: 16 pkt.\nMiejsce: Warszawa\, Hotel Lord ****\; al. 
 Krakowska 218.\n\nGłówne założenia kursu:\n\nktórzy pacjenci kwalifikują s
 ię do leczenia szyną rehabilitacyjną?\njaką szynę wybrać?\njak prawidłowo 
 rejestrować zgryz konstrukcyjny do wykonania szyny?\ndopasowanie szyny reh
 abilitacyjnej w jamie ustnej - krok po kroku jak prawidłowo zaplanować i p
 rzeprowadzić szynoterapię?\nco należy sprawdzić podczas wizyt kontrolnych?
 \nile czasu powinna trwać szynoterapia?\njak radzić sobie w przypadku pogo
 rszenia stanu pacjenta?\njakie wspomagające leczenie farmakologiczne zalec
 ić pacjentowi?\nkiedy zakończyć leczenie szyną?\n \n\n \nWarsztaty praktyc
 zne zakładają dopasowanie w jamie ustnej pacjenta (drugiego kursanta) szyn
 y rehabilitacyjnej pod opieką prowadzącego. Zadaniem kursantów będzie równ
 ież korygowanie poszczególnych elementów szyny w celu nabycia umiejętności
  modyfikowania leczenia w razie pogorszenia stanu pacjenta\, zniszczenia s
 zyny lub utraty jej funkcjonalności.\n \nPo kursie każdy z uczestników będ
 zie umiał:\n\ndopasować szynę w jamie ustnej pacjenta\,\nnaprawić ewentual
 ne błędy w jej technicznym wykonaniu\,\nnabędzie umiejętności prawidłowego
  dobrania odpowiedniej szyny\,\nprowadzenia leczenia\,\nplanowania wizyt k
 ontrolnych\,\nkorygowania szyny oraz reagowania w sytuacjach kryzysowych\,
 \npozna podstawowe oraz zaawansowane zasady szynoterapii oraz planowania d
 alszego leczenia stabilizacyjnego.\n\n \n\n \nKażdy z kursantów zobowiązan
 y jest do przesłania przed kursem swoich wycisków gipsowych w celu wcześni
 ejszego przygotowania szyny rehabilitacyjnej. Podczas warsztatów szyny te 
 będą „oddawane przez lekarza pacjentowi”. Pacjentem będzie w tym wypadku d
 rugi lekarz.\nKażdy z kursantów musi przywieźć ze sobą modele swoich zębów
  (gips klasy IV) w zwieraku (dwa komplety).\n \nPlan szkolenia\nDzień I\nP
 lanowanie leczenia\, wyciski\, wykonanie szyny i płytki podjęzykowej9.30 -
  10.00 Rejestracja uczestników10.00 - 11.30 Wykład cz. I11.30 - 11.45 Prze
 rwa kawowa11.45 - 13.15 Wykład cz. II13.15 - 14.00 Przerwa obiadowa14.00 -
  15.30 Pokaz praktyczny15.30 - 16.00 Przerwa kawowo - techniczna16.00 - 18
 .00 Warsztaty hands-on18.00 - 18.30 PodsumowanieDzień II10.00 - 11.30 Wykł
 ad cz. I11.30 - 11.45 Przerwa kawowa11.45 - 13.15 Wykład cz. II13.15 - 14.
 00 Przerwa obiadowa14.00 - 15.30 Warsztaty hands-on15.30 - 16.00 Przerwa k
 awowo - techniczna16.00 - 18.00 Warsztaty hands-on18.00 - 18.30 Test i pod
 sumowanie\n \nUWAGA: W cenie kursu każdy uczestnik otrzyma szynę o wartośc
 i ok. 1000 zł.\n\nCena za kurs nie obejmuje noclegu. Nocleg należy zarezer
 wować indywidualnie w hotelu (tel. 22 574 20 00). Na hasło Zjazd Lekarzy D
 entystów hotel udziela zniżki na noclegi.\nOpłatę za kurs proszę wnieść na
  podstawie faktury proforma\, którą Państwo otrzymają po wypełnieniu zgłos
 zenia. Konto\, na które należy wpłacić należność za kurs to:\nSPS - Piotr 
 Szymański numer: 31 1090 1870 0000 0001 3335 2731\nSzczegółowych informacj
 i udziela Aleksandra Kowalińska tel. +48 509 912 963  w godz. 9:00-16:00.
DTSTART:20241207T093000Z
DTEND:20241208T180000Z
GEO:+52.186707;+20.955709
LOCATION:Aleja Krakowska 218\, 02-219 Warszawa\, Polska
ORGANIZER;CN=:prenumerata@spsmedia.pl
SEQUENCE:1
SUMMARY:Szynoterapia - rehabilitacja pacjenta z dysfunkcją układu ruchowego
  narządu żucia (2 dni) - edycja #9
TRANSP:OPAQUE
URL:https://www.szkolastomatologii.pl/historia-szkolen/1-szynoterapia-rehab
 ilitacja-pacjenta-z-dysfunkcja-ukladu-ruchowego-narzadu-zucia-2-dni
END:VEVENT
END:VCALENDAR
