BEGIN:VCALENDAR
VERSION:2.0
PRODID:-//szkolastomatologii.pl//NONSGML kigkonsult.se iCalcreator 2.30.10/
 /
CALSCALE:GREGORIAN
METHOD:PUBLISH
UID:5cadbb7d-77af-4867-b464-0eabe8680f1c
X-WR-CALNAME:iCagenda
X-WR-CALDESC:Event Management Extension for Joomla!
X-WR-RELCALID:3E26604A-50F4-4449-8B3E-E4F4932D05B5
X-WR-TIMEZONE:UTC
BEGIN:VTIMEZONE
TZID:UTC
END:VTIMEZONE
BEGIN:VEVENT
UID:e5733021-7fc7-46dc-89d2-b6b36815bb8c
DTSTAMP:20260419T141747Z
CATEGORIES:PRACA Z POWIĘKSZENIEM
CLASS:PUBLIC
DESCRIPTION;ALTREP="CID:<FFFF__=0ABBE548DFE235B58f9e8a93d@coffeebean.com>":
 Temat: Pierwszy kontakt z powiększeniem zabiegowym w stomatologii - podsta
 wy pracy z mikroskopem i lupami zabiegowymi\nProwadzący: Cyprian Seliga\nC
 ena: 750 zł\;\nPunkty edukacyjne: 6 pkt.\nGodziny zajęć: 10.00 - 17.30\nMi
 ejsce: Łódź\, ul. Romanowska 55E lok 2\n\nMikro Start: Pierwszy kontakt z 
 powiększeniem zabiegowym w stomatologii - podstawy pracy z mikroskopem i l
 upami zabiegowymi. Szkolenie teoretyczne oraz warsztat praktyczny z wykorz
 ystaniem lup zabiegowych.\nSzkolenie dedykowane lekarzom stomatologom\, pl
 anującym wdrożyć do swojej praktyki lupy zabiegowe lub mikroskop zabiegowy
  w zakresie podstawowym.\nCelem szkolenia Mikro Start jest wprowadzenie uc
 zestników w tematykę pracy w powiększeniu i przygotowanie do samodzielnego
  wykorzystywania lup i mikroskopów zabiegowych w gabinecie stomatologiczny
 m.\nPlan zajęć:\n10.00 – 11.30 Wykład teoretyczny „Podstawy pracy w powięk
 szeniu zabiegowym w stomatologii” (cz. 1)\n\nzastosowanie powiększenia w s
 tomatologii\nzależności optyczne\nspecyfika kontroli ostrości obrazu\nergo
 nomia pracy w powiększeniu – korelacja: lekarz\, asysta\, urządzenie\nopcj
 e foto i wideo w mikroskopii zabiegowej\nkonstrukcja\, charakterystyka i s
 pecyfika pracy z mikroskopem zabiegowym\nkonstrukcja\, charakterystyka i s
 pecyfika pracy z lupami zabiegowymi\n\n11.30 – 12.00 przerwa kawowa\n12.00
  – 13.00  Wykład teoretyczny „Podstawy pracy w powiększeniu zabiegowym w s
 tomatologii” (cz. 2)\n13.00 – 14.00 lunch\n14.00 – 17.30 Warsztat praktycz
 ny – lupy zabiegowe (z krótkimi przerwami kawowymi uzależnionymi od indywi
 dualnego toku pracy uczestników)\n\nindywidualny dobór lup (indywidualne b
 adanie rozstawu oczu i dobór ogniskowej)\ntrening kontroli ostrości obrazu
  (wg poznanych zasad optycznych)\ntreningu nawigacji w powiększeniu w polu
  zabiegowym (praca z lusterkiem i zgłębnikiem oraz praca z lusterkiem i pi
 lnikiem ręcznym\, kontrola ostrości obrazu w lusterku\, korelacja różnych 
 punktów pola zabiegowego z lusterkiem i zgłębnikiem)\npraktyczne przedstaw
 ienie rożnych rozwiązań optycznych i konstrukcyjnych w lupach zabiegowych 
 z dodatkowym oświetleniem\nMIKROSKOP ZABIEGOWY – podstawowe ustawienia\, p
 oglądowa obserwacja sztucznego pola zabiegowe\, proste ćwiczenia nawigacyj
 ne (każdy uczestnik ok. 20 min)\n\n\nNa szkoleniu Mikro Start:\n\npoznasz 
 budowę i specyfikę techniczną lup i mikroskopów zabiegowych dzięki czemu b
 ędziesz mógł w samodzielnie obsługiwać urządzenia do pracy w powiększeniu 
 oraz będziesz w stanie określić swoje potrzeby sprzętowe i w przyszłości d
 okonać optymalnych decyzji zakupowych\;\npoznasz zasad pracy w powiększeni
 u oraz zależności optyczne umożliwiające samodzielną pracę z lupami zabieg
 owymi i mikroskopem zabiegowym w podstawowym zakresie\;\npoznasz zasady er
 gonomii pracy z mikroskopem i lupami zabiegowymi oraz sposoby instalacji m
 ikroskopów w gabinecie pozwalające na dobór optymalnych rozwiązań do swoje
 j praktyki\;\nweźmiesz udział w praktycznych warsztatach pracy z lupami za
 biegowymi obejmującymi indywidualny dobór optyki oraz podstawowy trening n
 awigacji w powiększeniu w polu zabiegowym z wykorzystaniem lusterka stomat
 ologicznego oraz narzędzi ręcznych\, dzięki czemu będziesz mógł samodzieln
 ie wykonywać zabiegi z wykorzystaniem lup stomatologicznych w swoim gabine
 cie.\n\nKażdy uczestnik otrzymuje:\n\nautorskie kompendium wiedzy dotycząc
 e pracy w powiększeniu\;\ncertyfikat ukończenia szkolenia.\n\nMożliwość wy
 pożyczenia lup - po zakończeniu szkolenia\n\nwarunkiem wypożyczenia lup je
 st wykonanie i przesłanie pomiaru\npomiary należy przesłać najpóźniej 3 dn
 i przed szkoleniem (instrukcja pomiarów przy użyciu aplikacji Luxe by Opti
 cal ID)\n\n\nWykładowca: Cyprian Seliga\nOd 2005 roku związany z produkcją
  i sprzedażą urządzeń do pracy w powiększeniu. Autor i wykładowca cyklu sz
 koleń dla studentów stomatologii MicroJUMP. Trener szkoleń grupowych i ind
 ywidualnych z pracy w powiększeniu w stomatologii. Autor specjalistycznych
  publikacji dotyczących urządzeń do pracy w powiększeniu i ich zastosowań.
  Twórca i współtwórca znanych brandów sprzętowych wykorzystywanych w gabin
 etach stomatologicznych.\n\nPatronat: \nDental Machines - www.dentalmachin
 es.pl\n\nOptical ID - www.opticalid.pl\n\n \nZapisy i informacje:\nAleksan
 dra Kowalińska\, +48 509 912 963\, prenumerata@spsmedia.pl\nPŁATNOŚCI:\nPr
 osimy kwotę za szkolenie wpłacić na konto:\n31 1090 1870 0000 0001 3335 27
 31\nSPS-Piotr Szymański\nZ. Modzelewskiego 67/4\n02-679 Warszawa\n \nNa po
 dstawie otrzymanej płatności otrzymają Państwo fakturę na maila\, z któreg
 o nastąpiła rejestracja na szkolenie.\n\nCena za kurs nie obejmuje noclegu
 . Nocleg należy zarezerwować indywidualnie w hotelu (tel. 22 574 20 00). N
 a hasło Zjazd Lekarzy Dentystów hotel udziela zniżki na noclegi.\n\nZwiast
 un szkolenia:\n\n 
DTSTART:20251018T100000Z
DTEND:20251018T173000Z
GEO:+51.8064;+19.323519
LOCATION:Łódź\, ul. Romanowska 55E lok 2
ORGANIZER;CN=:prenumerata@spsmedia.pl
SEQUENCE:1
SUMMARY:Mikro Start - Pierwszy kontakt z powiększeniem zabiegowym w stomato
 logii - podstawy pracy z mikroskopem i lupami zabiegowymi  - edycja #6
TRANSP:OPAQUE
URL:https://www.szkolastomatologii.pl/73-mikro-start-pierwszy-kontakt-z-pow
 iekszeniem-zabiegowym-w-stomatologii-podstawy-pracy-z-mikroskopem-i-lupami
 -zabiegowymi-2
END:VEVENT
END:VCALENDAR
