BEGIN:VCALENDAR
VERSION:2.0
PRODID:-//szkolastomatologii.pl//NONSGML kigkonsult.se iCalcreator 2.30.10/
 /
CALSCALE:GREGORIAN
METHOD:PUBLISH
UID:2fdab870-bfca-432a-9862-b146502eec35
X-WR-CALNAME:iCagenda
X-WR-CALDESC:Event Management Extension for Joomla!
X-WR-RELCALID:3E26604A-50F4-4449-8B3E-E4F4932D05B5
X-WR-TIMEZONE:UTC
BEGIN:VTIMEZONE
TZID:UTC
END:VTIMEZONE
BEGIN:VEVENT
UID:0a8db6a4-82a6-45ce-ba12-920530745e5d
DTSTAMP:20260419T171625Z
CATEGORIES:LECZENIE NAKŁADKAMI
CLASS:PUBLIC
DESCRIPTION;ALTREP="CID:<FFFF__=0ABBE548DFE235B58f9e8a93d@coffeebean.com>":
 Temat: „Mój pierwszy aligner”  Wprowadzenie do leczenia nakładkami ortodon
 tycznymi dla dentystów i protetyków. \nProwadząca: dr n. med. lek. dent. A
 gnieszka Czechumska\nPunkty edukacyjne: 7 pkt.\nCena : 1590 zł\nTermin: 31
  maja 2025 r. godz. 9.30 -16.30\nMiejsce: Hotel Orle\, Gdańsk ul Lazurowa 
 8\nPlan kursu: \n9:30 - 11:00 Część 1 – Vademecum pojęć i zasady pracy nak
 ładkami w gabinecie u dentysty i protetyka\n\nWprowadzenie do ortodoncji n
 akładkowej\nFirmy nakładkowe dostępne w Polsce\nMechanizmy działania nakła
 dek ortodontycznych\nJakie leczenia nakładkami może prowadzić lekarz denty
 sta\, czy protetyk?\nWykorzystanie nakładek do przedprotetycznego i przedi
 mplantologicznego „szybkiego” leczenia pacjentów\n\n11:00-11:15 Przerwa ka
 wowa\n11:15 - 13:30 Część 2 – Wskazania i przeciwskazania do leczenia nakł
 adkami ortodontycznymi\n\nSelekcja pacjentów do pierwszych i przewidywalny
 ch leczeń nakładkami\nTechniki podstawowe i zaawansowane\n\nAttachmenty w 
 leczeniu nakładkami\n\nDefinicja attachmentów i ich rola w leczeniu nakład
 kami\nDemonstracja prawidłowego zakładania attachmentów\n\nStripping zębów
  w leczeniu nakładkami\n\nDefinicja strippingu i jego rola w leczeniu nakł
 adkami\nNarzędzia i techniki przeprowadzania strippingu\nJak uniknąć błędó
 w w przeprowadzaniu strippingu zębów?\n\n13:30 - 14:15 Lunch\n14:15 - 16:0
 0 Część 3\n\nSkanowanie uzębienia (rodzaje i ceny skanerów wewnątrzustnych
  rekomendowanych do leczenia nakładkami\, techniki ułatwiające skanowanie)
 \nIdealne wizyty kontrolne pacjenta.\nZakończenie leczenia i retencja wyni
 ków leczenia.\n\n16:00 - 16:15 Przerwa kawowa\n16:15 - 18:30 Część 4 – Eko
 nomia i prawo związane z leczeniem nakładkami\n\nWysokość faktur za pakiet
 y leczeń nakładkami vs cena za pojedynczy aligner\nWspółpraca z marką nakł
 adkową vs produkcja alignerów w gabinecie\nJakie leczenia nakładkami może 
 prowadzić dentysta\, a jakie należy referować do specjalisty ortodonty?\nJ
 ak powinna być napisana „Świadoma zgoda na leczenie nakładkami”?\nPrawo ob
 owiązujące w Polsce\nDyskusja – pytania i odpowiedzi\n\n\nSzczegółowych in
 formacji udziela Aleksandra Kowalińska tel. +48 509 912 963  w godz. 9:00-
 16:00.\nCena za kurs nie obejmuje noclegu. Nocleg należy zarezerwować doda
 tkowo - w tej sprawie prosimy o kontakt z p. Aleksandrą Kowalińską\nOpłatę
  za kurs proszę wnieść na podstawie faktury proforma\, którą Państwo otrzy
 mają po wypełnieniu zgłoszenia. Konto\, na które należy wpłacić należność 
 za kurs to:\nSPS - Piotr Szymański numer: 31 1090 1870 0000 0001 3335 2731
 \n \nHotele w bezpośrednim sąsiedztwie Hotelu Orle\, które przyjmują naszy
 ch gości:\n\nGRANO HOTEL SOLMARINA - https://www.granohotelsolmarina.pl/\n
 cena od 450 zł / dobę (w jedynce) lub od 550 zł / dobę (za dwójkę)\nrezerw
 acja tel. 58 717 80 51 - na hasło SOLMARINA \n\nHotel Bartan Gdańsk Seasid
 e - https://www.hotelbartan.pl/\ncena od 479 zł / dobę (w jedynce) lub od 
 549 zł / dobę (za dwójkę)\nrezerwacja tel. 58 30 80 999 - na hasło DENTWIL
 \n\nBursztyn - ośrodek wypoczynkowy - https://osrodekbursztyn.pl/\ncena od
  220 zł / dobę (w jedynce) lub od 440 zł / dobę (za dwójkę)\nrezerwacja te
 l. 664 927 617 - na hasło DENTWIL
DTSTART:20250531T093000Z
DTEND:20250531T163000Z
GEO:+54.34602;+18.875111
LOCATION:Hotel Orle\, Gdańsk ul. Lazurowa 8
ORGANIZER;CN=:prenumerata@spsmedia.pl
SEQUENCE:1
SUMMARY:DENTWIL'25 - WARSZTAT - „Mój pierwszy aligner”.  Wprowadzenie do le
 czenia nakładkami ortodontycznymi dla dentystów i protetyków.
TRANSP:OPAQUE
URL:https://www.szkolastomatologii.pl/63-pierwszy-aligner-gdansk
END:VEVENT
END:VCALENDAR
