BEGIN:VCALENDAR
VERSION:2.0
PRODID:-//szkolastomatologii.pl//NONSGML kigkonsult.se iCalcreator 2.30.10/
 /
CALSCALE:GREGORIAN
METHOD:PUBLISH
UID:e91693b6-69c0-4387-86fb-c95e744d66aa
X-WR-CALNAME:iCagenda
X-WR-CALDESC:Event Management Extension for Joomla!
X-WR-RELCALID:3E26604A-50F4-4449-8B3E-E4F4932D05B5
X-WR-TIMEZONE:UTC
BEGIN:VTIMEZONE
TZID:UTC
END:VTIMEZONE
BEGIN:VEVENT
UID:fb72c231-dab0-4827-9909-01d0b14a6b91
DTSTAMP:20260421T200855Z
CATEGORIES:SZKOLENIE NA KADAWERACH
CLASS:PUBLIC
DESCRIPTION;ALTREP="CID:<FFFF__=0ABBE548DFE235B58f9e8a93d@coffeebean.com>":
 UWAGA: BRAK WOLNYCH MIEJSC NA TEN TERMIN\nZapisy przyjmujemy na termin 9 g
 rudnia 2024 - kliknij tutaj\nTemat: Mechanika stawu skroniowo-żuchwowego -
  wykonanie i dopasowanie różnego rodzaju szyn. Warsztat z pokazem kadawero
 wym\nAdres: Centrum Edukacji Medycznej - budynek Mera Park Wawer\, wejście
  hol B\, ul. Bysławska 84\, 04-993 Warszawa\nPunkty edukacyjne: 8 pkt.\nCe
 na: 4800 zł.\nCelem kursu jest przedstawienie schematu postępowania zespoł
 owego w diagnostyce i leczeniu dysfunkcji stawów skroniowo-żuchwowych.\n 
 \nWykładowcy obecni są przez całe szkolenie wspólnie komentując przypadki 
 i odpowiadając na pytania uczestników. Zajęcia w Labie prowadzi dr n. med.
  Michał Szałwiński.\n09:00 - 13:15 lek. dent. Dominika Pietrzak (PROTETYKA
 )\n1. Szynoterapia u Pacjentów z dysfunkcją stawów skroniowo - żuchwowych 
 - szeroko omawiane    wskazania.\n2. Badanie\, kwalifikacja Pacjenta\, jak
 a szyna? Jakie dodatkowe badania? Przekaz informacji do    laboratorium\, 
 przekaz informacji do fizjoterapeuty.\n3. Wykonanie szyny - krok po kroku 
 – warsztat.\n11:00 - 11:15 – przerwa kawowa\n4. Oddanie szyny - wizyty kon
 trolne\, zalecenia dla Pacjenta- przerabianie szyny na różnych etapach    
 terapii.\n5. Współpraca fizjoterapeuty - dentysty- neurologopedy - technik
 a dentystycznego.\n6. Rozmowa o błędach i trudnościach w prowadzeniu lecze
 nia Pacjenta.\n7. Skończyliśmy szynoterapię u Pacjenta i co dalej? Jak utr
 zymać to co osiągnęliśmy wspólnie    z Pacjentem przez okres dalszego lecz
 enia (co w przypadku ortodoncji? co w przypadku protetyki?).\n13:15 - 13:4
 5 – przerwa obiadowa\n13:45 - 15:15 mgr Natalia Kojder (FIZJOTERAPIA STOMA
 TOLOGICZNA)\n1. Rola fizjoterapii w procesie leczenia (szynoterapii) zabur
 zeń skroniowo-żuchwowych i bruksizmu. \n2. Ocena funkcjonalna pacjenta oki
 em fizjoterapeuty. \n3. Cele fizjoterapii w terapii szyną - komunikacja z 
 protetykiem\, logopedą. \n4. Efekty pracy mięśniowej i stawowej.\n15:15 - 
 15:30 – przerwa kawowa\n15:30 - 18:30 dr Michał Szałwiński i dr Dominika P
 ietrzak (CHIRURGIA SZCZĘKOWO-TWARZOWA\, PROTETYKA) część praktyczna i zaję
 cia w labie.\n\nDopasowywanie szyn na modelach.\n\nW trakcie zajęć w labor
 atorium pierwszym etapem będzie przedstawienie funkcji i działania SSŻ\, m
 ięśni żucia i nadgnykowych w mechanice stawu skroniowo-żuchwowego następni
 e zostanie wykonana dyssekcja stawów skroniowo żuchwowych tak by uczestnic
 y wykonując i dostosowując szyny mogli precyzyjnie oceniać położenie krążk
 a stawowego względem wyrostka kłykciowego żuchwy i guzka stawowego kości s
 kroniowej. Na zakończenie zostanie wykonana pełna dyssekcja układu mięśni 
 odpowiadających za ruch w stawie skroniowo-żuchwowym w obrębie głowy i szy
 i.\n18:15 - 18:30 Zakończenie szkolenia.\n\nCena szkolenia: 4800 złWykłado
 wcy:\n\ndr n. med. Michał Szałwiński\nChirurg szczękowo-twarzowy\, anatom\
 , wykładowca na kursach o tematyce: anatomia\, implantologia i stawy skron
 iowo-żuchwowe. Absolwent Akademii Medycznej w Warszawie\, gdzie uzyskał dy
 plom lekarza stomatologa a następnie dyplom lekarza medycyny. W 2007 r. z 
 wynikiem bardzo dobrym otrzymał tytuł specjalisty chirurgii szczękowo-twar
 zowej. Ukończył podyplomowe studia Prawa Medycznego\, Bioetyki i Socjologi
 i Medycyny na Uniwersytecie Warszawskim. W 2009 r. uzyskał z wyróżnieniem 
 tytuł doktora nauk medycznych.\nZajmuje się implantologią stomatologiczną.
  Poza Kliniką jest zatrudniony w Klinice Chirurgii Czaszkowo Szczękowo-Twa
 rzowej Chirurgii Jamy Ustnej i Implantologii IS WUM. Od roku 2011 do 2016 
 zatrudniony jako starszy asystent w Instytucie Matki i Dziecka w Warszawie
 . Pracuje jako Adiunkt w Zakładzie Anatomii Prawidłowej i Klinicznej CB WU
 M.Członek towarzystw: PTCHJUiCHSZ-TW\, OSIS\, EOS\, EACMFS.\nStrona www:  
 https://szalwinscy.pl/nasz-zespol \n \n\nlek. dent. Dominika Pietrzak\nUko
 ńczyła studia na Uniwersytecie Medycznym w Białymstoku. Obecnie pracuje w 
 prywatnych klinikach specjalizujących się w holistycznym podejściu do Pacj
 enta\, w szczególności z dużym naciskiem na schorzenia stawów skroniowo-żu
 chwowych. Ukończyła wiele kursów w zakresie okluzji\, protetyki oraz zabur
 zeń. Absolwentka The Dawson Academy oraz BOC według profesora Rocabado. \n
 Specjalizuje się w protetyce\, zaburzeniach stawów skroniowo-żuchwowych or
 az stomatologii estetycznej.\n\n\n \n \n \n \n \nmgr Natalia Kojder\n\n\nA
 bsolwentka studiów licencjackich na Uniwersytecie Rzeszowskim i magistersk
 ich na kierunku Fizjoterapia na Wydziale Rehabilitacji Akademii Wychowania
  Fizycznego w Warszawie.  We współpracy z logopedami oraz stomatologami pr
 zygotowuje pacjentów do leczenia ortodontycznego\, przebudowy zgryzu czy o
 peracji ortognatycznych.\nNa co dzień pracuje również z pacjentami z wadam
 i postawy\, prowadząc diagnostykę oraz terapię korekcyjną. Interesuje się 
 korelacją między postawą ciała a zaburzeniami stawów skroniowo-żuchwowych\
 , napięciowymi bólami głowy oraz dolegliwościami w obrębie szyi i obręczy 
 barkowej.\nW swojej pracy łączy różne metody pracy m.in. Rocabado\, CRAFTA
  czy PNF.\nStrona www:  http://www.kojderfizjoterapia.pl \n \n \n\nGwaranc
 ja wartości edukacyjnych\nUnikatowa wartość kursów kadawerowych – dają lek
 arzom możliwość ćwiczenia technik operacyjnych na prawdziwych tkankach\, n
 arządach - właściwości tkanki preparatu nieutrwalonego najwierniej odzwier
 ciedlają właściwości tkanki żywej. Praktyczny trening na preparatach\, daj
 e możliwość rzeczywistego przećwiczenia poszczególnych procedur medycznych
 \, których lekarz nie wykonywał wcześniej. Lekarz może w trakcie szkolenia
  popełniać (i korygować) błędy operacyjne\, obserwować konsekwencje poszcz
 ególnych decyzji bez ryzyka wyrządzenia uszczerbku na zdrowiu.Szkolenia w 
 warunkach bloku operacyjnegoWarunki sali operacyjnej\, pełne instrumentari
 um operacyjne\, najlepszy sprzęt. Lekarz ćwiczy dokładnie w takich warunka
 ch w jakich na co dzień pracuje. Nie zastąpi tego żadna sala konferencyjna
 . \n\nSzczegóły i informacje:\nKatarzyna Fernik - tel. 506 988 334\n\n
DTSTART:20241118T090000Z
DTEND:20241118T090000Z
GEO:+52.158504;+21.199574
LOCATION:ul. Bysławska 84\, 04-993 Warszawa
ORGANIZER;CN=:prenumerata@spsmedia.pl
SEQUENCE:1
SUMMARY:Mechanika stawu skroniowo-żuchwowego - wykonanie i dopasowanie różn
 ego rodzaju szyn. Warsztat z pokazem kadawerowym - BRAK WOLNYCH MIEJSC
TRANSP:OPAQUE
URL:https://www.szkolastomatologii.pl/29-mechanika-stawu-skroniowo-zuchwowe
 go-wykonanie-i-dopasowanie-roznego-rodzaju-szyn-warsztat-z-pokazem-kadawer
 owym
END:VEVENT
END:VCALENDAR
