BEGIN:VCALENDAR
VERSION:2.0
PRODID:-//szkolastomatologii.pl//NONSGML kigkonsult.se iCalcreator 2.30.10/
 /
CALSCALE:GREGORIAN
METHOD:PUBLISH
UID:fb51b91d-04c1-4187-9fac-e3ce4c4b0838
X-WR-CALNAME:iCagenda
X-WR-CALDESC:Event Management Extension for Joomla!
X-WR-RELCALID:3E26604A-50F4-4449-8B3E-E4F4932D05B5
X-WR-TIMEZONE:UTC
BEGIN:VTIMEZONE
TZID:UTC
END:VTIMEZONE
BEGIN:VEVENT
UID:b4901996-6210-4a94-aa21-56a11f5292f4
DTSTAMP:20260423T224223Z
CATEGORIES:KONFERENCJA WOJSKOWEJ IZBY LEKARSKIEJ
CLASS:PUBLIC
DESCRIPTION;ALTREP="CID:<FFFF__=0ABBE548DFE235B58f9e8a93d@coffeebean.com>":
 Zapisy na 19. Konferencję Naukowo-Szkoleniowa Komisji Stomatologicznej Woj
 skowej Izby Lekarskiej 29-30 maja 2026 r. - bez noclegu\nMiejsce: Hotel De
 lfin - Jurata\nSesja główna: 29 maja (od g. 11.00) - 30 maja (do 18.00) 20
 26 r. Plan sesji głównej.\nW cenie otrzymują Państwo możliwość uczestnictw
 a w ciekawych wykładach prowadzonych przez wybitnych prelegentów\, przerwę
  kawową ora lunch w dniach trwania konferencji.\nNocleg uczestnika we włas
 nym zakresie.\n\nCeny przy zgłoszeniu do 30 kwietnia 2026 r. - 1190 zł\n\n
 Ceny przy zgłoszeniu po 1 maja 2026 r. - 1390 zł\n\n&nbsp\;\nIstnieje możl
 iwość skorzystania z imprez towarzyszących:\n29 maja 2026 r. - uroczystej 
 kolacji w godzinach 20.00 - 2.00 - koszt kolacji: 350 zł&nbsp\;\n30 maja 2
 026 r. - grilla w godz. 20.00 - 1.00 - koszt kolacji: 250 zł&nbsp\;\n&nbsp
 \;
DTSTART:20260529T110000Z
DTEND:20260530T180000Z
GEO:00;0
LOCATION:Hotel Delfin\, ul. Helska 2\, 84-150 Hel
ORGANIZER;CN=:prenumerata@spsmedia.pl
SEQUENCE:1
SUMMARY:DENTWIL' 26 - Konferencja - bez noclegu
TRANSP:OPAQUE
URL:https://www.szkolastomatologii.pl/118-dentwil-26-konferencja-bez-nocleg
 u
END:VEVENT
END:VCALENDAR
