BEGIN:VCALENDAR
VERSION:2.0
PRODID:-//szkolastomatologii.pl//NONSGML kigkonsult.se iCalcreator 2.30.10/
 /
CALSCALE:GREGORIAN
METHOD:PUBLISH
UID:8bcda6a4-cfbb-44cb-bed6-1ac0577fc382
X-WR-CALNAME:iCagenda
X-WR-CALDESC:Event Management Extension for Joomla!
X-WR-RELCALID:3E26604A-50F4-4449-8B3E-E4F4932D05B5
X-WR-TIMEZONE:UTC
BEGIN:VTIMEZONE
TZID:UTC
END:VTIMEZONE
BEGIN:VEVENT
UID:41a74581-a963-4af5-9817-0dafae361555
DTSTAMP:20260423T224210Z
CATEGORIES:TERAPIA STAWÓW SSŻ
CLASS:PUBLIC
DESCRIPTION;ALTREP="CID:<FFFF__=0ABBE548DFE235B58f9e8a93d@coffeebean.com>":
 \nTemat: Szynoterapia - rehabilitacja pacjenta z dysfunkcją układu ruchowe
 go narządu żucia (2 dni)\nProwadzący: dr n. med. Michał Paulo\nCena: 3790 
 zł\;\nTermin: 29-30 maja 2026 r.\nMiejsce: Jurata\, Hotel Delfin\, ul. Hel
 ska 2\nPunkty edukacyjne: 16 pkt.\n\nGłówne założenia kursu:\n\nktórzy pac
 jenci kwalifikują się do leczenia szyną rehabilitacyjną?\njaką szynę wybra
 ć?\njak prawidłowo rejestrować zgryz konstrukcyjny do wykonania szyny?\ndo
 pasowanie szyny rehabilitacyjnej w jamie ustnej - krok po kroku jak prawid
 łowo zaplanować i przeprowadzić szynoterapię?\nco należy sprawdzić podczas
  wizyt kontrolnych?\nile czasu powinna trwać szynoterapia?\njak radzić sob
 ie w przypadku pogorszenia stanu pacjenta?\njakie wspomagające leczenie fa
 rmakologiczne zalecić pacjentowi?\nkiedy zakończyć leczenie szyną?\n&nbsp\
 ;\n\n&nbsp\;\nWarsztaty praktyczne zakładają dopasowanie w jamie ustnej pa
 cjenta (drugiego kursanta) szyny rehabilitacyjnej pod opieką prowadzącego.
  Zadaniem kursantów będzie również korygowanie poszczególnych elementów sz
 yny w celu nabycia umiejętności modyfikowania leczenia w razie pogorszenia
  stanu pacjenta\, zniszczenia szyny lub utraty jej funkcjonalności.\n&nbsp
 \;\nPo kursie każdy z uczestników będzie umiał:\n\ndopasować szynę w jamie
  ustnej pacjenta\,\nnaprawić ewentualne błędy w jej technicznym wykonaniu\
 ,\nnabędzie umiejętności prawidłowego dobrania odpowiedniej szyny\,\nprowa
 dzenia leczenia\,\nplanowania wizyt kontrolnych\,\nkorygowania szyny oraz 
 reagowania w sytuacjach kryzysowych\,\npozna podstawowe oraz zaawansowane 
 zasady szynoterapii oraz planowania dalszego leczenia stabilizacyjnego.\n
 \n&nbsp\;\n\n&nbsp\;\nKażdy z kursantów zobowiązany jest do przesłania prz
 ed kursem swoich wycisków gipsowych w celu wcześniejszego przygotowania sz
 yny rehabilitacyjnej. Podczas warsztatów szyny te będą „oddawane przez lek
 arza pacjentowi”. Pacjentem będzie w tym wypadku drugi lekarz.\nKażdy z ku
 rsantów musi przywieźć ze sobą modele swoich zębów (gips klasy IV) w zwier
 aku (dwa komplety).\n&nbsp\;\nPlan szkolenia\nDzień I\nPlanowanie leczenia
 \, wyciski\, wykonanie szyny i płytki podjęzykowej9.30 - 10.00 Rejestracja
  uczestników10.00 - 11.30 Wykład cz. I11.30 - 11.45 Przerwa kawowa11.45 - 
 13.15 Wykład cz. II13.15 - 14.00 Przerwa obiadowa14.00 - 15.30 Pokaz prakt
 yczny15.30 - 16.00 Przerwa kawowo - techniczna16.00 - 18.00 Warsztaty hand
 s-on18.00 - 18.30 PodsumowanieDzień II10.00 - 11.30 Wykład cz. I11.30 - 11
 .45 Przerwa kawowa11.45 - 13.15 Wykład cz. II13.15 - 14.00 Przerwa obiadow
 a14.00 - 15.30 Warsztaty hands-on15.30 - 16.00 Przerwa kawowo - techniczna
 16.00 - 18.00 Warsztaty hands-on18.00 - 18.30 Test i podsumowanie\n&nbsp\;
 \nUWAGA: W cenie kursu każdy uczestnik otrzyma szynę o wartości ok. 1000 z
 ł.\n\nCena za kurs nie obejmuje noclegu.&nbsp\;\nOpłatę za kurs proszę wni
 eść na podstawie faktury proforma\, którą Państwo otrzymają po wypełnieniu
  zgłoszenia. Konto\, na które należy wpłacić należność za kurs to:\nSPS - 
 Piotr Szymański numer: 31 1090 1870 0000 0001 3335 2731\nSzczegółowych inf
 ormacji udziela Aleksandra Kowalińska tel. +48 509 912 963&nbsp\; w godz. 
 9:00-16:00.\n\nNocleg:&nbsp\;\nKurs jest organizowany w ramach 19. Konfere
 ncji Naukowo-Szkoleniowa Komisji Stomatologicznej Wojskowej Izby Lekarskie
 j.\nOpcjonalnie możliwe jest wykupienie noclegu oraz udziału w imprezach t
 owarzyszących Konferencji - ale można wykupić sobie noclegi indywidualnie 
 w pobliskich hotelach.\nCeny pobytu dla osób uczestniczących w kursie 'Szy
 noterapia...&nbsp\; ' w hotelu Delfin przedstawiają się następująco:\n\n\n
 \nJeden nocleg&nbsp\;w dwójce&nbsp\;- 400 zł/ dzień&nbsp\;\nJeden nocleg&n
 bsp\;w jedynce&nbsp\;- 500 zł/ dzień&nbsp\;\nJeden nocleg&nbsp\;w apartame
 ncie jedna osoba - 600 zł/ dzień&nbsp\;\nJeden nocleg&nbsp\;w apartamencie
  dwie osoby - 750 zł/ dzień&nbsp\;\nUdział w uroczystej kolacji - 350 zł (
 w piatek 29 maja 2026 r.)\nUdział w grillu - 300 zł (w sobotę 30 maja 2026
  r.)\nLunch i przerwy kawowe w dniach 29 i 30 maja 2026 r. w cenie kursu\n
 \n\n\n
DTSTART:20260529T131900Z
DTEND:20260530T180000Z
GEO:+54.67638;+18.726406
LOCATION:Hotel Delfin\, ul. Helska 2\, 84-150 Hel
ORGANIZER;CN=:prenumerata@spsmedia.pl
SEQUENCE:1
SUMMARY:Szynoterapia - rehabilitacja pacjenta z dysfunkcją układu ruchowego
  narządu żucia (2 dni) - edycja #11
TRANSP:OPAQUE
URL:https://www.szkolastomatologii.pl/112-szynoterapia-2026-jurata-11
END:VEVENT
END:VCALENDAR
