BEGIN:VCALENDAR
VERSION:2.0
PRODID:-//szkolastomatologii.pl//NONSGML kigkonsult.se iCalcreator 2.30.10/
 /
CALSCALE:GREGORIAN
METHOD:PUBLISH
UID:0cda3416-58b8-474d-a7cb-2a72d3980fe3
X-WR-CALNAME:iCagenda
X-WR-CALDESC:Event Management Extension for Joomla!
X-WR-RELCALID:3E26604A-50F4-4449-8B3E-E4F4932D05B5
X-WR-TIMEZONE:UTC
BEGIN:VTIMEZONE
TZID:UTC
END:VTIMEZONE
BEGIN:VEVENT
UID:48d23405-f796-4ac7-bb7b-f8d0998a56f3
DTSTAMP:20260423T224129Z
CATEGORIES:ODBUDOWA ESTETYCZNA
CLASS:PUBLIC
DESCRIPTION;ALTREP="CID:<FFFF__=0ABBE548DFE235B58f9e8a93d@coffeebean.com>":
 \nTemat: Warsztat: Estetyczno-funkcjonalna odbudowa zębów bocznych metodą
  bezpośrednią\nWykładowca: dr n. med. Michał Paulo\nCena: 1390 zł\,\nPunkt
 y edu: 8 pkt.\nTermin: 24 kwietnia 2026 r.  godz. 10:00 - 18:30\nMiejsce: 
 Hotel Lord\, Warszawa Al. Krakowska 218\n\nProgram kursu:\n\n9.30 - 10.00 
    Rejestracja uczestników10.00 - 11.30    Wykład cz. I11.30 - 11.45    Pr
 zerwa kawowa11.45 - 13.15    Wykład cz. II13.15 - 14.00    Przerwa obiadow
 a14.00 - 15.30    Pokaz praktyczny15.30 - 16.00    Przerwa kawowo - techni
 czna16.00 - 18.00    Warsztaty hands-on18.00 - 18.30    Test\, wręczenie c
 ertyfikatów\, podsumowanie\n\nWarsztaty praktyczne zakładają wykonanie dwó
 ch wypełnień w zębach akrylowych. Jednego klasy MOD i drugiego klasy I zgo
 dnie z zasadami stomatologii biofunkcjonalnej. Zadaniem kursantów po wykon
 aniu uzupełnienia jest ich dopasowanie do funkcjonalnego zwarcia oraz opra
 cowanie powierzchni stycznej i okluzyjnej.\nGłówne założenia kursu:\n\n   
    jak prawidłowo i przewidywalnie pracować z koferdamem?\n      jak popra
 wnie zaplanować odbudowę z materiału kompozytowego?\n      zasady wykonani
 a estetycznej i funkcjonalnej odbudowy kompozytowej\n      czym jest kompa
 s okluzyjny i jak zastosować go w praktyce?\n      dopasowanie zęba w zgry
 zie - krok po kroku\n      zasady pracy z ubytkiem II klasy\n      jak pra
 widłowo odbudować mocny punkt styczny?\n      nawisy z materiału - jak ich
  uniknąć\, jak je usunąć?\n      praca w powiększeniu - czy jest niezbędna
 ?\n      procedury polerowania wypełnienia\n      formówka częściowa\, kli
 n\, taśma teflonowa - tips and tricks!!!\n\nPo kursie każdy z uczestników 
 będzie umiał wykonać biofunkcjonalne i estetyczne wypełnienie w zębach boc
 znych. Nabędzie umiejętności prawidłowego odtworzenia punktu stycznego. Po
 zna bardzo zaawansowane zasady zakładania koferdamu\, pracy z taśmą teflon
 ową oraz klinami. Nabędzie również umiejętności wykonywania korekty okluzy
 jnej wypełnień w maksymalnym zaguzkowaniu oraz podczas ruchów bocznych i r
 uchu doprzedniego niezbędnych dla zabezpieczenia wykonanych wypełnień prze
 d uszkodzeniem podczas żucia.\n\nCena za kurs nie obejmuje noclegu. Nocleg
  należy zarezerwować indywidualnie w hotelu (tel. 22 574 20 00). Na hasło 
 Zjazd Lekarzy Dentystów hotel udziela zniżki na noclegi.\nOpłatę za kurs p
 roszę wnieść na podstawie faktury proforma\, którą Państwo otrzymają po wy
 pełnieniu zgłoszenia. Konto\, na które należy wpłacić należność za kurs to
 :\nSPS - Piotr Szymański numer: 31 1090 1870 0000 0001 3335 2731\nSzczegół
 owych informacji udziela Aleksandra Kowalińska tel. +48 509 912 963  w god
 z. 9:00-16:00.\n
DTSTART:20260424T100000Z
DTEND:20260424T183000Z
GEO:+52.186707;+20.955709
LOCATION:Aleja Krakowska 218\, 02-219 Warszawa
ORGANIZER;CN=:prenumerata@spsmedia.pl
SEQUENCE:1
SUMMARY:Warsztat: Estetyczno-funkcjonalna odbudowa zębów bocznych metodą b
 ezpośrednią - edycja #4
TRANSP:OPAQUE
URL:https://www.szkolastomatologii.pl/110-warsztat-estetyczno-funkcjonalna-
 odbudowa-zebow-bocznych-metoda-bezposrednia
END:VEVENT
END:VCALENDAR
